BEGIN:VCALENDAR
VERSION:2.0
PRODID:-//Wijkcentrum Te Werve - Welzijn Rijswijk - ECPv6.8.2.1//NONSGML v1.0//EN
CALSCALE:GREGORIAN
METHOD:PUBLISH
X-ORIGINAL-URL:https://www.wijkcentrumtewerve.nl
X-WR-CALDESC:Evenementen voor Wijkcentrum Te Werve - Welzijn Rijswijk
REFRESH-INTERVAL;VALUE=DURATION:PT1H
X-Robots-Tag:noindex
X-PUBLISHED-TTL:PT1H
BEGIN:VTIMEZONE
TZID:Europe/Amsterdam
BEGIN:DAYLIGHT
TZOFFSETFROM:+0100
TZOFFSETTO:+0200
TZNAME:CEST
DTSTART:20270328T010000
END:DAYLIGHT
BEGIN:STANDARD
TZOFFSETFROM:+0200
TZOFFSETTO:+0100
TZNAME:CET
DTSTART:20271031T010000
END:STANDARD
BEGIN:DAYLIGHT
TZOFFSETFROM:+0100
TZOFFSETTO:+0200
TZNAME:CEST
DTSTART:20280326T010000
END:DAYLIGHT
BEGIN:STANDARD
TZOFFSETFROM:+0200
TZOFFSETTO:+0100
TZNAME:CET
DTSTART:20281029T010000
END:STANDARD
END:VTIMEZONE
BEGIN:VEVENT
DTSTART;TZID=Europe/Amsterdam:20271111T133000
DTEND;TZID=Europe/Amsterdam:20271111T164500
DTSTAMP:20260424T232433
CREATED:20240708T115205Z
LAST-MODIFIED:20240708T115206Z
UID:10001496-1825939800-1825951500@www.wijkcentrumtewerve.nl
SUMMARY:Yoga
DESCRIPTION:Yogales door docente Carla Mahabier. Meer informatie via 06 – 20 94 38 56. \n 
URL:https://www.wijkcentrumtewerve.nl/activiteit/yoga-3/2027-11-11/
LOCATION:Activiteitenruimte 2
END:VEVENT
BEGIN:VEVENT
DTSTART;TZID=Europe/Amsterdam:20271112T090000
DTEND;TZID=Europe/Amsterdam:20271112T100000
DTSTAMP:20260424T232433
CREATED:20240708T115210Z
LAST-MODIFIED:20240708T115211Z
UID:10003634-1826010000-1826013600@www.wijkcentrumtewerve.nl
SUMMARY:Yoga
DESCRIPTION:Yogales door docente Carla Mahabier. Meer informatie via 06 – 20 94 38 56. \n 
URL:https://www.wijkcentrumtewerve.nl/activiteit/yoga-2-2/2027-11-12/
LOCATION:Activiteitenruimte 2
END:VEVENT
BEGIN:VEVENT
DTSTART;TZID=Europe/Amsterdam:20271118T133000
DTEND;TZID=Europe/Amsterdam:20271118T164500
DTSTAMP:20260424T232433
CREATED:20240708T115205Z
LAST-MODIFIED:20240708T115206Z
UID:10001497-1826544600-1826556300@www.wijkcentrumtewerve.nl
SUMMARY:Yoga
DESCRIPTION:Yogales door docente Carla Mahabier. Meer informatie via 06 – 20 94 38 56. \n 
URL:https://www.wijkcentrumtewerve.nl/activiteit/yoga-3/2027-11-18/
LOCATION:Activiteitenruimte 2
END:VEVENT
BEGIN:VEVENT
DTSTART;TZID=Europe/Amsterdam:20271119T090000
DTEND;TZID=Europe/Amsterdam:20271119T100000
DTSTAMP:20260424T232433
CREATED:20240708T115210Z
LAST-MODIFIED:20240708T115211Z
UID:10003635-1826614800-1826618400@www.wijkcentrumtewerve.nl
SUMMARY:Yoga
DESCRIPTION:Yogales door docente Carla Mahabier. Meer informatie via 06 – 20 94 38 56. \n 
URL:https://www.wijkcentrumtewerve.nl/activiteit/yoga-2-2/2027-11-19/
LOCATION:Activiteitenruimte 2
END:VEVENT
BEGIN:VEVENT
DTSTART;TZID=Europe/Amsterdam:20271125T133000
DTEND;TZID=Europe/Amsterdam:20271125T164500
DTSTAMP:20260424T232433
CREATED:20240708T115205Z
LAST-MODIFIED:20240708T115206Z
UID:10001498-1827149400-1827161100@www.wijkcentrumtewerve.nl
SUMMARY:Yoga
DESCRIPTION:Yogales door docente Carla Mahabier. Meer informatie via 06 – 20 94 38 56. \n 
URL:https://www.wijkcentrumtewerve.nl/activiteit/yoga-3/2027-11-25/
LOCATION:Activiteitenruimte 2
END:VEVENT
BEGIN:VEVENT
DTSTART;TZID=Europe/Amsterdam:20271126T090000
DTEND;TZID=Europe/Amsterdam:20271126T100000
DTSTAMP:20260424T232433
CREATED:20240708T115210Z
LAST-MODIFIED:20240708T115211Z
UID:10003636-1827219600-1827223200@www.wijkcentrumtewerve.nl
SUMMARY:Yoga
DESCRIPTION:Yogales door docente Carla Mahabier. Meer informatie via 06 – 20 94 38 56. \n 
URL:https://www.wijkcentrumtewerve.nl/activiteit/yoga-2-2/2027-11-26/
LOCATION:Activiteitenruimte 2
END:VEVENT
BEGIN:VEVENT
DTSTART;TZID=Europe/Amsterdam:20271202T133000
DTEND;TZID=Europe/Amsterdam:20271202T164500
DTSTAMP:20260424T232433
CREATED:20240708T115205Z
LAST-MODIFIED:20240708T115206Z
UID:10001499-1827754200-1827765900@www.wijkcentrumtewerve.nl
SUMMARY:Yoga
DESCRIPTION:Yogales door docente Carla Mahabier. Meer informatie via 06 – 20 94 38 56. \n 
URL:https://www.wijkcentrumtewerve.nl/activiteit/yoga-3/2027-12-02/
LOCATION:Activiteitenruimte 2
END:VEVENT
BEGIN:VEVENT
DTSTART;TZID=Europe/Amsterdam:20271203T090000
DTEND;TZID=Europe/Amsterdam:20271203T100000
DTSTAMP:20260424T232433
CREATED:20240708T115210Z
LAST-MODIFIED:20240708T115211Z
UID:10003637-1827824400-1827828000@www.wijkcentrumtewerve.nl
SUMMARY:Yoga
DESCRIPTION:Yogales door docente Carla Mahabier. Meer informatie via 06 – 20 94 38 56. \n 
URL:https://www.wijkcentrumtewerve.nl/activiteit/yoga-2-2/2027-12-03/
LOCATION:Activiteitenruimte 2
END:VEVENT
BEGIN:VEVENT
DTSTART;TZID=Europe/Amsterdam:20271209T133000
DTEND;TZID=Europe/Amsterdam:20271209T164500
DTSTAMP:20260424T232433
CREATED:20240708T115205Z
LAST-MODIFIED:20240708T115206Z
UID:10001500-1828359000-1828370700@www.wijkcentrumtewerve.nl
SUMMARY:Yoga
DESCRIPTION:Yogales door docente Carla Mahabier. Meer informatie via 06 – 20 94 38 56. \n 
URL:https://www.wijkcentrumtewerve.nl/activiteit/yoga-3/2027-12-09/
LOCATION:Activiteitenruimte 2
END:VEVENT
BEGIN:VEVENT
DTSTART;TZID=Europe/Amsterdam:20271210T090000
DTEND;TZID=Europe/Amsterdam:20271210T100000
DTSTAMP:20260424T232433
CREATED:20240708T115210Z
LAST-MODIFIED:20240708T115211Z
UID:10003638-1828429200-1828432800@www.wijkcentrumtewerve.nl
SUMMARY:Yoga
DESCRIPTION:Yogales door docente Carla Mahabier. Meer informatie via 06 – 20 94 38 56. \n 
URL:https://www.wijkcentrumtewerve.nl/activiteit/yoga-2-2/2027-12-10/
LOCATION:Activiteitenruimte 2
END:VEVENT
BEGIN:VEVENT
DTSTART;TZID=Europe/Amsterdam:20271216T133000
DTEND;TZID=Europe/Amsterdam:20271216T164500
DTSTAMP:20260424T232433
CREATED:20240708T115205Z
LAST-MODIFIED:20240708T115206Z
UID:10001501-1828963800-1828975500@www.wijkcentrumtewerve.nl
SUMMARY:Yoga
DESCRIPTION:Yogales door docente Carla Mahabier. Meer informatie via 06 – 20 94 38 56. \n 
URL:https://www.wijkcentrumtewerve.nl/activiteit/yoga-3/2027-12-16/
LOCATION:Activiteitenruimte 2
END:VEVENT
BEGIN:VEVENT
DTSTART;TZID=Europe/Amsterdam:20271217T090000
DTEND;TZID=Europe/Amsterdam:20271217T100000
DTSTAMP:20260424T232433
CREATED:20240708T115210Z
LAST-MODIFIED:20240708T115211Z
UID:10003639-1829034000-1829037600@www.wijkcentrumtewerve.nl
SUMMARY:Yoga
DESCRIPTION:Yogales door docente Carla Mahabier. Meer informatie via 06 – 20 94 38 56. \n 
URL:https://www.wijkcentrumtewerve.nl/activiteit/yoga-2-2/2027-12-17/
LOCATION:Activiteitenruimte 2
END:VEVENT
BEGIN:VEVENT
DTSTART;TZID=Europe/Amsterdam:20271223T133000
DTEND;TZID=Europe/Amsterdam:20271223T164500
DTSTAMP:20260424T232433
CREATED:20240708T115205Z
LAST-MODIFIED:20240708T115206Z
UID:10001502-1829568600-1829580300@www.wijkcentrumtewerve.nl
SUMMARY:Yoga
DESCRIPTION:Yogales door docente Carla Mahabier. Meer informatie via 06 – 20 94 38 56. \n 
URL:https://www.wijkcentrumtewerve.nl/activiteit/yoga-3/2027-12-23/
LOCATION:Activiteitenruimte 2
END:VEVENT
BEGIN:VEVENT
DTSTART;TZID=Europe/Amsterdam:20271224T090000
DTEND;TZID=Europe/Amsterdam:20271224T100000
DTSTAMP:20260424T232433
CREATED:20240708T115210Z
LAST-MODIFIED:20240708T115211Z
UID:10003640-1829638800-1829642400@www.wijkcentrumtewerve.nl
SUMMARY:Yoga
DESCRIPTION:Yogales door docente Carla Mahabier. Meer informatie via 06 – 20 94 38 56. \n 
URL:https://www.wijkcentrumtewerve.nl/activiteit/yoga-2-2/2027-12-24/
LOCATION:Activiteitenruimte 2
END:VEVENT
BEGIN:VEVENT
DTSTART;TZID=Europe/Amsterdam:20271230T133000
DTEND;TZID=Europe/Amsterdam:20271230T164500
DTSTAMP:20260424T232433
CREATED:20240708T115205Z
LAST-MODIFIED:20240708T115206Z
UID:10001503-1830173400-1830185100@www.wijkcentrumtewerve.nl
SUMMARY:Yoga
DESCRIPTION:Yogales door docente Carla Mahabier. Meer informatie via 06 – 20 94 38 56. \n 
URL:https://www.wijkcentrumtewerve.nl/activiteit/yoga-3/2027-12-30/
LOCATION:Activiteitenruimte 2
END:VEVENT
BEGIN:VEVENT
DTSTART;TZID=Europe/Amsterdam:20271231T090000
DTEND;TZID=Europe/Amsterdam:20271231T100000
DTSTAMP:20260424T232433
CREATED:20240708T115210Z
LAST-MODIFIED:20240708T115211Z
UID:10003641-1830243600-1830247200@www.wijkcentrumtewerve.nl
SUMMARY:Yoga
DESCRIPTION:Yogales door docente Carla Mahabier. Meer informatie via 06 – 20 94 38 56. \n 
URL:https://www.wijkcentrumtewerve.nl/activiteit/yoga-2-2/2027-12-31/
LOCATION:Activiteitenruimte 2
END:VEVENT
BEGIN:VEVENT
DTSTART;TZID=Europe/Amsterdam:20280106T133000
DTEND;TZID=Europe/Amsterdam:20280106T164500
DTSTAMP:20260424T232433
CREATED:20240708T115205Z
LAST-MODIFIED:20240708T115206Z
UID:10001504-1830778200-1830789900@www.wijkcentrumtewerve.nl
SUMMARY:Yoga
DESCRIPTION:Yogales door docente Carla Mahabier. Meer informatie via 06 – 20 94 38 56. \n 
URL:https://www.wijkcentrumtewerve.nl/activiteit/yoga-3/2028-01-06/
LOCATION:Activiteitenruimte 2
END:VEVENT
BEGIN:VEVENT
DTSTART;TZID=Europe/Amsterdam:20280107T090000
DTEND;TZID=Europe/Amsterdam:20280107T100000
DTSTAMP:20260424T232433
CREATED:20240708T115210Z
LAST-MODIFIED:20240708T115211Z
UID:10003642-1830848400-1830852000@www.wijkcentrumtewerve.nl
SUMMARY:Yoga
DESCRIPTION:Yogales door docente Carla Mahabier. Meer informatie via 06 – 20 94 38 56. \n 
URL:https://www.wijkcentrumtewerve.nl/activiteit/yoga-2-2/2028-01-07/
LOCATION:Activiteitenruimte 2
END:VEVENT
BEGIN:VEVENT
DTSTART;TZID=Europe/Amsterdam:20280113T133000
DTEND;TZID=Europe/Amsterdam:20280113T164500
DTSTAMP:20260424T232433
CREATED:20240708T115205Z
LAST-MODIFIED:20240708T115206Z
UID:10001505-1831383000-1831394700@www.wijkcentrumtewerve.nl
SUMMARY:Yoga
DESCRIPTION:Yogales door docente Carla Mahabier. Meer informatie via 06 – 20 94 38 56. \n 
URL:https://www.wijkcentrumtewerve.nl/activiteit/yoga-3/2028-01-13/
LOCATION:Activiteitenruimte 2
END:VEVENT
BEGIN:VEVENT
DTSTART;TZID=Europe/Amsterdam:20280114T090000
DTEND;TZID=Europe/Amsterdam:20280114T100000
DTSTAMP:20260424T232433
CREATED:20240708T115210Z
LAST-MODIFIED:20240708T115211Z
UID:10003643-1831453200-1831456800@www.wijkcentrumtewerve.nl
SUMMARY:Yoga
DESCRIPTION:Yogales door docente Carla Mahabier. Meer informatie via 06 – 20 94 38 56. \n 
URL:https://www.wijkcentrumtewerve.nl/activiteit/yoga-2-2/2028-01-14/
LOCATION:Activiteitenruimte 2
END:VEVENT
BEGIN:VEVENT
DTSTART;TZID=Europe/Amsterdam:20280120T133000
DTEND;TZID=Europe/Amsterdam:20280120T164500
DTSTAMP:20260424T232433
CREATED:20240708T115205Z
LAST-MODIFIED:20240708T115206Z
UID:10001506-1831987800-1831999500@www.wijkcentrumtewerve.nl
SUMMARY:Yoga
DESCRIPTION:Yogales door docente Carla Mahabier. Meer informatie via 06 – 20 94 38 56. \n 
URL:https://www.wijkcentrumtewerve.nl/activiteit/yoga-3/2028-01-20/
LOCATION:Activiteitenruimte 2
END:VEVENT
BEGIN:VEVENT
DTSTART;TZID=Europe/Amsterdam:20280121T090000
DTEND;TZID=Europe/Amsterdam:20280121T100000
DTSTAMP:20260424T232433
CREATED:20240708T115210Z
LAST-MODIFIED:20240708T115211Z
UID:10003644-1832058000-1832061600@www.wijkcentrumtewerve.nl
SUMMARY:Yoga
DESCRIPTION:Yogales door docente Carla Mahabier. Meer informatie via 06 – 20 94 38 56. \n 
URL:https://www.wijkcentrumtewerve.nl/activiteit/yoga-2-2/2028-01-21/
LOCATION:Activiteitenruimte 2
END:VEVENT
BEGIN:VEVENT
DTSTART;TZID=Europe/Amsterdam:20280127T133000
DTEND;TZID=Europe/Amsterdam:20280127T164500
DTSTAMP:20260424T232433
CREATED:20240708T115205Z
LAST-MODIFIED:20240708T115206Z
UID:10001507-1832592600-1832604300@www.wijkcentrumtewerve.nl
SUMMARY:Yoga
DESCRIPTION:Yogales door docente Carla Mahabier. Meer informatie via 06 – 20 94 38 56. \n 
URL:https://www.wijkcentrumtewerve.nl/activiteit/yoga-3/2028-01-27/
LOCATION:Activiteitenruimte 2
END:VEVENT
BEGIN:VEVENT
DTSTART;TZID=Europe/Amsterdam:20280128T090000
DTEND;TZID=Europe/Amsterdam:20280128T100000
DTSTAMP:20260424T232433
CREATED:20240708T115210Z
LAST-MODIFIED:20240708T115211Z
UID:10003645-1832662800-1832666400@www.wijkcentrumtewerve.nl
SUMMARY:Yoga
DESCRIPTION:Yogales door docente Carla Mahabier. Meer informatie via 06 – 20 94 38 56. \n 
URL:https://www.wijkcentrumtewerve.nl/activiteit/yoga-2-2/2028-01-28/
LOCATION:Activiteitenruimte 2
END:VEVENT
BEGIN:VEVENT
DTSTART;TZID=Europe/Amsterdam:20280203T133000
DTEND;TZID=Europe/Amsterdam:20280203T164500
DTSTAMP:20260424T232433
CREATED:20240708T115205Z
LAST-MODIFIED:20240708T115206Z
UID:10001508-1833197400-1833209100@www.wijkcentrumtewerve.nl
SUMMARY:Yoga
DESCRIPTION:Yogales door docente Carla Mahabier. Meer informatie via 06 – 20 94 38 56. \n 
URL:https://www.wijkcentrumtewerve.nl/activiteit/yoga-3/2028-02-03/
LOCATION:Activiteitenruimte 2
END:VEVENT
BEGIN:VEVENT
DTSTART;TZID=Europe/Amsterdam:20280204T090000
DTEND;TZID=Europe/Amsterdam:20280204T100000
DTSTAMP:20260424T232433
CREATED:20240708T115210Z
LAST-MODIFIED:20240708T115211Z
UID:10003646-1833267600-1833271200@www.wijkcentrumtewerve.nl
SUMMARY:Yoga
DESCRIPTION:Yogales door docente Carla Mahabier. Meer informatie via 06 – 20 94 38 56. \n 
URL:https://www.wijkcentrumtewerve.nl/activiteit/yoga-2-2/2028-02-04/
LOCATION:Activiteitenruimte 2
END:VEVENT
BEGIN:VEVENT
DTSTART;TZID=Europe/Amsterdam:20280210T133000
DTEND;TZID=Europe/Amsterdam:20280210T164500
DTSTAMP:20260424T232433
CREATED:20240708T115205Z
LAST-MODIFIED:20240708T115206Z
UID:10001509-1833802200-1833813900@www.wijkcentrumtewerve.nl
SUMMARY:Yoga
DESCRIPTION:Yogales door docente Carla Mahabier. Meer informatie via 06 – 20 94 38 56. \n 
URL:https://www.wijkcentrumtewerve.nl/activiteit/yoga-3/2028-02-10/
LOCATION:Activiteitenruimte 2
END:VEVENT
BEGIN:VEVENT
DTSTART;TZID=Europe/Amsterdam:20280211T090000
DTEND;TZID=Europe/Amsterdam:20280211T100000
DTSTAMP:20260424T232433
CREATED:20240708T115210Z
LAST-MODIFIED:20240708T115211Z
UID:10003647-1833872400-1833876000@www.wijkcentrumtewerve.nl
SUMMARY:Yoga
DESCRIPTION:Yogales door docente Carla Mahabier. Meer informatie via 06 – 20 94 38 56. \n 
URL:https://www.wijkcentrumtewerve.nl/activiteit/yoga-2-2/2028-02-11/
LOCATION:Activiteitenruimte 2
END:VEVENT
BEGIN:VEVENT
DTSTART;TZID=Europe/Amsterdam:20280217T133000
DTEND;TZID=Europe/Amsterdam:20280217T164500
DTSTAMP:20260424T232433
CREATED:20240708T115205Z
LAST-MODIFIED:20240708T115206Z
UID:10001510-1834407000-1834418700@www.wijkcentrumtewerve.nl
SUMMARY:Yoga
DESCRIPTION:Yogales door docente Carla Mahabier. Meer informatie via 06 – 20 94 38 56. \n 
URL:https://www.wijkcentrumtewerve.nl/activiteit/yoga-3/2028-02-17/
LOCATION:Activiteitenruimte 2
END:VEVENT
BEGIN:VEVENT
DTSTART;TZID=Europe/Amsterdam:20280218T090000
DTEND;TZID=Europe/Amsterdam:20280218T100000
DTSTAMP:20260424T232433
CREATED:20240708T115210Z
LAST-MODIFIED:20240708T115211Z
UID:10003648-1834477200-1834480800@www.wijkcentrumtewerve.nl
SUMMARY:Yoga
DESCRIPTION:Yogales door docente Carla Mahabier. Meer informatie via 06 – 20 94 38 56. \n 
URL:https://www.wijkcentrumtewerve.nl/activiteit/yoga-2-2/2028-02-18/
LOCATION:Activiteitenruimte 2
END:VEVENT
END:VCALENDAR