BEGIN:VCALENDAR
VERSION:2.0
PRODID:-//Wijkcentrum Te Werve - Welzijn Rijswijk - ECPv6.8.2.1//NONSGML v1.0//EN
CALSCALE:GREGORIAN
METHOD:PUBLISH
X-ORIGINAL-URL:https://www.wijkcentrumtewerve.nl
X-WR-CALDESC:Evenementen voor Wijkcentrum Te Werve - Welzijn Rijswijk
REFRESH-INTERVAL;VALUE=DURATION:PT1H
X-Robots-Tag:noindex
X-PUBLISHED-TTL:PT1H
BEGIN:VTIMEZONE
TZID:Europe/Amsterdam
BEGIN:DAYLIGHT
TZOFFSETFROM:+0100
TZOFFSETTO:+0200
TZNAME:CEST
DTSTART:20270328T010000
END:DAYLIGHT
BEGIN:STANDARD
TZOFFSETFROM:+0200
TZOFFSETTO:+0100
TZNAME:CET
DTSTART:20271031T010000
END:STANDARD
END:VTIMEZONE
BEGIN:VEVENT
DTSTART;TZID=Europe/Amsterdam:20270624T133000
DTEND;TZID=Europe/Amsterdam:20270624T164500
DTSTAMP:20260424T203514
CREATED:20240708T115205Z
LAST-MODIFIED:20240708T115206Z
UID:10001476-1813843800-1813855500@www.wijkcentrumtewerve.nl
SUMMARY:Yoga
DESCRIPTION:Yogales door docente Carla Mahabier. Meer informatie via 06 – 20 94 38 56. \n 
URL:https://www.wijkcentrumtewerve.nl/activiteit/yoga-3/2027-06-24/
LOCATION:Activiteitenruimte 2
END:VEVENT
BEGIN:VEVENT
DTSTART;TZID=Europe/Amsterdam:20270625T090000
DTEND;TZID=Europe/Amsterdam:20270625T100000
DTSTAMP:20260424T203514
CREATED:20240708T115210Z
LAST-MODIFIED:20240708T115211Z
UID:10003614-1813914000-1813917600@www.wijkcentrumtewerve.nl
SUMMARY:Yoga
DESCRIPTION:Yogales door docente Carla Mahabier. Meer informatie via 06 – 20 94 38 56. \n 
URL:https://www.wijkcentrumtewerve.nl/activiteit/yoga-2-2/2027-06-25/
LOCATION:Activiteitenruimte 2
END:VEVENT
BEGIN:VEVENT
DTSTART;TZID=Europe/Amsterdam:20270701T133000
DTEND;TZID=Europe/Amsterdam:20270701T164500
DTSTAMP:20260424T203514
CREATED:20240708T115205Z
LAST-MODIFIED:20240708T115206Z
UID:10001477-1814448600-1814460300@www.wijkcentrumtewerve.nl
SUMMARY:Yoga
DESCRIPTION:Yogales door docente Carla Mahabier. Meer informatie via 06 – 20 94 38 56. \n 
URL:https://www.wijkcentrumtewerve.nl/activiteit/yoga-3/2027-07-01/
LOCATION:Activiteitenruimte 2
END:VEVENT
BEGIN:VEVENT
DTSTART;TZID=Europe/Amsterdam:20270702T090000
DTEND;TZID=Europe/Amsterdam:20270702T100000
DTSTAMP:20260424T203514
CREATED:20240708T115210Z
LAST-MODIFIED:20240708T115211Z
UID:10003615-1814518800-1814522400@www.wijkcentrumtewerve.nl
SUMMARY:Yoga
DESCRIPTION:Yogales door docente Carla Mahabier. Meer informatie via 06 – 20 94 38 56. \n 
URL:https://www.wijkcentrumtewerve.nl/activiteit/yoga-2-2/2027-07-02/
LOCATION:Activiteitenruimte 2
END:VEVENT
BEGIN:VEVENT
DTSTART;TZID=Europe/Amsterdam:20270708T133000
DTEND;TZID=Europe/Amsterdam:20270708T164500
DTSTAMP:20260424T203514
CREATED:20240708T115205Z
LAST-MODIFIED:20240708T115206Z
UID:10001478-1815053400-1815065100@www.wijkcentrumtewerve.nl
SUMMARY:Yoga
DESCRIPTION:Yogales door docente Carla Mahabier. Meer informatie via 06 – 20 94 38 56. \n 
URL:https://www.wijkcentrumtewerve.nl/activiteit/yoga-3/2027-07-08/
LOCATION:Activiteitenruimte 2
END:VEVENT
BEGIN:VEVENT
DTSTART;TZID=Europe/Amsterdam:20270709T090000
DTEND;TZID=Europe/Amsterdam:20270709T100000
DTSTAMP:20260424T203514
CREATED:20240708T115210Z
LAST-MODIFIED:20240708T115211Z
UID:10003616-1815123600-1815127200@www.wijkcentrumtewerve.nl
SUMMARY:Yoga
DESCRIPTION:Yogales door docente Carla Mahabier. Meer informatie via 06 – 20 94 38 56. \n 
URL:https://www.wijkcentrumtewerve.nl/activiteit/yoga-2-2/2027-07-09/
LOCATION:Activiteitenruimte 2
END:VEVENT
BEGIN:VEVENT
DTSTART;TZID=Europe/Amsterdam:20270715T133000
DTEND;TZID=Europe/Amsterdam:20270715T164500
DTSTAMP:20260424T203514
CREATED:20240708T115205Z
LAST-MODIFIED:20240708T115206Z
UID:10001479-1815658200-1815669900@www.wijkcentrumtewerve.nl
SUMMARY:Yoga
DESCRIPTION:Yogales door docente Carla Mahabier. Meer informatie via 06 – 20 94 38 56. \n 
URL:https://www.wijkcentrumtewerve.nl/activiteit/yoga-3/2027-07-15/
LOCATION:Activiteitenruimte 2
END:VEVENT
BEGIN:VEVENT
DTSTART;TZID=Europe/Amsterdam:20270716T090000
DTEND;TZID=Europe/Amsterdam:20270716T100000
DTSTAMP:20260424T203514
CREATED:20240708T115210Z
LAST-MODIFIED:20240708T115211Z
UID:10003617-1815728400-1815732000@www.wijkcentrumtewerve.nl
SUMMARY:Yoga
DESCRIPTION:Yogales door docente Carla Mahabier. Meer informatie via 06 – 20 94 38 56. \n 
URL:https://www.wijkcentrumtewerve.nl/activiteit/yoga-2-2/2027-07-16/
LOCATION:Activiteitenruimte 2
END:VEVENT
BEGIN:VEVENT
DTSTART;TZID=Europe/Amsterdam:20270722T133000
DTEND;TZID=Europe/Amsterdam:20270722T164500
DTSTAMP:20260424T203514
CREATED:20240708T115205Z
LAST-MODIFIED:20240708T115206Z
UID:10001480-1816263000-1816274700@www.wijkcentrumtewerve.nl
SUMMARY:Yoga
DESCRIPTION:Yogales door docente Carla Mahabier. Meer informatie via 06 – 20 94 38 56. \n 
URL:https://www.wijkcentrumtewerve.nl/activiteit/yoga-3/2027-07-22/
LOCATION:Activiteitenruimte 2
END:VEVENT
BEGIN:VEVENT
DTSTART;TZID=Europe/Amsterdam:20270723T090000
DTEND;TZID=Europe/Amsterdam:20270723T100000
DTSTAMP:20260424T203514
CREATED:20240708T115210Z
LAST-MODIFIED:20240708T115211Z
UID:10003618-1816333200-1816336800@www.wijkcentrumtewerve.nl
SUMMARY:Yoga
DESCRIPTION:Yogales door docente Carla Mahabier. Meer informatie via 06 – 20 94 38 56. \n 
URL:https://www.wijkcentrumtewerve.nl/activiteit/yoga-2-2/2027-07-23/
LOCATION:Activiteitenruimte 2
END:VEVENT
BEGIN:VEVENT
DTSTART;TZID=Europe/Amsterdam:20270729T133000
DTEND;TZID=Europe/Amsterdam:20270729T164500
DTSTAMP:20260424T203514
CREATED:20240708T115205Z
LAST-MODIFIED:20240708T115206Z
UID:10001481-1816867800-1816879500@www.wijkcentrumtewerve.nl
SUMMARY:Yoga
DESCRIPTION:Yogales door docente Carla Mahabier. Meer informatie via 06 – 20 94 38 56. \n 
URL:https://www.wijkcentrumtewerve.nl/activiteit/yoga-3/2027-07-29/
LOCATION:Activiteitenruimte 2
END:VEVENT
BEGIN:VEVENT
DTSTART;TZID=Europe/Amsterdam:20270730T090000
DTEND;TZID=Europe/Amsterdam:20270730T100000
DTSTAMP:20260424T203514
CREATED:20240708T115210Z
LAST-MODIFIED:20240708T115211Z
UID:10003619-1816938000-1816941600@www.wijkcentrumtewerve.nl
SUMMARY:Yoga
DESCRIPTION:Yogales door docente Carla Mahabier. Meer informatie via 06 – 20 94 38 56. \n 
URL:https://www.wijkcentrumtewerve.nl/activiteit/yoga-2-2/2027-07-30/
LOCATION:Activiteitenruimte 2
END:VEVENT
BEGIN:VEVENT
DTSTART;TZID=Europe/Amsterdam:20270805T133000
DTEND;TZID=Europe/Amsterdam:20270805T164500
DTSTAMP:20260424T203514
CREATED:20240708T115205Z
LAST-MODIFIED:20240708T115206Z
UID:10001482-1817472600-1817484300@www.wijkcentrumtewerve.nl
SUMMARY:Yoga
DESCRIPTION:Yogales door docente Carla Mahabier. Meer informatie via 06 – 20 94 38 56. \n 
URL:https://www.wijkcentrumtewerve.nl/activiteit/yoga-3/2027-08-05/
LOCATION:Activiteitenruimte 2
END:VEVENT
BEGIN:VEVENT
DTSTART;TZID=Europe/Amsterdam:20270806T090000
DTEND;TZID=Europe/Amsterdam:20270806T100000
DTSTAMP:20260424T203514
CREATED:20240708T115210Z
LAST-MODIFIED:20240708T115211Z
UID:10003620-1817542800-1817546400@www.wijkcentrumtewerve.nl
SUMMARY:Yoga
DESCRIPTION:Yogales door docente Carla Mahabier. Meer informatie via 06 – 20 94 38 56. \n 
URL:https://www.wijkcentrumtewerve.nl/activiteit/yoga-2-2/2027-08-06/
LOCATION:Activiteitenruimte 2
END:VEVENT
BEGIN:VEVENT
DTSTART;TZID=Europe/Amsterdam:20270812T133000
DTEND;TZID=Europe/Amsterdam:20270812T164500
DTSTAMP:20260424T203514
CREATED:20240708T115205Z
LAST-MODIFIED:20240708T115206Z
UID:10001483-1818077400-1818089100@www.wijkcentrumtewerve.nl
SUMMARY:Yoga
DESCRIPTION:Yogales door docente Carla Mahabier. Meer informatie via 06 – 20 94 38 56. \n 
URL:https://www.wijkcentrumtewerve.nl/activiteit/yoga-3/2027-08-12/
LOCATION:Activiteitenruimte 2
END:VEVENT
BEGIN:VEVENT
DTSTART;TZID=Europe/Amsterdam:20270813T090000
DTEND;TZID=Europe/Amsterdam:20270813T100000
DTSTAMP:20260424T203514
CREATED:20240708T115210Z
LAST-MODIFIED:20240708T115211Z
UID:10003621-1818147600-1818151200@www.wijkcentrumtewerve.nl
SUMMARY:Yoga
DESCRIPTION:Yogales door docente Carla Mahabier. Meer informatie via 06 – 20 94 38 56. \n 
URL:https://www.wijkcentrumtewerve.nl/activiteit/yoga-2-2/2027-08-13/
LOCATION:Activiteitenruimte 2
END:VEVENT
BEGIN:VEVENT
DTSTART;TZID=Europe/Amsterdam:20270819T133000
DTEND;TZID=Europe/Amsterdam:20270819T164500
DTSTAMP:20260424T203514
CREATED:20240708T115205Z
LAST-MODIFIED:20240708T115206Z
UID:10001484-1818682200-1818693900@www.wijkcentrumtewerve.nl
SUMMARY:Yoga
DESCRIPTION:Yogales door docente Carla Mahabier. Meer informatie via 06 – 20 94 38 56. \n 
URL:https://www.wijkcentrumtewerve.nl/activiteit/yoga-3/2027-08-19/
LOCATION:Activiteitenruimte 2
END:VEVENT
BEGIN:VEVENT
DTSTART;TZID=Europe/Amsterdam:20270820T090000
DTEND;TZID=Europe/Amsterdam:20270820T100000
DTSTAMP:20260424T203514
CREATED:20240708T115210Z
LAST-MODIFIED:20240708T115211Z
UID:10003622-1818752400-1818756000@www.wijkcentrumtewerve.nl
SUMMARY:Yoga
DESCRIPTION:Yogales door docente Carla Mahabier. Meer informatie via 06 – 20 94 38 56. \n 
URL:https://www.wijkcentrumtewerve.nl/activiteit/yoga-2-2/2027-08-20/
LOCATION:Activiteitenruimte 2
END:VEVENT
BEGIN:VEVENT
DTSTART;TZID=Europe/Amsterdam:20270826T133000
DTEND;TZID=Europe/Amsterdam:20270826T164500
DTSTAMP:20260424T203514
CREATED:20240708T115205Z
LAST-MODIFIED:20240708T115206Z
UID:10001485-1819287000-1819298700@www.wijkcentrumtewerve.nl
SUMMARY:Yoga
DESCRIPTION:Yogales door docente Carla Mahabier. Meer informatie via 06 – 20 94 38 56. \n 
URL:https://www.wijkcentrumtewerve.nl/activiteit/yoga-3/2027-08-26/
LOCATION:Activiteitenruimte 2
END:VEVENT
BEGIN:VEVENT
DTSTART;TZID=Europe/Amsterdam:20270827T090000
DTEND;TZID=Europe/Amsterdam:20270827T100000
DTSTAMP:20260424T203514
CREATED:20240708T115210Z
LAST-MODIFIED:20240708T115211Z
UID:10003623-1819357200-1819360800@www.wijkcentrumtewerve.nl
SUMMARY:Yoga
DESCRIPTION:Yogales door docente Carla Mahabier. Meer informatie via 06 – 20 94 38 56. \n 
URL:https://www.wijkcentrumtewerve.nl/activiteit/yoga-2-2/2027-08-27/
LOCATION:Activiteitenruimte 2
END:VEVENT
BEGIN:VEVENT
DTSTART;TZID=Europe/Amsterdam:20270902T133000
DTEND;TZID=Europe/Amsterdam:20270902T164500
DTSTAMP:20260424T203514
CREATED:20240708T115205Z
LAST-MODIFIED:20240708T115206Z
UID:10001486-1819891800-1819903500@www.wijkcentrumtewerve.nl
SUMMARY:Yoga
DESCRIPTION:Yogales door docente Carla Mahabier. Meer informatie via 06 – 20 94 38 56. \n 
URL:https://www.wijkcentrumtewerve.nl/activiteit/yoga-3/2027-09-02/
LOCATION:Activiteitenruimte 2
END:VEVENT
BEGIN:VEVENT
DTSTART;TZID=Europe/Amsterdam:20270903T090000
DTEND;TZID=Europe/Amsterdam:20270903T100000
DTSTAMP:20260424T203514
CREATED:20240708T115210Z
LAST-MODIFIED:20240708T115211Z
UID:10003624-1819962000-1819965600@www.wijkcentrumtewerve.nl
SUMMARY:Yoga
DESCRIPTION:Yogales door docente Carla Mahabier. Meer informatie via 06 – 20 94 38 56. \n 
URL:https://www.wijkcentrumtewerve.nl/activiteit/yoga-2-2/2027-09-03/
LOCATION:Activiteitenruimte 2
END:VEVENT
BEGIN:VEVENT
DTSTART;TZID=Europe/Amsterdam:20270909T133000
DTEND;TZID=Europe/Amsterdam:20270909T164500
DTSTAMP:20260424T203514
CREATED:20240708T115205Z
LAST-MODIFIED:20240708T115206Z
UID:10001487-1820496600-1820508300@www.wijkcentrumtewerve.nl
SUMMARY:Yoga
DESCRIPTION:Yogales door docente Carla Mahabier. Meer informatie via 06 – 20 94 38 56. \n 
URL:https://www.wijkcentrumtewerve.nl/activiteit/yoga-3/2027-09-09/
LOCATION:Activiteitenruimte 2
END:VEVENT
BEGIN:VEVENT
DTSTART;TZID=Europe/Amsterdam:20270910T090000
DTEND;TZID=Europe/Amsterdam:20270910T100000
DTSTAMP:20260424T203514
CREATED:20240708T115210Z
LAST-MODIFIED:20240708T115211Z
UID:10003625-1820566800-1820570400@www.wijkcentrumtewerve.nl
SUMMARY:Yoga
DESCRIPTION:Yogales door docente Carla Mahabier. Meer informatie via 06 – 20 94 38 56. \n 
URL:https://www.wijkcentrumtewerve.nl/activiteit/yoga-2-2/2027-09-10/
LOCATION:Activiteitenruimte 2
END:VEVENT
BEGIN:VEVENT
DTSTART;TZID=Europe/Amsterdam:20270916T133000
DTEND;TZID=Europe/Amsterdam:20270916T164500
DTSTAMP:20260424T203514
CREATED:20240708T115205Z
LAST-MODIFIED:20240708T115206Z
UID:10001488-1821101400-1821113100@www.wijkcentrumtewerve.nl
SUMMARY:Yoga
DESCRIPTION:Yogales door docente Carla Mahabier. Meer informatie via 06 – 20 94 38 56. \n 
URL:https://www.wijkcentrumtewerve.nl/activiteit/yoga-3/2027-09-16/
LOCATION:Activiteitenruimte 2
END:VEVENT
BEGIN:VEVENT
DTSTART;TZID=Europe/Amsterdam:20270917T090000
DTEND;TZID=Europe/Amsterdam:20270917T100000
DTSTAMP:20260424T203514
CREATED:20240708T115210Z
LAST-MODIFIED:20240708T115211Z
UID:10003626-1821171600-1821175200@www.wijkcentrumtewerve.nl
SUMMARY:Yoga
DESCRIPTION:Yogales door docente Carla Mahabier. Meer informatie via 06 – 20 94 38 56. \n 
URL:https://www.wijkcentrumtewerve.nl/activiteit/yoga-2-2/2027-09-17/
LOCATION:Activiteitenruimte 2
END:VEVENT
BEGIN:VEVENT
DTSTART;TZID=Europe/Amsterdam:20270923T133000
DTEND;TZID=Europe/Amsterdam:20270923T164500
DTSTAMP:20260424T203514
CREATED:20240708T115205Z
LAST-MODIFIED:20240708T115206Z
UID:10001489-1821706200-1821717900@www.wijkcentrumtewerve.nl
SUMMARY:Yoga
DESCRIPTION:Yogales door docente Carla Mahabier. Meer informatie via 06 – 20 94 38 56. \n 
URL:https://www.wijkcentrumtewerve.nl/activiteit/yoga-3/2027-09-23/
LOCATION:Activiteitenruimte 2
END:VEVENT
BEGIN:VEVENT
DTSTART;TZID=Europe/Amsterdam:20270924T090000
DTEND;TZID=Europe/Amsterdam:20270924T100000
DTSTAMP:20260424T203514
CREATED:20240708T115210Z
LAST-MODIFIED:20240708T115211Z
UID:10003627-1821776400-1821780000@www.wijkcentrumtewerve.nl
SUMMARY:Yoga
DESCRIPTION:Yogales door docente Carla Mahabier. Meer informatie via 06 – 20 94 38 56. \n 
URL:https://www.wijkcentrumtewerve.nl/activiteit/yoga-2-2/2027-09-24/
LOCATION:Activiteitenruimte 2
END:VEVENT
BEGIN:VEVENT
DTSTART;TZID=Europe/Amsterdam:20270930T133000
DTEND;TZID=Europe/Amsterdam:20270930T164500
DTSTAMP:20260424T203514
CREATED:20240708T115205Z
LAST-MODIFIED:20240708T115206Z
UID:10001490-1822311000-1822322700@www.wijkcentrumtewerve.nl
SUMMARY:Yoga
DESCRIPTION:Yogales door docente Carla Mahabier. Meer informatie via 06 – 20 94 38 56. \n 
URL:https://www.wijkcentrumtewerve.nl/activiteit/yoga-3/2027-09-30/
LOCATION:Activiteitenruimte 2
END:VEVENT
BEGIN:VEVENT
DTSTART;TZID=Europe/Amsterdam:20271001T090000
DTEND;TZID=Europe/Amsterdam:20271001T100000
DTSTAMP:20260424T203514
CREATED:20240708T115210Z
LAST-MODIFIED:20240708T115211Z
UID:10003628-1822381200-1822384800@www.wijkcentrumtewerve.nl
SUMMARY:Yoga
DESCRIPTION:Yogales door docente Carla Mahabier. Meer informatie via 06 – 20 94 38 56. \n 
URL:https://www.wijkcentrumtewerve.nl/activiteit/yoga-2-2/2027-10-01/
LOCATION:Activiteitenruimte 2
END:VEVENT
END:VCALENDAR