BEGIN:VCALENDAR
VERSION:2.0
PRODID:-//Wijkcentrum Te Werve - Welzijn Rijswijk - ECPv6.8.2.1//NONSGML v1.0//EN
CALSCALE:GREGORIAN
METHOD:PUBLISH
X-ORIGINAL-URL:https://www.wijkcentrumtewerve.nl
X-WR-CALDESC:Evenementen voor Wijkcentrum Te Werve - Welzijn Rijswijk
REFRESH-INTERVAL;VALUE=DURATION:PT1H
X-Robots-Tag:noindex
X-PUBLISHED-TTL:PT1H
BEGIN:VTIMEZONE
TZID:Europe/Amsterdam
BEGIN:DAYLIGHT
TZOFFSETFROM:+0100
TZOFFSETTO:+0200
TZNAME:CEST
DTSTART:20240331T010000
END:DAYLIGHT
BEGIN:STANDARD
TZOFFSETFROM:+0200
TZOFFSETTO:+0100
TZNAME:CET
DTSTART:20241027T010000
END:STANDARD
BEGIN:DAYLIGHT
TZOFFSETFROM:+0100
TZOFFSETTO:+0200
TZNAME:CEST
DTSTART:20250330T010000
END:DAYLIGHT
BEGIN:STANDARD
TZOFFSETFROM:+0200
TZOFFSETTO:+0100
TZNAME:CET
DTSTART:20251026T010000
END:STANDARD
END:VTIMEZONE
BEGIN:VEVENT
DTSTART;TZID=Europe/Amsterdam:20250221T090000
DTEND;TZID=Europe/Amsterdam:20250221T100000
DTSTAMP:20260420T230403
CREATED:20240708T115210Z
LAST-MODIFIED:20240708T115211Z
UID:10003492-1740128400-1740132000@www.wijkcentrumtewerve.nl
SUMMARY:Yoga
DESCRIPTION:Yogales door docente Carla Mahabier. Meer informatie via 06 – 20 94 38 56. \n 
URL:https://www.wijkcentrumtewerve.nl/activiteit/yoga-2-2/2025-02-21/
LOCATION:Activiteitenruimte 2
END:VEVENT
BEGIN:VEVENT
DTSTART;TZID=Europe/Amsterdam:20250220T133000
DTEND;TZID=Europe/Amsterdam:20250220T164500
DTSTAMP:20260420T230403
CREATED:20240708T115205Z
LAST-MODIFIED:20240708T115206Z
UID:10001354-1740058200-1740069900@www.wijkcentrumtewerve.nl
SUMMARY:Yoga
DESCRIPTION:Yogales door docente Carla Mahabier. Meer informatie via 06 – 20 94 38 56. \n 
URL:https://www.wijkcentrumtewerve.nl/activiteit/yoga-3/2025-02-20/
LOCATION:Activiteitenruimte 2
END:VEVENT
BEGIN:VEVENT
DTSTART;TZID=Europe/Amsterdam:20250214T090000
DTEND;TZID=Europe/Amsterdam:20250214T100000
DTSTAMP:20260420T230403
CREATED:20240708T115210Z
LAST-MODIFIED:20240708T115211Z
UID:10003491-1739523600-1739527200@www.wijkcentrumtewerve.nl
SUMMARY:Yoga
DESCRIPTION:Yogales door docente Carla Mahabier. Meer informatie via 06 – 20 94 38 56. \n 
URL:https://www.wijkcentrumtewerve.nl/activiteit/yoga-2-2/2025-02-14/
LOCATION:Activiteitenruimte 2
END:VEVENT
BEGIN:VEVENT
DTSTART;TZID=Europe/Amsterdam:20250213T133000
DTEND;TZID=Europe/Amsterdam:20250213T164500
DTSTAMP:20260420T230403
CREATED:20240708T115205Z
LAST-MODIFIED:20240708T115206Z
UID:10001353-1739453400-1739465100@www.wijkcentrumtewerve.nl
SUMMARY:Yoga
DESCRIPTION:Yogales door docente Carla Mahabier. Meer informatie via 06 – 20 94 38 56. \n 
URL:https://www.wijkcentrumtewerve.nl/activiteit/yoga-3/2025-02-13/
LOCATION:Activiteitenruimte 2
END:VEVENT
BEGIN:VEVENT
DTSTART;TZID=Europe/Amsterdam:20250207T090000
DTEND;TZID=Europe/Amsterdam:20250207T100000
DTSTAMP:20260420T230403
CREATED:20240708T115210Z
LAST-MODIFIED:20240708T115211Z
UID:10003490-1738918800-1738922400@www.wijkcentrumtewerve.nl
SUMMARY:Yoga
DESCRIPTION:Yogales door docente Carla Mahabier. Meer informatie via 06 – 20 94 38 56. \n 
URL:https://www.wijkcentrumtewerve.nl/activiteit/yoga-2-2/2025-02-07/
LOCATION:Activiteitenruimte 2
END:VEVENT
BEGIN:VEVENT
DTSTART;TZID=Europe/Amsterdam:20250206T133000
DTEND;TZID=Europe/Amsterdam:20250206T164500
DTSTAMP:20260420T230403
CREATED:20240708T115205Z
LAST-MODIFIED:20240708T115206Z
UID:10001352-1738848600-1738860300@www.wijkcentrumtewerve.nl
SUMMARY:Yoga
DESCRIPTION:Yogales door docente Carla Mahabier. Meer informatie via 06 – 20 94 38 56. \n 
URL:https://www.wijkcentrumtewerve.nl/activiteit/yoga-3/2025-02-06/
LOCATION:Activiteitenruimte 2
END:VEVENT
BEGIN:VEVENT
DTSTART;TZID=Europe/Amsterdam:20250131T090000
DTEND;TZID=Europe/Amsterdam:20250131T100000
DTSTAMP:20260420T230403
CREATED:20240708T115210Z
LAST-MODIFIED:20240708T115211Z
UID:10003489-1738314000-1738317600@www.wijkcentrumtewerve.nl
SUMMARY:Yoga
DESCRIPTION:Yogales door docente Carla Mahabier. Meer informatie via 06 – 20 94 38 56. \n 
URL:https://www.wijkcentrumtewerve.nl/activiteit/yoga-2-2/2025-01-31/
LOCATION:Activiteitenruimte 2
END:VEVENT
BEGIN:VEVENT
DTSTART;TZID=Europe/Amsterdam:20250130T133000
DTEND;TZID=Europe/Amsterdam:20250130T164500
DTSTAMP:20260420T230403
CREATED:20240708T115205Z
LAST-MODIFIED:20240708T115206Z
UID:10001351-1738243800-1738255500@www.wijkcentrumtewerve.nl
SUMMARY:Yoga
DESCRIPTION:Yogales door docente Carla Mahabier. Meer informatie via 06 – 20 94 38 56. \n 
URL:https://www.wijkcentrumtewerve.nl/activiteit/yoga-3/2025-01-30/
LOCATION:Activiteitenruimte 2
END:VEVENT
BEGIN:VEVENT
DTSTART;TZID=Europe/Amsterdam:20250124T090000
DTEND;TZID=Europe/Amsterdam:20250124T100000
DTSTAMP:20260420T230403
CREATED:20240708T115210Z
LAST-MODIFIED:20240708T115211Z
UID:10003488-1737709200-1737712800@www.wijkcentrumtewerve.nl
SUMMARY:Yoga
DESCRIPTION:Yogales door docente Carla Mahabier. Meer informatie via 06 – 20 94 38 56. \n 
URL:https://www.wijkcentrumtewerve.nl/activiteit/yoga-2-2/2025-01-24/
LOCATION:Activiteitenruimte 2
END:VEVENT
BEGIN:VEVENT
DTSTART;TZID=Europe/Amsterdam:20250123T133000
DTEND;TZID=Europe/Amsterdam:20250123T164500
DTSTAMP:20260420T230403
CREATED:20240708T115205Z
LAST-MODIFIED:20240708T115206Z
UID:10001350-1737639000-1737650700@www.wijkcentrumtewerve.nl
SUMMARY:Yoga
DESCRIPTION:Yogales door docente Carla Mahabier. Meer informatie via 06 – 20 94 38 56. \n 
URL:https://www.wijkcentrumtewerve.nl/activiteit/yoga-3/2025-01-23/
LOCATION:Activiteitenruimte 2
END:VEVENT
BEGIN:VEVENT
DTSTART;TZID=Europe/Amsterdam:20250117T090000
DTEND;TZID=Europe/Amsterdam:20250117T100000
DTSTAMP:20260420T230403
CREATED:20240708T115210Z
LAST-MODIFIED:20240708T115211Z
UID:10003487-1737104400-1737108000@www.wijkcentrumtewerve.nl
SUMMARY:Yoga
DESCRIPTION:Yogales door docente Carla Mahabier. Meer informatie via 06 – 20 94 38 56. \n 
URL:https://www.wijkcentrumtewerve.nl/activiteit/yoga-2-2/2025-01-17/
LOCATION:Activiteitenruimte 2
END:VEVENT
BEGIN:VEVENT
DTSTART;TZID=Europe/Amsterdam:20250116T133000
DTEND;TZID=Europe/Amsterdam:20250116T164500
DTSTAMP:20260420T230403
CREATED:20240708T115205Z
LAST-MODIFIED:20240708T115206Z
UID:10001349-1737034200-1737045900@www.wijkcentrumtewerve.nl
SUMMARY:Yoga
DESCRIPTION:Yogales door docente Carla Mahabier. Meer informatie via 06 – 20 94 38 56. \n 
URL:https://www.wijkcentrumtewerve.nl/activiteit/yoga-3/2025-01-16/
LOCATION:Activiteitenruimte 2
END:VEVENT
BEGIN:VEVENT
DTSTART;TZID=Europe/Amsterdam:20250110T090000
DTEND;TZID=Europe/Amsterdam:20250110T100000
DTSTAMP:20260420T230403
CREATED:20240708T115210Z
LAST-MODIFIED:20240708T115211Z
UID:10003486-1736499600-1736503200@www.wijkcentrumtewerve.nl
SUMMARY:Yoga
DESCRIPTION:Yogales door docente Carla Mahabier. Meer informatie via 06 – 20 94 38 56. \n 
URL:https://www.wijkcentrumtewerve.nl/activiteit/yoga-2-2/2025-01-10/
LOCATION:Activiteitenruimte 2
END:VEVENT
BEGIN:VEVENT
DTSTART;TZID=Europe/Amsterdam:20250109T133000
DTEND;TZID=Europe/Amsterdam:20250109T164500
DTSTAMP:20260420T230403
CREATED:20240708T115205Z
LAST-MODIFIED:20240708T115206Z
UID:10001348-1736429400-1736441100@www.wijkcentrumtewerve.nl
SUMMARY:Yoga
DESCRIPTION:Yogales door docente Carla Mahabier. Meer informatie via 06 – 20 94 38 56. \n 
URL:https://www.wijkcentrumtewerve.nl/activiteit/yoga-3/2025-01-09/
LOCATION:Activiteitenruimte 2
END:VEVENT
BEGIN:VEVENT
DTSTART;TZID=Europe/Amsterdam:20250103T090000
DTEND;TZID=Europe/Amsterdam:20250103T100000
DTSTAMP:20260420T230403
CREATED:20240708T115210Z
LAST-MODIFIED:20240708T115211Z
UID:10003485-1735894800-1735898400@www.wijkcentrumtewerve.nl
SUMMARY:Yoga
DESCRIPTION:Yogales door docente Carla Mahabier. Meer informatie via 06 – 20 94 38 56. \n 
URL:https://www.wijkcentrumtewerve.nl/activiteit/yoga-2-2/2025-01-03/
LOCATION:Activiteitenruimte 2
END:VEVENT
BEGIN:VEVENT
DTSTART;TZID=Europe/Amsterdam:20250102T133000
DTEND;TZID=Europe/Amsterdam:20250102T164500
DTSTAMP:20260420T230403
CREATED:20240708T115205Z
LAST-MODIFIED:20240708T115206Z
UID:10001347-1735824600-1735836300@www.wijkcentrumtewerve.nl
SUMMARY:Yoga
DESCRIPTION:Yogales door docente Carla Mahabier. Meer informatie via 06 – 20 94 38 56. \n 
URL:https://www.wijkcentrumtewerve.nl/activiteit/yoga-3/2025-01-02/
LOCATION:Activiteitenruimte 2
END:VEVENT
BEGIN:VEVENT
DTSTART;TZID=Europe/Amsterdam:20241227T090000
DTEND;TZID=Europe/Amsterdam:20241227T100000
DTSTAMP:20260420T230403
CREATED:20240708T115210Z
LAST-MODIFIED:20240708T115211Z
UID:10003484-1735290000-1735293600@www.wijkcentrumtewerve.nl
SUMMARY:Yoga
DESCRIPTION:Yogales door docente Carla Mahabier. Meer informatie via 06 – 20 94 38 56. \n 
URL:https://www.wijkcentrumtewerve.nl/activiteit/yoga-2-2/2024-12-27/
LOCATION:Activiteitenruimte 2
END:VEVENT
BEGIN:VEVENT
DTSTART;TZID=Europe/Amsterdam:20241226T133000
DTEND;TZID=Europe/Amsterdam:20241226T164500
DTSTAMP:20260420T230403
CREATED:20240708T115205Z
LAST-MODIFIED:20240708T115206Z
UID:10001346-1735219800-1735231500@www.wijkcentrumtewerve.nl
SUMMARY:Yoga
DESCRIPTION:Yogales door docente Carla Mahabier. Meer informatie via 06 – 20 94 38 56. \n 
URL:https://www.wijkcentrumtewerve.nl/activiteit/yoga-3/2024-12-26/
LOCATION:Activiteitenruimte 2
END:VEVENT
BEGIN:VEVENT
DTSTART;TZID=Europe/Amsterdam:20241220T090000
DTEND;TZID=Europe/Amsterdam:20241220T100000
DTSTAMP:20260420T230403
CREATED:20240708T115210Z
LAST-MODIFIED:20240708T115211Z
UID:10003483-1734685200-1734688800@www.wijkcentrumtewerve.nl
SUMMARY:Yoga
DESCRIPTION:Yogales door docente Carla Mahabier. Meer informatie via 06 – 20 94 38 56. \n 
URL:https://www.wijkcentrumtewerve.nl/activiteit/yoga-2-2/2024-12-20/
LOCATION:Activiteitenruimte 2
END:VEVENT
BEGIN:VEVENT
DTSTART;TZID=Europe/Amsterdam:20241219T133000
DTEND;TZID=Europe/Amsterdam:20241219T164500
DTSTAMP:20260420T230403
CREATED:20240708T115205Z
LAST-MODIFIED:20240708T115206Z
UID:10001345-1734615000-1734626700@www.wijkcentrumtewerve.nl
SUMMARY:Yoga
DESCRIPTION:Yogales door docente Carla Mahabier. Meer informatie via 06 – 20 94 38 56. \n 
URL:https://www.wijkcentrumtewerve.nl/activiteit/yoga-3/2024-12-19/
LOCATION:Activiteitenruimte 2
END:VEVENT
BEGIN:VEVENT
DTSTART;TZID=Europe/Amsterdam:20241213T090000
DTEND;TZID=Europe/Amsterdam:20241213T100000
DTSTAMP:20260420T230403
CREATED:20240708T115210Z
LAST-MODIFIED:20240708T115211Z
UID:10003482-1734080400-1734084000@www.wijkcentrumtewerve.nl
SUMMARY:Yoga
DESCRIPTION:Yogales door docente Carla Mahabier. Meer informatie via 06 – 20 94 38 56. \n 
URL:https://www.wijkcentrumtewerve.nl/activiteit/yoga-2-2/2024-12-13/
LOCATION:Activiteitenruimte 2
END:VEVENT
BEGIN:VEVENT
DTSTART;TZID=Europe/Amsterdam:20241212T133000
DTEND;TZID=Europe/Amsterdam:20241212T164500
DTSTAMP:20260420T230403
CREATED:20240708T115205Z
LAST-MODIFIED:20240708T115206Z
UID:10001344-1734010200-1734021900@www.wijkcentrumtewerve.nl
SUMMARY:Yoga
DESCRIPTION:Yogales door docente Carla Mahabier. Meer informatie via 06 – 20 94 38 56. \n 
URL:https://www.wijkcentrumtewerve.nl/activiteit/yoga-3/2024-12-12/
LOCATION:Activiteitenruimte 2
END:VEVENT
BEGIN:VEVENT
DTSTART;TZID=Europe/Amsterdam:20241206T090000
DTEND;TZID=Europe/Amsterdam:20241206T100000
DTSTAMP:20260420T230403
CREATED:20240708T115210Z
LAST-MODIFIED:20240708T115211Z
UID:10003481-1733475600-1733479200@www.wijkcentrumtewerve.nl
SUMMARY:Yoga
DESCRIPTION:Yogales door docente Carla Mahabier. Meer informatie via 06 – 20 94 38 56. \n 
URL:https://www.wijkcentrumtewerve.nl/activiteit/yoga-2-2/2024-12-06/
LOCATION:Activiteitenruimte 2
END:VEVENT
BEGIN:VEVENT
DTSTART;TZID=Europe/Amsterdam:20241205T133000
DTEND;TZID=Europe/Amsterdam:20241205T164500
DTSTAMP:20260420T230403
CREATED:20240708T115205Z
LAST-MODIFIED:20240708T115206Z
UID:10001343-1733405400-1733417100@www.wijkcentrumtewerve.nl
SUMMARY:Yoga
DESCRIPTION:Yogales door docente Carla Mahabier. Meer informatie via 06 – 20 94 38 56. \n 
URL:https://www.wijkcentrumtewerve.nl/activiteit/yoga-3/2024-12-05/
LOCATION:Activiteitenruimte 2
END:VEVENT
BEGIN:VEVENT
DTSTART;TZID=Europe/Amsterdam:20241129T090000
DTEND;TZID=Europe/Amsterdam:20241129T100000
DTSTAMP:20260420T230403
CREATED:20240708T115210Z
LAST-MODIFIED:20240708T115211Z
UID:10003480-1732870800-1732874400@www.wijkcentrumtewerve.nl
SUMMARY:Yoga
DESCRIPTION:Yogales door docente Carla Mahabier. Meer informatie via 06 – 20 94 38 56. \n 
URL:https://www.wijkcentrumtewerve.nl/activiteit/yoga-2-2/2024-11-29/
LOCATION:Activiteitenruimte 2
END:VEVENT
BEGIN:VEVENT
DTSTART;TZID=Europe/Amsterdam:20241128T133000
DTEND;TZID=Europe/Amsterdam:20241128T164500
DTSTAMP:20260420T230403
CREATED:20240708T115205Z
LAST-MODIFIED:20240708T115206Z
UID:10001342-1732800600-1732812300@www.wijkcentrumtewerve.nl
SUMMARY:Yoga
DESCRIPTION:Yogales door docente Carla Mahabier. Meer informatie via 06 – 20 94 38 56. \n 
URL:https://www.wijkcentrumtewerve.nl/activiteit/yoga-3/2024-11-28/
LOCATION:Activiteitenruimte 2
END:VEVENT
BEGIN:VEVENT
DTSTART;TZID=Europe/Amsterdam:20241122T090000
DTEND;TZID=Europe/Amsterdam:20241122T100000
DTSTAMP:20260420T230403
CREATED:20240708T115210Z
LAST-MODIFIED:20240708T115211Z
UID:10003479-1732266000-1732269600@www.wijkcentrumtewerve.nl
SUMMARY:Yoga
DESCRIPTION:Yogales door docente Carla Mahabier. Meer informatie via 06 – 20 94 38 56. \n 
URL:https://www.wijkcentrumtewerve.nl/activiteit/yoga-2-2/2024-11-22/
LOCATION:Activiteitenruimte 2
END:VEVENT
BEGIN:VEVENT
DTSTART;TZID=Europe/Amsterdam:20241121T133000
DTEND;TZID=Europe/Amsterdam:20241121T164500
DTSTAMP:20260420T230403
CREATED:20240708T115205Z
LAST-MODIFIED:20240708T115206Z
UID:10001341-1732195800-1732207500@www.wijkcentrumtewerve.nl
SUMMARY:Yoga
DESCRIPTION:Yogales door docente Carla Mahabier. Meer informatie via 06 – 20 94 38 56. \n 
URL:https://www.wijkcentrumtewerve.nl/activiteit/yoga-3/2024-11-21/
LOCATION:Activiteitenruimte 2
END:VEVENT
BEGIN:VEVENT
DTSTART;TZID=Europe/Amsterdam:20241115T090000
DTEND;TZID=Europe/Amsterdam:20241115T100000
DTSTAMP:20260420T230403
CREATED:20240708T115210Z
LAST-MODIFIED:20240708T115211Z
UID:10003478-1731661200-1731664800@www.wijkcentrumtewerve.nl
SUMMARY:Yoga
DESCRIPTION:Yogales door docente Carla Mahabier. Meer informatie via 06 – 20 94 38 56. \n 
URL:https://www.wijkcentrumtewerve.nl/activiteit/yoga-2-2/2024-11-15/
LOCATION:Activiteitenruimte 2
END:VEVENT
BEGIN:VEVENT
DTSTART;TZID=Europe/Amsterdam:20241114T133000
DTEND;TZID=Europe/Amsterdam:20241114T164500
DTSTAMP:20260420T230403
CREATED:20240708T115205Z
LAST-MODIFIED:20240708T115206Z
UID:10001340-1731591000-1731602700@www.wijkcentrumtewerve.nl
SUMMARY:Yoga
DESCRIPTION:Yogales door docente Carla Mahabier. Meer informatie via 06 – 20 94 38 56. \n 
URL:https://www.wijkcentrumtewerve.nl/activiteit/yoga-3/2024-11-14/
LOCATION:Activiteitenruimte 2
END:VEVENT
END:VCALENDAR