BEGIN:VCALENDAR
VERSION:2.0
PRODID:-//Wijkcentrum Te Werve - Welzijn Rijswijk - ECPv6.8.2.1//NONSGML v1.0//EN
CALSCALE:GREGORIAN
METHOD:PUBLISH
X-ORIGINAL-URL:https://www.wijkcentrumtewerve.nl
X-WR-CALDESC:Evenementen voor Wijkcentrum Te Werve - Welzijn Rijswijk
REFRESH-INTERVAL;VALUE=DURATION:PT1H
X-Robots-Tag:noindex
X-PUBLISHED-TTL:PT1H
BEGIN:VTIMEZONE
TZID:Europe/Amsterdam
BEGIN:DAYLIGHT
TZOFFSETFROM:+0100
TZOFFSETTO:+0200
TZNAME:CEST
DTSTART:20270328T010000
END:DAYLIGHT
BEGIN:STANDARD
TZOFFSETFROM:+0200
TZOFFSETTO:+0100
TZNAME:CET
DTSTART:20271031T010000
END:STANDARD
END:VTIMEZONE
BEGIN:VEVENT
DTSTART;TZID=Europe/Amsterdam:20270415T133000
DTEND;TZID=Europe/Amsterdam:20270415T164500
DTSTAMP:20260424T192648
CREATED:20240708T115205Z
LAST-MODIFIED:20240708T115206Z
UID:10001466-1807795800-1807807500@www.wijkcentrumtewerve.nl
SUMMARY:Yoga
DESCRIPTION:Yogales door docente Carla Mahabier. Meer informatie via 06 – 20 94 38 56. \n 
URL:https://www.wijkcentrumtewerve.nl/activiteit/yoga-3/2027-04-15/
LOCATION:Activiteitenruimte 2
END:VEVENT
BEGIN:VEVENT
DTSTART;TZID=Europe/Amsterdam:20270416T090000
DTEND;TZID=Europe/Amsterdam:20270416T100000
DTSTAMP:20260424T192648
CREATED:20240708T115210Z
LAST-MODIFIED:20240708T115211Z
UID:10003604-1807866000-1807869600@www.wijkcentrumtewerve.nl
SUMMARY:Yoga
DESCRIPTION:Yogales door docente Carla Mahabier. Meer informatie via 06 – 20 94 38 56. \n 
URL:https://www.wijkcentrumtewerve.nl/activiteit/yoga-2-2/2027-04-16/
LOCATION:Activiteitenruimte 2
END:VEVENT
BEGIN:VEVENT
DTSTART;TZID=Europe/Amsterdam:20270422T133000
DTEND;TZID=Europe/Amsterdam:20270422T164500
DTSTAMP:20260424T192648
CREATED:20240708T115205Z
LAST-MODIFIED:20240708T115206Z
UID:10001467-1808400600-1808412300@www.wijkcentrumtewerve.nl
SUMMARY:Yoga
DESCRIPTION:Yogales door docente Carla Mahabier. Meer informatie via 06 – 20 94 38 56. \n 
URL:https://www.wijkcentrumtewerve.nl/activiteit/yoga-3/2027-04-22/
LOCATION:Activiteitenruimte 2
END:VEVENT
BEGIN:VEVENT
DTSTART;TZID=Europe/Amsterdam:20270423T090000
DTEND;TZID=Europe/Amsterdam:20270423T100000
DTSTAMP:20260424T192648
CREATED:20240708T115210Z
LAST-MODIFIED:20240708T115211Z
UID:10003605-1808470800-1808474400@www.wijkcentrumtewerve.nl
SUMMARY:Yoga
DESCRIPTION:Yogales door docente Carla Mahabier. Meer informatie via 06 – 20 94 38 56. \n 
URL:https://www.wijkcentrumtewerve.nl/activiteit/yoga-2-2/2027-04-23/
LOCATION:Activiteitenruimte 2
END:VEVENT
BEGIN:VEVENT
DTSTART;TZID=Europe/Amsterdam:20270429T133000
DTEND;TZID=Europe/Amsterdam:20270429T164500
DTSTAMP:20260424T192648
CREATED:20240708T115205Z
LAST-MODIFIED:20240708T115206Z
UID:10001468-1809005400-1809017100@www.wijkcentrumtewerve.nl
SUMMARY:Yoga
DESCRIPTION:Yogales door docente Carla Mahabier. Meer informatie via 06 – 20 94 38 56. \n 
URL:https://www.wijkcentrumtewerve.nl/activiteit/yoga-3/2027-04-29/
LOCATION:Activiteitenruimte 2
END:VEVENT
BEGIN:VEVENT
DTSTART;TZID=Europe/Amsterdam:20270430T090000
DTEND;TZID=Europe/Amsterdam:20270430T100000
DTSTAMP:20260424T192648
CREATED:20240708T115210Z
LAST-MODIFIED:20240708T115211Z
UID:10003606-1809075600-1809079200@www.wijkcentrumtewerve.nl
SUMMARY:Yoga
DESCRIPTION:Yogales door docente Carla Mahabier. Meer informatie via 06 – 20 94 38 56. \n 
URL:https://www.wijkcentrumtewerve.nl/activiteit/yoga-2-2/2027-04-30/
LOCATION:Activiteitenruimte 2
END:VEVENT
BEGIN:VEVENT
DTSTART;TZID=Europe/Amsterdam:20270506T133000
DTEND;TZID=Europe/Amsterdam:20270506T164500
DTSTAMP:20260424T192648
CREATED:20240708T115205Z
LAST-MODIFIED:20240708T115206Z
UID:10001469-1809610200-1809621900@www.wijkcentrumtewerve.nl
SUMMARY:Yoga
DESCRIPTION:Yogales door docente Carla Mahabier. Meer informatie via 06 – 20 94 38 56. \n 
URL:https://www.wijkcentrumtewerve.nl/activiteit/yoga-3/2027-05-06/
LOCATION:Activiteitenruimte 2
END:VEVENT
BEGIN:VEVENT
DTSTART;TZID=Europe/Amsterdam:20270507T090000
DTEND;TZID=Europe/Amsterdam:20270507T100000
DTSTAMP:20260424T192648
CREATED:20240708T115210Z
LAST-MODIFIED:20240708T115211Z
UID:10003607-1809680400-1809684000@www.wijkcentrumtewerve.nl
SUMMARY:Yoga
DESCRIPTION:Yogales door docente Carla Mahabier. Meer informatie via 06 – 20 94 38 56. \n 
URL:https://www.wijkcentrumtewerve.nl/activiteit/yoga-2-2/2027-05-07/
LOCATION:Activiteitenruimte 2
END:VEVENT
BEGIN:VEVENT
DTSTART;TZID=Europe/Amsterdam:20270513T133000
DTEND;TZID=Europe/Amsterdam:20270513T164500
DTSTAMP:20260424T192648
CREATED:20240708T115205Z
LAST-MODIFIED:20240708T115206Z
UID:10001470-1810215000-1810226700@www.wijkcentrumtewerve.nl
SUMMARY:Yoga
DESCRIPTION:Yogales door docente Carla Mahabier. Meer informatie via 06 – 20 94 38 56. \n 
URL:https://www.wijkcentrumtewerve.nl/activiteit/yoga-3/2027-05-13/
LOCATION:Activiteitenruimte 2
END:VEVENT
BEGIN:VEVENT
DTSTART;TZID=Europe/Amsterdam:20270514T090000
DTEND;TZID=Europe/Amsterdam:20270514T100000
DTSTAMP:20260424T192648
CREATED:20240708T115210Z
LAST-MODIFIED:20240708T115211Z
UID:10003608-1810285200-1810288800@www.wijkcentrumtewerve.nl
SUMMARY:Yoga
DESCRIPTION:Yogales door docente Carla Mahabier. Meer informatie via 06 – 20 94 38 56. \n 
URL:https://www.wijkcentrumtewerve.nl/activiteit/yoga-2-2/2027-05-14/
LOCATION:Activiteitenruimte 2
END:VEVENT
BEGIN:VEVENT
DTSTART;TZID=Europe/Amsterdam:20270520T133000
DTEND;TZID=Europe/Amsterdam:20270520T164500
DTSTAMP:20260424T192648
CREATED:20240708T115205Z
LAST-MODIFIED:20240708T115206Z
UID:10001471-1810819800-1810831500@www.wijkcentrumtewerve.nl
SUMMARY:Yoga
DESCRIPTION:Yogales door docente Carla Mahabier. Meer informatie via 06 – 20 94 38 56. \n 
URL:https://www.wijkcentrumtewerve.nl/activiteit/yoga-3/2027-05-20/
LOCATION:Activiteitenruimte 2
END:VEVENT
BEGIN:VEVENT
DTSTART;TZID=Europe/Amsterdam:20270521T090000
DTEND;TZID=Europe/Amsterdam:20270521T100000
DTSTAMP:20260424T192648
CREATED:20240708T115210Z
LAST-MODIFIED:20240708T115211Z
UID:10003609-1810890000-1810893600@www.wijkcentrumtewerve.nl
SUMMARY:Yoga
DESCRIPTION:Yogales door docente Carla Mahabier. Meer informatie via 06 – 20 94 38 56. \n 
URL:https://www.wijkcentrumtewerve.nl/activiteit/yoga-2-2/2027-05-21/
LOCATION:Activiteitenruimte 2
END:VEVENT
BEGIN:VEVENT
DTSTART;TZID=Europe/Amsterdam:20270527T133000
DTEND;TZID=Europe/Amsterdam:20270527T164500
DTSTAMP:20260424T192648
CREATED:20240708T115205Z
LAST-MODIFIED:20240708T115206Z
UID:10001472-1811424600-1811436300@www.wijkcentrumtewerve.nl
SUMMARY:Yoga
DESCRIPTION:Yogales door docente Carla Mahabier. Meer informatie via 06 – 20 94 38 56. \n 
URL:https://www.wijkcentrumtewerve.nl/activiteit/yoga-3/2027-05-27/
LOCATION:Activiteitenruimte 2
END:VEVENT
BEGIN:VEVENT
DTSTART;TZID=Europe/Amsterdam:20270528T090000
DTEND;TZID=Europe/Amsterdam:20270528T100000
DTSTAMP:20260424T192648
CREATED:20240708T115210Z
LAST-MODIFIED:20240708T115211Z
UID:10003610-1811494800-1811498400@www.wijkcentrumtewerve.nl
SUMMARY:Yoga
DESCRIPTION:Yogales door docente Carla Mahabier. Meer informatie via 06 – 20 94 38 56. \n 
URL:https://www.wijkcentrumtewerve.nl/activiteit/yoga-2-2/2027-05-28/
LOCATION:Activiteitenruimte 2
END:VEVENT
BEGIN:VEVENT
DTSTART;TZID=Europe/Amsterdam:20270603T133000
DTEND;TZID=Europe/Amsterdam:20270603T164500
DTSTAMP:20260424T192648
CREATED:20240708T115205Z
LAST-MODIFIED:20240708T115206Z
UID:10001473-1812029400-1812041100@www.wijkcentrumtewerve.nl
SUMMARY:Yoga
DESCRIPTION:Yogales door docente Carla Mahabier. Meer informatie via 06 – 20 94 38 56. \n 
URL:https://www.wijkcentrumtewerve.nl/activiteit/yoga-3/2027-06-03/
LOCATION:Activiteitenruimte 2
END:VEVENT
BEGIN:VEVENT
DTSTART;TZID=Europe/Amsterdam:20270604T090000
DTEND;TZID=Europe/Amsterdam:20270604T100000
DTSTAMP:20260424T192648
CREATED:20240708T115210Z
LAST-MODIFIED:20240708T115211Z
UID:10003611-1812099600-1812103200@www.wijkcentrumtewerve.nl
SUMMARY:Yoga
DESCRIPTION:Yogales door docente Carla Mahabier. Meer informatie via 06 – 20 94 38 56. \n 
URL:https://www.wijkcentrumtewerve.nl/activiteit/yoga-2-2/2027-06-04/
LOCATION:Activiteitenruimte 2
END:VEVENT
BEGIN:VEVENT
DTSTART;TZID=Europe/Amsterdam:20270610T133000
DTEND;TZID=Europe/Amsterdam:20270610T164500
DTSTAMP:20260424T192648
CREATED:20240708T115205Z
LAST-MODIFIED:20240708T115206Z
UID:10001474-1812634200-1812645900@www.wijkcentrumtewerve.nl
SUMMARY:Yoga
DESCRIPTION:Yogales door docente Carla Mahabier. Meer informatie via 06 – 20 94 38 56. \n 
URL:https://www.wijkcentrumtewerve.nl/activiteit/yoga-3/2027-06-10/
LOCATION:Activiteitenruimte 2
END:VEVENT
BEGIN:VEVENT
DTSTART;TZID=Europe/Amsterdam:20270611T090000
DTEND;TZID=Europe/Amsterdam:20270611T100000
DTSTAMP:20260424T192648
CREATED:20240708T115210Z
LAST-MODIFIED:20240708T115211Z
UID:10003612-1812704400-1812708000@www.wijkcentrumtewerve.nl
SUMMARY:Yoga
DESCRIPTION:Yogales door docente Carla Mahabier. Meer informatie via 06 – 20 94 38 56. \n 
URL:https://www.wijkcentrumtewerve.nl/activiteit/yoga-2-2/2027-06-11/
LOCATION:Activiteitenruimte 2
END:VEVENT
BEGIN:VEVENT
DTSTART;TZID=Europe/Amsterdam:20270617T133000
DTEND;TZID=Europe/Amsterdam:20270617T164500
DTSTAMP:20260424T192648
CREATED:20240708T115205Z
LAST-MODIFIED:20240708T115206Z
UID:10001475-1813239000-1813250700@www.wijkcentrumtewerve.nl
SUMMARY:Yoga
DESCRIPTION:Yogales door docente Carla Mahabier. Meer informatie via 06 – 20 94 38 56. \n 
URL:https://www.wijkcentrumtewerve.nl/activiteit/yoga-3/2027-06-17/
LOCATION:Activiteitenruimte 2
END:VEVENT
BEGIN:VEVENT
DTSTART;TZID=Europe/Amsterdam:20270618T090000
DTEND;TZID=Europe/Amsterdam:20270618T100000
DTSTAMP:20260424T192648
CREATED:20240708T115210Z
LAST-MODIFIED:20240708T115211Z
UID:10003613-1813309200-1813312800@www.wijkcentrumtewerve.nl
SUMMARY:Yoga
DESCRIPTION:Yogales door docente Carla Mahabier. Meer informatie via 06 – 20 94 38 56. \n 
URL:https://www.wijkcentrumtewerve.nl/activiteit/yoga-2-2/2027-06-18/
LOCATION:Activiteitenruimte 2
END:VEVENT
BEGIN:VEVENT
DTSTART;TZID=Europe/Amsterdam:20270624T133000
DTEND;TZID=Europe/Amsterdam:20270624T164500
DTSTAMP:20260424T192648
CREATED:20240708T115205Z
LAST-MODIFIED:20240708T115206Z
UID:10001476-1813843800-1813855500@www.wijkcentrumtewerve.nl
SUMMARY:Yoga
DESCRIPTION:Yogales door docente Carla Mahabier. Meer informatie via 06 – 20 94 38 56. \n 
URL:https://www.wijkcentrumtewerve.nl/activiteit/yoga-3/2027-06-24/
LOCATION:Activiteitenruimte 2
END:VEVENT
BEGIN:VEVENT
DTSTART;TZID=Europe/Amsterdam:20270625T090000
DTEND;TZID=Europe/Amsterdam:20270625T100000
DTSTAMP:20260424T192648
CREATED:20240708T115210Z
LAST-MODIFIED:20240708T115211Z
UID:10003614-1813914000-1813917600@www.wijkcentrumtewerve.nl
SUMMARY:Yoga
DESCRIPTION:Yogales door docente Carla Mahabier. Meer informatie via 06 – 20 94 38 56. \n 
URL:https://www.wijkcentrumtewerve.nl/activiteit/yoga-2-2/2027-06-25/
LOCATION:Activiteitenruimte 2
END:VEVENT
BEGIN:VEVENT
DTSTART;TZID=Europe/Amsterdam:20270701T133000
DTEND;TZID=Europe/Amsterdam:20270701T164500
DTSTAMP:20260424T192648
CREATED:20240708T115205Z
LAST-MODIFIED:20240708T115206Z
UID:10001477-1814448600-1814460300@www.wijkcentrumtewerve.nl
SUMMARY:Yoga
DESCRIPTION:Yogales door docente Carla Mahabier. Meer informatie via 06 – 20 94 38 56. \n 
URL:https://www.wijkcentrumtewerve.nl/activiteit/yoga-3/2027-07-01/
LOCATION:Activiteitenruimte 2
END:VEVENT
BEGIN:VEVENT
DTSTART;TZID=Europe/Amsterdam:20270702T090000
DTEND;TZID=Europe/Amsterdam:20270702T100000
DTSTAMP:20260424T192648
CREATED:20240708T115210Z
LAST-MODIFIED:20240708T115211Z
UID:10003615-1814518800-1814522400@www.wijkcentrumtewerve.nl
SUMMARY:Yoga
DESCRIPTION:Yogales door docente Carla Mahabier. Meer informatie via 06 – 20 94 38 56. \n 
URL:https://www.wijkcentrumtewerve.nl/activiteit/yoga-2-2/2027-07-02/
LOCATION:Activiteitenruimte 2
END:VEVENT
BEGIN:VEVENT
DTSTART;TZID=Europe/Amsterdam:20270708T133000
DTEND;TZID=Europe/Amsterdam:20270708T164500
DTSTAMP:20260424T192648
CREATED:20240708T115205Z
LAST-MODIFIED:20240708T115206Z
UID:10001478-1815053400-1815065100@www.wijkcentrumtewerve.nl
SUMMARY:Yoga
DESCRIPTION:Yogales door docente Carla Mahabier. Meer informatie via 06 – 20 94 38 56. \n 
URL:https://www.wijkcentrumtewerve.nl/activiteit/yoga-3/2027-07-08/
LOCATION:Activiteitenruimte 2
END:VEVENT
BEGIN:VEVENT
DTSTART;TZID=Europe/Amsterdam:20270709T090000
DTEND;TZID=Europe/Amsterdam:20270709T100000
DTSTAMP:20260424T192648
CREATED:20240708T115210Z
LAST-MODIFIED:20240708T115211Z
UID:10003616-1815123600-1815127200@www.wijkcentrumtewerve.nl
SUMMARY:Yoga
DESCRIPTION:Yogales door docente Carla Mahabier. Meer informatie via 06 – 20 94 38 56. \n 
URL:https://www.wijkcentrumtewerve.nl/activiteit/yoga-2-2/2027-07-09/
LOCATION:Activiteitenruimte 2
END:VEVENT
BEGIN:VEVENT
DTSTART;TZID=Europe/Amsterdam:20270715T133000
DTEND;TZID=Europe/Amsterdam:20270715T164500
DTSTAMP:20260424T192648
CREATED:20240708T115205Z
LAST-MODIFIED:20240708T115206Z
UID:10001479-1815658200-1815669900@www.wijkcentrumtewerve.nl
SUMMARY:Yoga
DESCRIPTION:Yogales door docente Carla Mahabier. Meer informatie via 06 – 20 94 38 56. \n 
URL:https://www.wijkcentrumtewerve.nl/activiteit/yoga-3/2027-07-15/
LOCATION:Activiteitenruimte 2
END:VEVENT
BEGIN:VEVENT
DTSTART;TZID=Europe/Amsterdam:20270716T090000
DTEND;TZID=Europe/Amsterdam:20270716T100000
DTSTAMP:20260424T192648
CREATED:20240708T115210Z
LAST-MODIFIED:20240708T115211Z
UID:10003617-1815728400-1815732000@www.wijkcentrumtewerve.nl
SUMMARY:Yoga
DESCRIPTION:Yogales door docente Carla Mahabier. Meer informatie via 06 – 20 94 38 56. \n 
URL:https://www.wijkcentrumtewerve.nl/activiteit/yoga-2-2/2027-07-16/
LOCATION:Activiteitenruimte 2
END:VEVENT
BEGIN:VEVENT
DTSTART;TZID=Europe/Amsterdam:20270722T133000
DTEND;TZID=Europe/Amsterdam:20270722T164500
DTSTAMP:20260424T192648
CREATED:20240708T115205Z
LAST-MODIFIED:20240708T115206Z
UID:10001480-1816263000-1816274700@www.wijkcentrumtewerve.nl
SUMMARY:Yoga
DESCRIPTION:Yogales door docente Carla Mahabier. Meer informatie via 06 – 20 94 38 56. \n 
URL:https://www.wijkcentrumtewerve.nl/activiteit/yoga-3/2027-07-22/
LOCATION:Activiteitenruimte 2
END:VEVENT
BEGIN:VEVENT
DTSTART;TZID=Europe/Amsterdam:20270723T090000
DTEND;TZID=Europe/Amsterdam:20270723T100000
DTSTAMP:20260424T192648
CREATED:20240708T115210Z
LAST-MODIFIED:20240708T115211Z
UID:10003618-1816333200-1816336800@www.wijkcentrumtewerve.nl
SUMMARY:Yoga
DESCRIPTION:Yogales door docente Carla Mahabier. Meer informatie via 06 – 20 94 38 56. \n 
URL:https://www.wijkcentrumtewerve.nl/activiteit/yoga-2-2/2027-07-23/
LOCATION:Activiteitenruimte 2
END:VEVENT
END:VCALENDAR