BEGIN:VCALENDAR
VERSION:2.0
PRODID:-//Wijkcentrum Te Werve - Welzijn Rijswijk - ECPv6.8.2.1//NONSGML v1.0//EN
CALSCALE:GREGORIAN
METHOD:PUBLISH
X-WR-CALNAME:Wijkcentrum Te Werve - Welzijn Rijswijk
X-ORIGINAL-URL:https://www.wijkcentrumtewerve.nl
X-WR-CALDESC:Evenementen voor Wijkcentrum Te Werve - Welzijn Rijswijk
REFRESH-INTERVAL;VALUE=DURATION:PT1H
X-Robots-Tag:noindex
X-PUBLISHED-TTL:PT1H
BEGIN:VTIMEZONE
TZID:Europe/Amsterdam
BEGIN:DAYLIGHT
TZOFFSETFROM:+0100
TZOFFSETTO:+0200
TZNAME:CEST
DTSTART:20260329T010000
END:DAYLIGHT
BEGIN:STANDARD
TZOFFSETFROM:+0200
TZOFFSETTO:+0100
TZNAME:CET
DTSTART:20261025T010000
END:STANDARD
BEGIN:DAYLIGHT
TZOFFSETFROM:+0100
TZOFFSETTO:+0200
TZNAME:CEST
DTSTART:20270328T010000
END:DAYLIGHT
BEGIN:STANDARD
TZOFFSETFROM:+0200
TZOFFSETTO:+0100
TZNAME:CET
DTSTART:20271031T010000
END:STANDARD
END:VTIMEZONE
BEGIN:VEVENT
DTSTART;TZID=Europe/Amsterdam:20261126T133000
DTEND;TZID=Europe/Amsterdam:20261126T164500
DTSTAMP:20260424T164331
CREATED:20240708T115205Z
LAST-MODIFIED:20240708T115206Z
UID:10001446-1795699800-1795711500@www.wijkcentrumtewerve.nl
SUMMARY:Yoga
DESCRIPTION:Yogales door docente Carla Mahabier. Meer informatie via 06 – 20 94 38 56. \n 
URL:https://www.wijkcentrumtewerve.nl/activiteit/yoga-3/2026-11-26/
LOCATION:Activiteitenruimte 2
END:VEVENT
BEGIN:VEVENT
DTSTART;TZID=Europe/Amsterdam:20261127T090000
DTEND;TZID=Europe/Amsterdam:20261127T100000
DTSTAMP:20260424T164331
CREATED:20240708T115210Z
LAST-MODIFIED:20240708T115211Z
UID:10003584-1795770000-1795773600@www.wijkcentrumtewerve.nl
SUMMARY:Yoga
DESCRIPTION:Yogales door docente Carla Mahabier. Meer informatie via 06 – 20 94 38 56. \n 
URL:https://www.wijkcentrumtewerve.nl/activiteit/yoga-2-2/2026-11-27/
LOCATION:Activiteitenruimte 2
END:VEVENT
BEGIN:VEVENT
DTSTART;TZID=Europe/Amsterdam:20261203T133000
DTEND;TZID=Europe/Amsterdam:20261203T164500
DTSTAMP:20260424T164331
CREATED:20240708T115205Z
LAST-MODIFIED:20240708T115206Z
UID:10001447-1796304600-1796316300@www.wijkcentrumtewerve.nl
SUMMARY:Yoga
DESCRIPTION:Yogales door docente Carla Mahabier. Meer informatie via 06 – 20 94 38 56. \n 
URL:https://www.wijkcentrumtewerve.nl/activiteit/yoga-3/2026-12-03/
LOCATION:Activiteitenruimte 2
END:VEVENT
BEGIN:VEVENT
DTSTART;TZID=Europe/Amsterdam:20261204T090000
DTEND;TZID=Europe/Amsterdam:20261204T100000
DTSTAMP:20260424T164331
CREATED:20240708T115210Z
LAST-MODIFIED:20240708T115211Z
UID:10003585-1796374800-1796378400@www.wijkcentrumtewerve.nl
SUMMARY:Yoga
DESCRIPTION:Yogales door docente Carla Mahabier. Meer informatie via 06 – 20 94 38 56. \n 
URL:https://www.wijkcentrumtewerve.nl/activiteit/yoga-2-2/2026-12-04/
LOCATION:Activiteitenruimte 2
END:VEVENT
BEGIN:VEVENT
DTSTART;TZID=Europe/Amsterdam:20261210T133000
DTEND;TZID=Europe/Amsterdam:20261210T164500
DTSTAMP:20260424T164331
CREATED:20240708T115205Z
LAST-MODIFIED:20240708T115206Z
UID:10001448-1796909400-1796921100@www.wijkcentrumtewerve.nl
SUMMARY:Yoga
DESCRIPTION:Yogales door docente Carla Mahabier. Meer informatie via 06 – 20 94 38 56. \n 
URL:https://www.wijkcentrumtewerve.nl/activiteit/yoga-3/2026-12-10/
LOCATION:Activiteitenruimte 2
END:VEVENT
BEGIN:VEVENT
DTSTART;TZID=Europe/Amsterdam:20261211T090000
DTEND;TZID=Europe/Amsterdam:20261211T100000
DTSTAMP:20260424T164331
CREATED:20240708T115210Z
LAST-MODIFIED:20240708T115211Z
UID:10003586-1796979600-1796983200@www.wijkcentrumtewerve.nl
SUMMARY:Yoga
DESCRIPTION:Yogales door docente Carla Mahabier. Meer informatie via 06 – 20 94 38 56. \n 
URL:https://www.wijkcentrumtewerve.nl/activiteit/yoga-2-2/2026-12-11/
LOCATION:Activiteitenruimte 2
END:VEVENT
BEGIN:VEVENT
DTSTART;TZID=Europe/Amsterdam:20261217T133000
DTEND;TZID=Europe/Amsterdam:20261217T164500
DTSTAMP:20260424T164331
CREATED:20240708T115205Z
LAST-MODIFIED:20240708T115206Z
UID:10001449-1797514200-1797525900@www.wijkcentrumtewerve.nl
SUMMARY:Yoga
DESCRIPTION:Yogales door docente Carla Mahabier. Meer informatie via 06 – 20 94 38 56. \n 
URL:https://www.wijkcentrumtewerve.nl/activiteit/yoga-3/2026-12-17/
LOCATION:Activiteitenruimte 2
END:VEVENT
BEGIN:VEVENT
DTSTART;TZID=Europe/Amsterdam:20261218T090000
DTEND;TZID=Europe/Amsterdam:20261218T100000
DTSTAMP:20260424T164331
CREATED:20240708T115210Z
LAST-MODIFIED:20240708T115211Z
UID:10003587-1797584400-1797588000@www.wijkcentrumtewerve.nl
SUMMARY:Yoga
DESCRIPTION:Yogales door docente Carla Mahabier. Meer informatie via 06 – 20 94 38 56. \n 
URL:https://www.wijkcentrumtewerve.nl/activiteit/yoga-2-2/2026-12-18/
LOCATION:Activiteitenruimte 2
END:VEVENT
BEGIN:VEVENT
DTSTART;TZID=Europe/Amsterdam:20261224T133000
DTEND;TZID=Europe/Amsterdam:20261224T164500
DTSTAMP:20260424T164331
CREATED:20240708T115205Z
LAST-MODIFIED:20240708T115206Z
UID:10001450-1798119000-1798130700@www.wijkcentrumtewerve.nl
SUMMARY:Yoga
DESCRIPTION:Yogales door docente Carla Mahabier. Meer informatie via 06 – 20 94 38 56. \n 
URL:https://www.wijkcentrumtewerve.nl/activiteit/yoga-3/2026-12-24/
LOCATION:Activiteitenruimte 2
END:VEVENT
BEGIN:VEVENT
DTSTART;TZID=Europe/Amsterdam:20261225T090000
DTEND;TZID=Europe/Amsterdam:20261225T100000
DTSTAMP:20260424T164331
CREATED:20240708T115210Z
LAST-MODIFIED:20240708T115211Z
UID:10003588-1798189200-1798192800@www.wijkcentrumtewerve.nl
SUMMARY:Yoga
DESCRIPTION:Yogales door docente Carla Mahabier. Meer informatie via 06 – 20 94 38 56. \n 
URL:https://www.wijkcentrumtewerve.nl/activiteit/yoga-2-2/2026-12-25/
LOCATION:Activiteitenruimte 2
END:VEVENT
BEGIN:VEVENT
DTSTART;TZID=Europe/Amsterdam:20261231T133000
DTEND;TZID=Europe/Amsterdam:20261231T164500
DTSTAMP:20260424T164331
CREATED:20240708T115205Z
LAST-MODIFIED:20240708T115206Z
UID:10001451-1798723800-1798735500@www.wijkcentrumtewerve.nl
SUMMARY:Yoga
DESCRIPTION:Yogales door docente Carla Mahabier. Meer informatie via 06 – 20 94 38 56. \n 
URL:https://www.wijkcentrumtewerve.nl/activiteit/yoga-3/2026-12-31/
LOCATION:Activiteitenruimte 2
END:VEVENT
BEGIN:VEVENT
DTSTART;TZID=Europe/Amsterdam:20270101T090000
DTEND;TZID=Europe/Amsterdam:20270101T100000
DTSTAMP:20260424T164331
CREATED:20240708T115210Z
LAST-MODIFIED:20240708T115211Z
UID:10003589-1798794000-1798797600@www.wijkcentrumtewerve.nl
SUMMARY:Yoga
DESCRIPTION:Yogales door docente Carla Mahabier. Meer informatie via 06 – 20 94 38 56. \n 
URL:https://www.wijkcentrumtewerve.nl/activiteit/yoga-2-2/2027-01-01/
LOCATION:Activiteitenruimte 2
END:VEVENT
BEGIN:VEVENT
DTSTART;TZID=Europe/Amsterdam:20270107T133000
DTEND;TZID=Europe/Amsterdam:20270107T164500
DTSTAMP:20260424T164332
CREATED:20240708T115205Z
LAST-MODIFIED:20240708T115206Z
UID:10001452-1799328600-1799340300@www.wijkcentrumtewerve.nl
SUMMARY:Yoga
DESCRIPTION:Yogales door docente Carla Mahabier. Meer informatie via 06 – 20 94 38 56. \n 
URL:https://www.wijkcentrumtewerve.nl/activiteit/yoga-3/2027-01-07/
LOCATION:Activiteitenruimte 2
END:VEVENT
BEGIN:VEVENT
DTSTART;TZID=Europe/Amsterdam:20270108T090000
DTEND;TZID=Europe/Amsterdam:20270108T100000
DTSTAMP:20260424T164332
CREATED:20240708T115210Z
LAST-MODIFIED:20240708T115211Z
UID:10003590-1799398800-1799402400@www.wijkcentrumtewerve.nl
SUMMARY:Yoga
DESCRIPTION:Yogales door docente Carla Mahabier. Meer informatie via 06 – 20 94 38 56. \n 
URL:https://www.wijkcentrumtewerve.nl/activiteit/yoga-2-2/2027-01-08/
LOCATION:Activiteitenruimte 2
END:VEVENT
BEGIN:VEVENT
DTSTART;TZID=Europe/Amsterdam:20270114T133000
DTEND;TZID=Europe/Amsterdam:20270114T164500
DTSTAMP:20260424T164332
CREATED:20240708T115205Z
LAST-MODIFIED:20240708T115206Z
UID:10001453-1799933400-1799945100@www.wijkcentrumtewerve.nl
SUMMARY:Yoga
DESCRIPTION:Yogales door docente Carla Mahabier. Meer informatie via 06 – 20 94 38 56. \n 
URL:https://www.wijkcentrumtewerve.nl/activiteit/yoga-3/2027-01-14/
LOCATION:Activiteitenruimte 2
END:VEVENT
BEGIN:VEVENT
DTSTART;TZID=Europe/Amsterdam:20270115T090000
DTEND;TZID=Europe/Amsterdam:20270115T100000
DTSTAMP:20260424T164332
CREATED:20240708T115210Z
LAST-MODIFIED:20240708T115211Z
UID:10003591-1800003600-1800007200@www.wijkcentrumtewerve.nl
SUMMARY:Yoga
DESCRIPTION:Yogales door docente Carla Mahabier. Meer informatie via 06 – 20 94 38 56. \n 
URL:https://www.wijkcentrumtewerve.nl/activiteit/yoga-2-2/2027-01-15/
LOCATION:Activiteitenruimte 2
END:VEVENT
BEGIN:VEVENT
DTSTART;TZID=Europe/Amsterdam:20270121T133000
DTEND;TZID=Europe/Amsterdam:20270121T164500
DTSTAMP:20260424T164332
CREATED:20240708T115205Z
LAST-MODIFIED:20240708T115206Z
UID:10001454-1800538200-1800549900@www.wijkcentrumtewerve.nl
SUMMARY:Yoga
DESCRIPTION:Yogales door docente Carla Mahabier. Meer informatie via 06 – 20 94 38 56. \n 
URL:https://www.wijkcentrumtewerve.nl/activiteit/yoga-3/2027-01-21/
LOCATION:Activiteitenruimte 2
END:VEVENT
BEGIN:VEVENT
DTSTART;TZID=Europe/Amsterdam:20270122T090000
DTEND;TZID=Europe/Amsterdam:20270122T100000
DTSTAMP:20260424T164332
CREATED:20240708T115210Z
LAST-MODIFIED:20240708T115211Z
UID:10003592-1800608400-1800612000@www.wijkcentrumtewerve.nl
SUMMARY:Yoga
DESCRIPTION:Yogales door docente Carla Mahabier. Meer informatie via 06 – 20 94 38 56. \n 
URL:https://www.wijkcentrumtewerve.nl/activiteit/yoga-2-2/2027-01-22/
LOCATION:Activiteitenruimte 2
END:VEVENT
BEGIN:VEVENT
DTSTART;TZID=Europe/Amsterdam:20270128T133000
DTEND;TZID=Europe/Amsterdam:20270128T164500
DTSTAMP:20260424T164332
CREATED:20240708T115205Z
LAST-MODIFIED:20240708T115206Z
UID:10001455-1801143000-1801154700@www.wijkcentrumtewerve.nl
SUMMARY:Yoga
DESCRIPTION:Yogales door docente Carla Mahabier. Meer informatie via 06 – 20 94 38 56. \n 
URL:https://www.wijkcentrumtewerve.nl/activiteit/yoga-3/2027-01-28/
LOCATION:Activiteitenruimte 2
END:VEVENT
BEGIN:VEVENT
DTSTART;TZID=Europe/Amsterdam:20270129T090000
DTEND;TZID=Europe/Amsterdam:20270129T100000
DTSTAMP:20260424T164332
CREATED:20240708T115210Z
LAST-MODIFIED:20240708T115211Z
UID:10003593-1801213200-1801216800@www.wijkcentrumtewerve.nl
SUMMARY:Yoga
DESCRIPTION:Yogales door docente Carla Mahabier. Meer informatie via 06 – 20 94 38 56. \n 
URL:https://www.wijkcentrumtewerve.nl/activiteit/yoga-2-2/2027-01-29/
LOCATION:Activiteitenruimte 2
END:VEVENT
BEGIN:VEVENT
DTSTART;TZID=Europe/Amsterdam:20270204T133000
DTEND;TZID=Europe/Amsterdam:20270204T164500
DTSTAMP:20260424T164332
CREATED:20240708T115205Z
LAST-MODIFIED:20240708T115206Z
UID:10001456-1801747800-1801759500@www.wijkcentrumtewerve.nl
SUMMARY:Yoga
DESCRIPTION:Yogales door docente Carla Mahabier. Meer informatie via 06 – 20 94 38 56. \n 
URL:https://www.wijkcentrumtewerve.nl/activiteit/yoga-3/2027-02-04/
LOCATION:Activiteitenruimte 2
END:VEVENT
BEGIN:VEVENT
DTSTART;TZID=Europe/Amsterdam:20270205T090000
DTEND;TZID=Europe/Amsterdam:20270205T100000
DTSTAMP:20260424T164332
CREATED:20240708T115210Z
LAST-MODIFIED:20240708T115211Z
UID:10003594-1801818000-1801821600@www.wijkcentrumtewerve.nl
SUMMARY:Yoga
DESCRIPTION:Yogales door docente Carla Mahabier. Meer informatie via 06 – 20 94 38 56. \n 
URL:https://www.wijkcentrumtewerve.nl/activiteit/yoga-2-2/2027-02-05/
LOCATION:Activiteitenruimte 2
END:VEVENT
BEGIN:VEVENT
DTSTART;TZID=Europe/Amsterdam:20270211T133000
DTEND;TZID=Europe/Amsterdam:20270211T164500
DTSTAMP:20260424T164332
CREATED:20240708T115205Z
LAST-MODIFIED:20240708T115206Z
UID:10001457-1802352600-1802364300@www.wijkcentrumtewerve.nl
SUMMARY:Yoga
DESCRIPTION:Yogales door docente Carla Mahabier. Meer informatie via 06 – 20 94 38 56. \n 
URL:https://www.wijkcentrumtewerve.nl/activiteit/yoga-3/2027-02-11/
LOCATION:Activiteitenruimte 2
END:VEVENT
BEGIN:VEVENT
DTSTART;TZID=Europe/Amsterdam:20270212T090000
DTEND;TZID=Europe/Amsterdam:20270212T100000
DTSTAMP:20260424T164332
CREATED:20240708T115210Z
LAST-MODIFIED:20240708T115211Z
UID:10003595-1802422800-1802426400@www.wijkcentrumtewerve.nl
SUMMARY:Yoga
DESCRIPTION:Yogales door docente Carla Mahabier. Meer informatie via 06 – 20 94 38 56. \n 
URL:https://www.wijkcentrumtewerve.nl/activiteit/yoga-2-2/2027-02-12/
LOCATION:Activiteitenruimte 2
END:VEVENT
BEGIN:VEVENT
DTSTART;TZID=Europe/Amsterdam:20270218T133000
DTEND;TZID=Europe/Amsterdam:20270218T164500
DTSTAMP:20260424T164332
CREATED:20240708T115205Z
LAST-MODIFIED:20240708T115206Z
UID:10001458-1802957400-1802969100@www.wijkcentrumtewerve.nl
SUMMARY:Yoga
DESCRIPTION:Yogales door docente Carla Mahabier. Meer informatie via 06 – 20 94 38 56. \n 
URL:https://www.wijkcentrumtewerve.nl/activiteit/yoga-3/2027-02-18/
LOCATION:Activiteitenruimte 2
END:VEVENT
BEGIN:VEVENT
DTSTART;TZID=Europe/Amsterdam:20270219T090000
DTEND;TZID=Europe/Amsterdam:20270219T100000
DTSTAMP:20260424T164332
CREATED:20240708T115210Z
LAST-MODIFIED:20240708T115211Z
UID:10003596-1803027600-1803031200@www.wijkcentrumtewerve.nl
SUMMARY:Yoga
DESCRIPTION:Yogales door docente Carla Mahabier. Meer informatie via 06 – 20 94 38 56. \n 
URL:https://www.wijkcentrumtewerve.nl/activiteit/yoga-2-2/2027-02-19/
LOCATION:Activiteitenruimte 2
END:VEVENT
BEGIN:VEVENT
DTSTART;TZID=Europe/Amsterdam:20270225T133000
DTEND;TZID=Europe/Amsterdam:20270225T164500
DTSTAMP:20260424T164332
CREATED:20240708T115205Z
LAST-MODIFIED:20240708T115206Z
UID:10001459-1803562200-1803573900@www.wijkcentrumtewerve.nl
SUMMARY:Yoga
DESCRIPTION:Yogales door docente Carla Mahabier. Meer informatie via 06 – 20 94 38 56. \n 
URL:https://www.wijkcentrumtewerve.nl/activiteit/yoga-3/2027-02-25/
LOCATION:Activiteitenruimte 2
END:VEVENT
BEGIN:VEVENT
DTSTART;TZID=Europe/Amsterdam:20270226T090000
DTEND;TZID=Europe/Amsterdam:20270226T100000
DTSTAMP:20260424T164332
CREATED:20240708T115210Z
LAST-MODIFIED:20240708T115211Z
UID:10003597-1803632400-1803636000@www.wijkcentrumtewerve.nl
SUMMARY:Yoga
DESCRIPTION:Yogales door docente Carla Mahabier. Meer informatie via 06 – 20 94 38 56. \n 
URL:https://www.wijkcentrumtewerve.nl/activiteit/yoga-2-2/2027-02-26/
LOCATION:Activiteitenruimte 2
END:VEVENT
BEGIN:VEVENT
DTSTART;TZID=Europe/Amsterdam:20270304T133000
DTEND;TZID=Europe/Amsterdam:20270304T164500
DTSTAMP:20260424T164332
CREATED:20240708T115205Z
LAST-MODIFIED:20240708T115206Z
UID:10001460-1804167000-1804178700@www.wijkcentrumtewerve.nl
SUMMARY:Yoga
DESCRIPTION:Yogales door docente Carla Mahabier. Meer informatie via 06 – 20 94 38 56. \n 
URL:https://www.wijkcentrumtewerve.nl/activiteit/yoga-3/2027-03-04/
LOCATION:Activiteitenruimte 2
END:VEVENT
BEGIN:VEVENT
DTSTART;TZID=Europe/Amsterdam:20270305T090000
DTEND;TZID=Europe/Amsterdam:20270305T100000
DTSTAMP:20260424T164332
CREATED:20240708T115210Z
LAST-MODIFIED:20240708T115211Z
UID:10003598-1804237200-1804240800@www.wijkcentrumtewerve.nl
SUMMARY:Yoga
DESCRIPTION:Yogales door docente Carla Mahabier. Meer informatie via 06 – 20 94 38 56. \n 
URL:https://www.wijkcentrumtewerve.nl/activiteit/yoga-2-2/2027-03-05/
LOCATION:Activiteitenruimte 2
END:VEVENT
END:VCALENDAR