BEGIN:VCALENDAR
VERSION:2.0
PRODID:-//Wijkcentrum Te Werve - Welzijn Rijswijk - ECPv6.8.2.1//NONSGML v1.0//EN
CALSCALE:GREGORIAN
METHOD:PUBLISH
X-ORIGINAL-URL:https://www.wijkcentrumtewerve.nl
X-WR-CALDESC:Evenementen voor Wijkcentrum Te Werve - Welzijn Rijswijk
REFRESH-INTERVAL;VALUE=DURATION:PT1H
X-Robots-Tag:noindex
X-PUBLISHED-TTL:PT1H
BEGIN:VTIMEZONE
TZID:Europe/Amsterdam
BEGIN:DAYLIGHT
TZOFFSETFROM:+0100
TZOFFSETTO:+0200
TZNAME:CEST
DTSTART:20250330T010000
END:DAYLIGHT
BEGIN:STANDARD
TZOFFSETFROM:+0200
TZOFFSETTO:+0100
TZNAME:CET
DTSTART:20251026T010000
END:STANDARD
END:VTIMEZONE
BEGIN:VEVENT
DTSTART;TZID=Europe/Amsterdam:20250919T090000
DTEND;TZID=Europe/Amsterdam:20250919T100000
DTSTAMP:20260420T181508
CREATED:20240708T115210Z
LAST-MODIFIED:20240708T115211Z
UID:10003522-1758272400-1758276000@www.wijkcentrumtewerve.nl
SUMMARY:Yoga
DESCRIPTION:Yogales door docente Carla Mahabier. Meer informatie via 06 – 20 94 38 56. \n 
URL:https://www.wijkcentrumtewerve.nl/activiteit/yoga-2-2/2025-09-19/
LOCATION:Activiteitenruimte 2
END:VEVENT
BEGIN:VEVENT
DTSTART;TZID=Europe/Amsterdam:20250918T133000
DTEND;TZID=Europe/Amsterdam:20250918T164500
DTSTAMP:20260420T181508
CREATED:20240708T115205Z
LAST-MODIFIED:20240708T115206Z
UID:10001384-1758202200-1758213900@www.wijkcentrumtewerve.nl
SUMMARY:Yoga
DESCRIPTION:Yogales door docente Carla Mahabier. Meer informatie via 06 – 20 94 38 56. \n 
URL:https://www.wijkcentrumtewerve.nl/activiteit/yoga-3/2025-09-18/
LOCATION:Activiteitenruimte 2
END:VEVENT
BEGIN:VEVENT
DTSTART;TZID=Europe/Amsterdam:20250912T090000
DTEND;TZID=Europe/Amsterdam:20250912T100000
DTSTAMP:20260420T181508
CREATED:20240708T115210Z
LAST-MODIFIED:20240708T115211Z
UID:10003521-1757667600-1757671200@www.wijkcentrumtewerve.nl
SUMMARY:Yoga
DESCRIPTION:Yogales door docente Carla Mahabier. Meer informatie via 06 – 20 94 38 56. \n 
URL:https://www.wijkcentrumtewerve.nl/activiteit/yoga-2-2/2025-09-12/
LOCATION:Activiteitenruimte 2
END:VEVENT
BEGIN:VEVENT
DTSTART;TZID=Europe/Amsterdam:20250911T133000
DTEND;TZID=Europe/Amsterdam:20250911T164500
DTSTAMP:20260420T181508
CREATED:20240708T115205Z
LAST-MODIFIED:20240708T115206Z
UID:10001383-1757597400-1757609100@www.wijkcentrumtewerve.nl
SUMMARY:Yoga
DESCRIPTION:Yogales door docente Carla Mahabier. Meer informatie via 06 – 20 94 38 56. \n 
URL:https://www.wijkcentrumtewerve.nl/activiteit/yoga-3/2025-09-11/
LOCATION:Activiteitenruimte 2
END:VEVENT
BEGIN:VEVENT
DTSTART;TZID=Europe/Amsterdam:20250905T090000
DTEND;TZID=Europe/Amsterdam:20250905T100000
DTSTAMP:20260420T181508
CREATED:20240708T115210Z
LAST-MODIFIED:20240708T115211Z
UID:10003520-1757062800-1757066400@www.wijkcentrumtewerve.nl
SUMMARY:Yoga
DESCRIPTION:Yogales door docente Carla Mahabier. Meer informatie via 06 – 20 94 38 56. \n 
URL:https://www.wijkcentrumtewerve.nl/activiteit/yoga-2-2/2025-09-05/
LOCATION:Activiteitenruimte 2
END:VEVENT
BEGIN:VEVENT
DTSTART;TZID=Europe/Amsterdam:20250904T133000
DTEND;TZID=Europe/Amsterdam:20250904T164500
DTSTAMP:20260420T181508
CREATED:20240708T115205Z
LAST-MODIFIED:20240708T115206Z
UID:10001382-1756992600-1757004300@www.wijkcentrumtewerve.nl
SUMMARY:Yoga
DESCRIPTION:Yogales door docente Carla Mahabier. Meer informatie via 06 – 20 94 38 56. \n 
URL:https://www.wijkcentrumtewerve.nl/activiteit/yoga-3/2025-09-04/
LOCATION:Activiteitenruimte 2
END:VEVENT
BEGIN:VEVENT
DTSTART;TZID=Europe/Amsterdam:20250829T090000
DTEND;TZID=Europe/Amsterdam:20250829T100000
DTSTAMP:20260420T181508
CREATED:20240708T115210Z
LAST-MODIFIED:20240708T115211Z
UID:10003519-1756458000-1756461600@www.wijkcentrumtewerve.nl
SUMMARY:Yoga
DESCRIPTION:Yogales door docente Carla Mahabier. Meer informatie via 06 – 20 94 38 56. \n 
URL:https://www.wijkcentrumtewerve.nl/activiteit/yoga-2-2/2025-08-29/
LOCATION:Activiteitenruimte 2
END:VEVENT
BEGIN:VEVENT
DTSTART;TZID=Europe/Amsterdam:20250828T133000
DTEND;TZID=Europe/Amsterdam:20250828T164500
DTSTAMP:20260420T181508
CREATED:20240708T115205Z
LAST-MODIFIED:20240708T115206Z
UID:10001381-1756387800-1756399500@www.wijkcentrumtewerve.nl
SUMMARY:Yoga
DESCRIPTION:Yogales door docente Carla Mahabier. Meer informatie via 06 – 20 94 38 56. \n 
URL:https://www.wijkcentrumtewerve.nl/activiteit/yoga-3/2025-08-28/
LOCATION:Activiteitenruimte 2
END:VEVENT
BEGIN:VEVENT
DTSTART;TZID=Europe/Amsterdam:20250822T090000
DTEND;TZID=Europe/Amsterdam:20250822T100000
DTSTAMP:20260420T181508
CREATED:20240708T115210Z
LAST-MODIFIED:20240708T115211Z
UID:10003518-1755853200-1755856800@www.wijkcentrumtewerve.nl
SUMMARY:Yoga
DESCRIPTION:Yogales door docente Carla Mahabier. Meer informatie via 06 – 20 94 38 56. \n 
URL:https://www.wijkcentrumtewerve.nl/activiteit/yoga-2-2/2025-08-22/
LOCATION:Activiteitenruimte 2
END:VEVENT
BEGIN:VEVENT
DTSTART;TZID=Europe/Amsterdam:20250821T133000
DTEND;TZID=Europe/Amsterdam:20250821T164500
DTSTAMP:20260420T181508
CREATED:20240708T115205Z
LAST-MODIFIED:20240708T115206Z
UID:10001380-1755783000-1755794700@www.wijkcentrumtewerve.nl
SUMMARY:Yoga
DESCRIPTION:Yogales door docente Carla Mahabier. Meer informatie via 06 – 20 94 38 56. \n 
URL:https://www.wijkcentrumtewerve.nl/activiteit/yoga-3/2025-08-21/
LOCATION:Activiteitenruimte 2
END:VEVENT
BEGIN:VEVENT
DTSTART;TZID=Europe/Amsterdam:20250815T090000
DTEND;TZID=Europe/Amsterdam:20250815T100000
DTSTAMP:20260420T181508
CREATED:20240708T115210Z
LAST-MODIFIED:20240708T115211Z
UID:10003517-1755248400-1755252000@www.wijkcentrumtewerve.nl
SUMMARY:Yoga
DESCRIPTION:Yogales door docente Carla Mahabier. Meer informatie via 06 – 20 94 38 56. \n 
URL:https://www.wijkcentrumtewerve.nl/activiteit/yoga-2-2/2025-08-15/
LOCATION:Activiteitenruimte 2
END:VEVENT
BEGIN:VEVENT
DTSTART;TZID=Europe/Amsterdam:20250814T133000
DTEND;TZID=Europe/Amsterdam:20250814T164500
DTSTAMP:20260420T181508
CREATED:20240708T115205Z
LAST-MODIFIED:20240708T115206Z
UID:10001379-1755178200-1755189900@www.wijkcentrumtewerve.nl
SUMMARY:Yoga
DESCRIPTION:Yogales door docente Carla Mahabier. Meer informatie via 06 – 20 94 38 56. \n 
URL:https://www.wijkcentrumtewerve.nl/activiteit/yoga-3/2025-08-14/
LOCATION:Activiteitenruimte 2
END:VEVENT
BEGIN:VEVENT
DTSTART;TZID=Europe/Amsterdam:20250808T090000
DTEND;TZID=Europe/Amsterdam:20250808T100000
DTSTAMP:20260420T181508
CREATED:20240708T115210Z
LAST-MODIFIED:20240708T115211Z
UID:10003516-1754643600-1754647200@www.wijkcentrumtewerve.nl
SUMMARY:Yoga
DESCRIPTION:Yogales door docente Carla Mahabier. Meer informatie via 06 – 20 94 38 56. \n 
URL:https://www.wijkcentrumtewerve.nl/activiteit/yoga-2-2/2025-08-08/
LOCATION:Activiteitenruimte 2
END:VEVENT
BEGIN:VEVENT
DTSTART;TZID=Europe/Amsterdam:20250807T133000
DTEND;TZID=Europe/Amsterdam:20250807T164500
DTSTAMP:20260420T181508
CREATED:20240708T115205Z
LAST-MODIFIED:20240708T115206Z
UID:10001378-1754573400-1754585100@www.wijkcentrumtewerve.nl
SUMMARY:Yoga
DESCRIPTION:Yogales door docente Carla Mahabier. Meer informatie via 06 – 20 94 38 56. \n 
URL:https://www.wijkcentrumtewerve.nl/activiteit/yoga-3/2025-08-07/
LOCATION:Activiteitenruimte 2
END:VEVENT
BEGIN:VEVENT
DTSTART;TZID=Europe/Amsterdam:20250801T090000
DTEND;TZID=Europe/Amsterdam:20250801T100000
DTSTAMP:20260420T181508
CREATED:20240708T115210Z
LAST-MODIFIED:20240708T115211Z
UID:10003515-1754038800-1754042400@www.wijkcentrumtewerve.nl
SUMMARY:Yoga
DESCRIPTION:Yogales door docente Carla Mahabier. Meer informatie via 06 – 20 94 38 56. \n 
URL:https://www.wijkcentrumtewerve.nl/activiteit/yoga-2-2/2025-08-01/
LOCATION:Activiteitenruimte 2
END:VEVENT
BEGIN:VEVENT
DTSTART;TZID=Europe/Amsterdam:20250731T133000
DTEND;TZID=Europe/Amsterdam:20250731T164500
DTSTAMP:20260420T181508
CREATED:20240708T115205Z
LAST-MODIFIED:20240708T115206Z
UID:10001377-1753968600-1753980300@www.wijkcentrumtewerve.nl
SUMMARY:Yoga
DESCRIPTION:Yogales door docente Carla Mahabier. Meer informatie via 06 – 20 94 38 56. \n 
URL:https://www.wijkcentrumtewerve.nl/activiteit/yoga-3/2025-07-31/
LOCATION:Activiteitenruimte 2
END:VEVENT
BEGIN:VEVENT
DTSTART;TZID=Europe/Amsterdam:20250725T090000
DTEND;TZID=Europe/Amsterdam:20250725T100000
DTSTAMP:20260420T181508
CREATED:20240708T115210Z
LAST-MODIFIED:20240708T115211Z
UID:10003514-1753434000-1753437600@www.wijkcentrumtewerve.nl
SUMMARY:Yoga
DESCRIPTION:Yogales door docente Carla Mahabier. Meer informatie via 06 – 20 94 38 56. \n 
URL:https://www.wijkcentrumtewerve.nl/activiteit/yoga-2-2/2025-07-25/
LOCATION:Activiteitenruimte 2
END:VEVENT
BEGIN:VEVENT
DTSTART;TZID=Europe/Amsterdam:20250724T133000
DTEND;TZID=Europe/Amsterdam:20250724T164500
DTSTAMP:20260420T181508
CREATED:20240708T115205Z
LAST-MODIFIED:20240708T115206Z
UID:10001376-1753363800-1753375500@www.wijkcentrumtewerve.nl
SUMMARY:Yoga
DESCRIPTION:Yogales door docente Carla Mahabier. Meer informatie via 06 – 20 94 38 56. \n 
URL:https://www.wijkcentrumtewerve.nl/activiteit/yoga-3/2025-07-24/
LOCATION:Activiteitenruimte 2
END:VEVENT
BEGIN:VEVENT
DTSTART;TZID=Europe/Amsterdam:20250718T090000
DTEND;TZID=Europe/Amsterdam:20250718T100000
DTSTAMP:20260420T181508
CREATED:20240708T115210Z
LAST-MODIFIED:20240708T115211Z
UID:10003513-1752829200-1752832800@www.wijkcentrumtewerve.nl
SUMMARY:Yoga
DESCRIPTION:Yogales door docente Carla Mahabier. Meer informatie via 06 – 20 94 38 56. \n 
URL:https://www.wijkcentrumtewerve.nl/activiteit/yoga-2-2/2025-07-18/
LOCATION:Activiteitenruimte 2
END:VEVENT
BEGIN:VEVENT
DTSTART;TZID=Europe/Amsterdam:20250717T133000
DTEND;TZID=Europe/Amsterdam:20250717T164500
DTSTAMP:20260420T181508
CREATED:20240708T115205Z
LAST-MODIFIED:20240708T115206Z
UID:10001375-1752759000-1752770700@www.wijkcentrumtewerve.nl
SUMMARY:Yoga
DESCRIPTION:Yogales door docente Carla Mahabier. Meer informatie via 06 – 20 94 38 56. \n 
URL:https://www.wijkcentrumtewerve.nl/activiteit/yoga-3/2025-07-17/
LOCATION:Activiteitenruimte 2
END:VEVENT
BEGIN:VEVENT
DTSTART;TZID=Europe/Amsterdam:20250711T090000
DTEND;TZID=Europe/Amsterdam:20250711T100000
DTSTAMP:20260420T181508
CREATED:20240708T115210Z
LAST-MODIFIED:20240708T115211Z
UID:10003512-1752224400-1752228000@www.wijkcentrumtewerve.nl
SUMMARY:Yoga
DESCRIPTION:Yogales door docente Carla Mahabier. Meer informatie via 06 – 20 94 38 56. \n 
URL:https://www.wijkcentrumtewerve.nl/activiteit/yoga-2-2/2025-07-11/
LOCATION:Activiteitenruimte 2
END:VEVENT
BEGIN:VEVENT
DTSTART;TZID=Europe/Amsterdam:20250710T133000
DTEND;TZID=Europe/Amsterdam:20250710T164500
DTSTAMP:20260420T181508
CREATED:20240708T115205Z
LAST-MODIFIED:20240708T115206Z
UID:10001374-1752154200-1752165900@www.wijkcentrumtewerve.nl
SUMMARY:Yoga
DESCRIPTION:Yogales door docente Carla Mahabier. Meer informatie via 06 – 20 94 38 56. \n 
URL:https://www.wijkcentrumtewerve.nl/activiteit/yoga-3/2025-07-10/
LOCATION:Activiteitenruimte 2
END:VEVENT
BEGIN:VEVENT
DTSTART;TZID=Europe/Amsterdam:20250704T090000
DTEND;TZID=Europe/Amsterdam:20250704T100000
DTSTAMP:20260420T181508
CREATED:20240708T115210Z
LAST-MODIFIED:20240708T115211Z
UID:10003511-1751619600-1751623200@www.wijkcentrumtewerve.nl
SUMMARY:Yoga
DESCRIPTION:Yogales door docente Carla Mahabier. Meer informatie via 06 – 20 94 38 56. \n 
URL:https://www.wijkcentrumtewerve.nl/activiteit/yoga-2-2/2025-07-04/
LOCATION:Activiteitenruimte 2
END:VEVENT
BEGIN:VEVENT
DTSTART;TZID=Europe/Amsterdam:20250703T133000
DTEND;TZID=Europe/Amsterdam:20250703T164500
DTSTAMP:20260420T181508
CREATED:20240708T115205Z
LAST-MODIFIED:20240708T115206Z
UID:10001373-1751549400-1751561100@www.wijkcentrumtewerve.nl
SUMMARY:Yoga
DESCRIPTION:Yogales door docente Carla Mahabier. Meer informatie via 06 – 20 94 38 56. \n 
URL:https://www.wijkcentrumtewerve.nl/activiteit/yoga-3/2025-07-03/
LOCATION:Activiteitenruimte 2
END:VEVENT
BEGIN:VEVENT
DTSTART;TZID=Europe/Amsterdam:20250627T090000
DTEND;TZID=Europe/Amsterdam:20250627T100000
DTSTAMP:20260420T181508
CREATED:20240708T115210Z
LAST-MODIFIED:20240708T115211Z
UID:10003510-1751014800-1751018400@www.wijkcentrumtewerve.nl
SUMMARY:Yoga
DESCRIPTION:Yogales door docente Carla Mahabier. Meer informatie via 06 – 20 94 38 56. \n 
URL:https://www.wijkcentrumtewerve.nl/activiteit/yoga-2-2/2025-06-27/
LOCATION:Activiteitenruimte 2
END:VEVENT
BEGIN:VEVENT
DTSTART;TZID=Europe/Amsterdam:20250626T133000
DTEND;TZID=Europe/Amsterdam:20250626T164500
DTSTAMP:20260420T181508
CREATED:20240708T115205Z
LAST-MODIFIED:20240708T115206Z
UID:10001372-1750944600-1750956300@www.wijkcentrumtewerve.nl
SUMMARY:Yoga
DESCRIPTION:Yogales door docente Carla Mahabier. Meer informatie via 06 – 20 94 38 56. \n 
URL:https://www.wijkcentrumtewerve.nl/activiteit/yoga-3/2025-06-26/
LOCATION:Activiteitenruimte 2
END:VEVENT
BEGIN:VEVENT
DTSTART;TZID=Europe/Amsterdam:20250620T090000
DTEND;TZID=Europe/Amsterdam:20250620T100000
DTSTAMP:20260420T181508
CREATED:20240708T115210Z
LAST-MODIFIED:20240708T115211Z
UID:10003509-1750410000-1750413600@www.wijkcentrumtewerve.nl
SUMMARY:Yoga
DESCRIPTION:Yogales door docente Carla Mahabier. Meer informatie via 06 – 20 94 38 56. \n 
URL:https://www.wijkcentrumtewerve.nl/activiteit/yoga-2-2/2025-06-20/
LOCATION:Activiteitenruimte 2
END:VEVENT
BEGIN:VEVENT
DTSTART;TZID=Europe/Amsterdam:20250619T133000
DTEND;TZID=Europe/Amsterdam:20250619T164500
DTSTAMP:20260420T181508
CREATED:20240708T115205Z
LAST-MODIFIED:20240708T115206Z
UID:10001371-1750339800-1750351500@www.wijkcentrumtewerve.nl
SUMMARY:Yoga
DESCRIPTION:Yogales door docente Carla Mahabier. Meer informatie via 06 – 20 94 38 56. \n 
URL:https://www.wijkcentrumtewerve.nl/activiteit/yoga-3/2025-06-19/
LOCATION:Activiteitenruimte 2
END:VEVENT
BEGIN:VEVENT
DTSTART;TZID=Europe/Amsterdam:20250613T090000
DTEND;TZID=Europe/Amsterdam:20250613T100000
DTSTAMP:20260420T181508
CREATED:20240708T115210Z
LAST-MODIFIED:20240708T115211Z
UID:10003508-1749805200-1749808800@www.wijkcentrumtewerve.nl
SUMMARY:Yoga
DESCRIPTION:Yogales door docente Carla Mahabier. Meer informatie via 06 – 20 94 38 56. \n 
URL:https://www.wijkcentrumtewerve.nl/activiteit/yoga-2-2/2025-06-13/
LOCATION:Activiteitenruimte 2
END:VEVENT
BEGIN:VEVENT
DTSTART;TZID=Europe/Amsterdam:20250612T133000
DTEND;TZID=Europe/Amsterdam:20250612T164500
DTSTAMP:20260420T181508
CREATED:20240708T115205Z
LAST-MODIFIED:20240708T115206Z
UID:10001370-1749735000-1749746700@www.wijkcentrumtewerve.nl
SUMMARY:Yoga
DESCRIPTION:Yogales door docente Carla Mahabier. Meer informatie via 06 – 20 94 38 56. \n 
URL:https://www.wijkcentrumtewerve.nl/activiteit/yoga-3/2025-06-12/
LOCATION:Activiteitenruimte 2
END:VEVENT
END:VCALENDAR