BEGIN:VCALENDAR
VERSION:2.0
PRODID:-//Wijkcentrum Te Werve - Welzijn Rijswijk - ECPv6.8.2.1//NONSGML v1.0//EN
CALSCALE:GREGORIAN
METHOD:PUBLISH
X-ORIGINAL-URL:https://www.wijkcentrumtewerve.nl
X-WR-CALDESC:Evenementen voor Wijkcentrum Te Werve - Welzijn Rijswijk
REFRESH-INTERVAL;VALUE=DURATION:PT1H
X-Robots-Tag:noindex
X-PUBLISHED-TTL:PT1H
BEGIN:VTIMEZONE
TZID:Europe/Amsterdam
BEGIN:DAYLIGHT
TZOFFSETFROM:+0100
TZOFFSETTO:+0200
TZNAME:CEST
DTSTART:20250330T010000
END:DAYLIGHT
BEGIN:STANDARD
TZOFFSETFROM:+0200
TZOFFSETTO:+0100
TZNAME:CET
DTSTART:20251026T010000
END:STANDARD
BEGIN:DAYLIGHT
TZOFFSETFROM:+0100
TZOFFSETTO:+0200
TZNAME:CEST
DTSTART:20260329T010000
END:DAYLIGHT
BEGIN:STANDARD
TZOFFSETFROM:+0200
TZOFFSETTO:+0100
TZNAME:CET
DTSTART:20261025T010000
END:STANDARD
END:VTIMEZONE
BEGIN:VEVENT
DTSTART;TZID=Europe/Amsterdam:20260206T090000
DTEND;TZID=Europe/Amsterdam:20260206T100000
DTSTAMP:20260420T152807
CREATED:20240708T115210Z
LAST-MODIFIED:20240708T115211Z
UID:10003542-1770368400-1770372000@www.wijkcentrumtewerve.nl
SUMMARY:Yoga
DESCRIPTION:Yogales door docente Carla Mahabier. Meer informatie via 06 – 20 94 38 56. \n 
URL:https://www.wijkcentrumtewerve.nl/activiteit/yoga-2-2/2026-02-06/
LOCATION:Activiteitenruimte 2
END:VEVENT
BEGIN:VEVENT
DTSTART;TZID=Europe/Amsterdam:20260205T133000
DTEND;TZID=Europe/Amsterdam:20260205T164500
DTSTAMP:20260420T152807
CREATED:20240708T115205Z
LAST-MODIFIED:20240708T115206Z
UID:10001404-1770298200-1770309900@www.wijkcentrumtewerve.nl
SUMMARY:Yoga
DESCRIPTION:Yogales door docente Carla Mahabier. Meer informatie via 06 – 20 94 38 56. \n 
URL:https://www.wijkcentrumtewerve.nl/activiteit/yoga-3/2026-02-05/
LOCATION:Activiteitenruimte 2
END:VEVENT
BEGIN:VEVENT
DTSTART;TZID=Europe/Amsterdam:20260130T090000
DTEND;TZID=Europe/Amsterdam:20260130T100000
DTSTAMP:20260420T152807
CREATED:20240708T115210Z
LAST-MODIFIED:20240708T115211Z
UID:10003541-1769763600-1769767200@www.wijkcentrumtewerve.nl
SUMMARY:Yoga
DESCRIPTION:Yogales door docente Carla Mahabier. Meer informatie via 06 – 20 94 38 56. \n 
URL:https://www.wijkcentrumtewerve.nl/activiteit/yoga-2-2/2026-01-30/
LOCATION:Activiteitenruimte 2
END:VEVENT
BEGIN:VEVENT
DTSTART;TZID=Europe/Amsterdam:20260129T133000
DTEND;TZID=Europe/Amsterdam:20260129T164500
DTSTAMP:20260420T152807
CREATED:20240708T115205Z
LAST-MODIFIED:20240708T115206Z
UID:10001403-1769693400-1769705100@www.wijkcentrumtewerve.nl
SUMMARY:Yoga
DESCRIPTION:Yogales door docente Carla Mahabier. Meer informatie via 06 – 20 94 38 56. \n 
URL:https://www.wijkcentrumtewerve.nl/activiteit/yoga-3/2026-01-29/
LOCATION:Activiteitenruimte 2
END:VEVENT
BEGIN:VEVENT
DTSTART;TZID=Europe/Amsterdam:20260123T090000
DTEND;TZID=Europe/Amsterdam:20260123T100000
DTSTAMP:20260420T152807
CREATED:20240708T115210Z
LAST-MODIFIED:20240708T115211Z
UID:10003540-1769158800-1769162400@www.wijkcentrumtewerve.nl
SUMMARY:Yoga
DESCRIPTION:Yogales door docente Carla Mahabier. Meer informatie via 06 – 20 94 38 56. \n 
URL:https://www.wijkcentrumtewerve.nl/activiteit/yoga-2-2/2026-01-23/
LOCATION:Activiteitenruimte 2
END:VEVENT
BEGIN:VEVENT
DTSTART;TZID=Europe/Amsterdam:20260122T133000
DTEND;TZID=Europe/Amsterdam:20260122T164500
DTSTAMP:20260420T152807
CREATED:20240708T115205Z
LAST-MODIFIED:20240708T115206Z
UID:10001402-1769088600-1769100300@www.wijkcentrumtewerve.nl
SUMMARY:Yoga
DESCRIPTION:Yogales door docente Carla Mahabier. Meer informatie via 06 – 20 94 38 56. \n 
URL:https://www.wijkcentrumtewerve.nl/activiteit/yoga-3/2026-01-22/
LOCATION:Activiteitenruimte 2
END:VEVENT
BEGIN:VEVENT
DTSTART;TZID=Europe/Amsterdam:20260116T090000
DTEND;TZID=Europe/Amsterdam:20260116T100000
DTSTAMP:20260420T152807
CREATED:20240708T115210Z
LAST-MODIFIED:20240708T115211Z
UID:10003539-1768554000-1768557600@www.wijkcentrumtewerve.nl
SUMMARY:Yoga
DESCRIPTION:Yogales door docente Carla Mahabier. Meer informatie via 06 – 20 94 38 56. \n 
URL:https://www.wijkcentrumtewerve.nl/activiteit/yoga-2-2/2026-01-16/
LOCATION:Activiteitenruimte 2
END:VEVENT
BEGIN:VEVENT
DTSTART;TZID=Europe/Amsterdam:20260115T133000
DTEND;TZID=Europe/Amsterdam:20260115T164500
DTSTAMP:20260420T152807
CREATED:20240708T115205Z
LAST-MODIFIED:20240708T115206Z
UID:10001401-1768483800-1768495500@www.wijkcentrumtewerve.nl
SUMMARY:Yoga
DESCRIPTION:Yogales door docente Carla Mahabier. Meer informatie via 06 – 20 94 38 56. \n 
URL:https://www.wijkcentrumtewerve.nl/activiteit/yoga-3/2026-01-15/
LOCATION:Activiteitenruimte 2
END:VEVENT
BEGIN:VEVENT
DTSTART;TZID=Europe/Amsterdam:20260109T090000
DTEND;TZID=Europe/Amsterdam:20260109T100000
DTSTAMP:20260420T152807
CREATED:20240708T115210Z
LAST-MODIFIED:20240708T115211Z
UID:10003538-1767949200-1767952800@www.wijkcentrumtewerve.nl
SUMMARY:Yoga
DESCRIPTION:Yogales door docente Carla Mahabier. Meer informatie via 06 – 20 94 38 56. \n 
URL:https://www.wijkcentrumtewerve.nl/activiteit/yoga-2-2/2026-01-09/
LOCATION:Activiteitenruimte 2
END:VEVENT
BEGIN:VEVENT
DTSTART;TZID=Europe/Amsterdam:20260108T133000
DTEND;TZID=Europe/Amsterdam:20260108T164500
DTSTAMP:20260420T152807
CREATED:20240708T115205Z
LAST-MODIFIED:20240708T115206Z
UID:10001400-1767879000-1767890700@www.wijkcentrumtewerve.nl
SUMMARY:Yoga
DESCRIPTION:Yogales door docente Carla Mahabier. Meer informatie via 06 – 20 94 38 56. \n 
URL:https://www.wijkcentrumtewerve.nl/activiteit/yoga-3/2026-01-08/
LOCATION:Activiteitenruimte 2
END:VEVENT
BEGIN:VEVENT
DTSTART;TZID=Europe/Amsterdam:20260102T090000
DTEND;TZID=Europe/Amsterdam:20260102T100000
DTSTAMP:20260420T152807
CREATED:20240708T115210Z
LAST-MODIFIED:20240708T115211Z
UID:10003537-1767344400-1767348000@www.wijkcentrumtewerve.nl
SUMMARY:Yoga
DESCRIPTION:Yogales door docente Carla Mahabier. Meer informatie via 06 – 20 94 38 56. \n 
URL:https://www.wijkcentrumtewerve.nl/activiteit/yoga-2-2/2026-01-02/
LOCATION:Activiteitenruimte 2
END:VEVENT
BEGIN:VEVENT
DTSTART;TZID=Europe/Amsterdam:20260101T133000
DTEND;TZID=Europe/Amsterdam:20260101T164500
DTSTAMP:20260420T152807
CREATED:20240708T115205Z
LAST-MODIFIED:20240708T115206Z
UID:10001399-1767274200-1767285900@www.wijkcentrumtewerve.nl
SUMMARY:Yoga
DESCRIPTION:Yogales door docente Carla Mahabier. Meer informatie via 06 – 20 94 38 56. \n 
URL:https://www.wijkcentrumtewerve.nl/activiteit/yoga-3/2026-01-01/
LOCATION:Activiteitenruimte 2
END:VEVENT
BEGIN:VEVENT
DTSTART;TZID=Europe/Amsterdam:20251226T090000
DTEND;TZID=Europe/Amsterdam:20251226T100000
DTSTAMP:20260420T152807
CREATED:20240708T115210Z
LAST-MODIFIED:20240708T115211Z
UID:10003536-1766739600-1766743200@www.wijkcentrumtewerve.nl
SUMMARY:Yoga
DESCRIPTION:Yogales door docente Carla Mahabier. Meer informatie via 06 – 20 94 38 56. \n 
URL:https://www.wijkcentrumtewerve.nl/activiteit/yoga-2-2/2025-12-26/
LOCATION:Activiteitenruimte 2
END:VEVENT
BEGIN:VEVENT
DTSTART;TZID=Europe/Amsterdam:20251225T133000
DTEND;TZID=Europe/Amsterdam:20251225T164500
DTSTAMP:20260420T152807
CREATED:20240708T115205Z
LAST-MODIFIED:20240708T115206Z
UID:10001398-1766669400-1766681100@www.wijkcentrumtewerve.nl
SUMMARY:Yoga
DESCRIPTION:Yogales door docente Carla Mahabier. Meer informatie via 06 – 20 94 38 56. \n 
URL:https://www.wijkcentrumtewerve.nl/activiteit/yoga-3/2025-12-25/
LOCATION:Activiteitenruimte 2
END:VEVENT
BEGIN:VEVENT
DTSTART;TZID=Europe/Amsterdam:20251219T090000
DTEND;TZID=Europe/Amsterdam:20251219T100000
DTSTAMP:20260420T152807
CREATED:20240708T115210Z
LAST-MODIFIED:20240708T115211Z
UID:10003535-1766134800-1766138400@www.wijkcentrumtewerve.nl
SUMMARY:Yoga
DESCRIPTION:Yogales door docente Carla Mahabier. Meer informatie via 06 – 20 94 38 56. \n 
URL:https://www.wijkcentrumtewerve.nl/activiteit/yoga-2-2/2025-12-19/
LOCATION:Activiteitenruimte 2
END:VEVENT
BEGIN:VEVENT
DTSTART;TZID=Europe/Amsterdam:20251218T133000
DTEND;TZID=Europe/Amsterdam:20251218T164500
DTSTAMP:20260420T152807
CREATED:20240708T115205Z
LAST-MODIFIED:20240708T115206Z
UID:10001397-1766064600-1766076300@www.wijkcentrumtewerve.nl
SUMMARY:Yoga
DESCRIPTION:Yogales door docente Carla Mahabier. Meer informatie via 06 – 20 94 38 56. \n 
URL:https://www.wijkcentrumtewerve.nl/activiteit/yoga-3/2025-12-18/
LOCATION:Activiteitenruimte 2
END:VEVENT
BEGIN:VEVENT
DTSTART;TZID=Europe/Amsterdam:20251212T090000
DTEND;TZID=Europe/Amsterdam:20251212T100000
DTSTAMP:20260420T152807
CREATED:20240708T115210Z
LAST-MODIFIED:20240708T115211Z
UID:10003534-1765530000-1765533600@www.wijkcentrumtewerve.nl
SUMMARY:Yoga
DESCRIPTION:Yogales door docente Carla Mahabier. Meer informatie via 06 – 20 94 38 56. \n 
URL:https://www.wijkcentrumtewerve.nl/activiteit/yoga-2-2/2025-12-12/
LOCATION:Activiteitenruimte 2
END:VEVENT
BEGIN:VEVENT
DTSTART;TZID=Europe/Amsterdam:20251211T133000
DTEND;TZID=Europe/Amsterdam:20251211T164500
DTSTAMP:20260420T152807
CREATED:20240708T115205Z
LAST-MODIFIED:20240708T115206Z
UID:10001396-1765459800-1765471500@www.wijkcentrumtewerve.nl
SUMMARY:Yoga
DESCRIPTION:Yogales door docente Carla Mahabier. Meer informatie via 06 – 20 94 38 56. \n 
URL:https://www.wijkcentrumtewerve.nl/activiteit/yoga-3/2025-12-11/
LOCATION:Activiteitenruimte 2
END:VEVENT
BEGIN:VEVENT
DTSTART;TZID=Europe/Amsterdam:20251205T090000
DTEND;TZID=Europe/Amsterdam:20251205T100000
DTSTAMP:20260420T152807
CREATED:20240708T115210Z
LAST-MODIFIED:20240708T115211Z
UID:10003533-1764925200-1764928800@www.wijkcentrumtewerve.nl
SUMMARY:Yoga
DESCRIPTION:Yogales door docente Carla Mahabier. Meer informatie via 06 – 20 94 38 56. \n 
URL:https://www.wijkcentrumtewerve.nl/activiteit/yoga-2-2/2025-12-05/
LOCATION:Activiteitenruimte 2
END:VEVENT
BEGIN:VEVENT
DTSTART;TZID=Europe/Amsterdam:20251204T133000
DTEND;TZID=Europe/Amsterdam:20251204T164500
DTSTAMP:20260420T152807
CREATED:20240708T115205Z
LAST-MODIFIED:20240708T115206Z
UID:10001395-1764855000-1764866700@www.wijkcentrumtewerve.nl
SUMMARY:Yoga
DESCRIPTION:Yogales door docente Carla Mahabier. Meer informatie via 06 – 20 94 38 56. \n 
URL:https://www.wijkcentrumtewerve.nl/activiteit/yoga-3/2025-12-04/
LOCATION:Activiteitenruimte 2
END:VEVENT
BEGIN:VEVENT
DTSTART;TZID=Europe/Amsterdam:20251128T090000
DTEND;TZID=Europe/Amsterdam:20251128T100000
DTSTAMP:20260420T152807
CREATED:20240708T115210Z
LAST-MODIFIED:20240708T115211Z
UID:10003532-1764320400-1764324000@www.wijkcentrumtewerve.nl
SUMMARY:Yoga
DESCRIPTION:Yogales door docente Carla Mahabier. Meer informatie via 06 – 20 94 38 56. \n 
URL:https://www.wijkcentrumtewerve.nl/activiteit/yoga-2-2/2025-11-28/
LOCATION:Activiteitenruimte 2
END:VEVENT
BEGIN:VEVENT
DTSTART;TZID=Europe/Amsterdam:20251127T133000
DTEND;TZID=Europe/Amsterdam:20251127T164500
DTSTAMP:20260420T152807
CREATED:20240708T115205Z
LAST-MODIFIED:20240708T115206Z
UID:10001394-1764250200-1764261900@www.wijkcentrumtewerve.nl
SUMMARY:Yoga
DESCRIPTION:Yogales door docente Carla Mahabier. Meer informatie via 06 – 20 94 38 56. \n 
URL:https://www.wijkcentrumtewerve.nl/activiteit/yoga-3/2025-11-27/
LOCATION:Activiteitenruimte 2
END:VEVENT
BEGIN:VEVENT
DTSTART;TZID=Europe/Amsterdam:20251121T090000
DTEND;TZID=Europe/Amsterdam:20251121T100000
DTSTAMP:20260420T152807
CREATED:20240708T115210Z
LAST-MODIFIED:20240708T115211Z
UID:10003531-1763715600-1763719200@www.wijkcentrumtewerve.nl
SUMMARY:Yoga
DESCRIPTION:Yogales door docente Carla Mahabier. Meer informatie via 06 – 20 94 38 56. \n 
URL:https://www.wijkcentrumtewerve.nl/activiteit/yoga-2-2/2025-11-21/
LOCATION:Activiteitenruimte 2
END:VEVENT
BEGIN:VEVENT
DTSTART;TZID=Europe/Amsterdam:20251120T133000
DTEND;TZID=Europe/Amsterdam:20251120T164500
DTSTAMP:20260420T152807
CREATED:20240708T115205Z
LAST-MODIFIED:20240708T115206Z
UID:10001393-1763645400-1763657100@www.wijkcentrumtewerve.nl
SUMMARY:Yoga
DESCRIPTION:Yogales door docente Carla Mahabier. Meer informatie via 06 – 20 94 38 56. \n 
URL:https://www.wijkcentrumtewerve.nl/activiteit/yoga-3/2025-11-20/
LOCATION:Activiteitenruimte 2
END:VEVENT
BEGIN:VEVENT
DTSTART;TZID=Europe/Amsterdam:20251114T090000
DTEND;TZID=Europe/Amsterdam:20251114T100000
DTSTAMP:20260420T152807
CREATED:20240708T115210Z
LAST-MODIFIED:20240708T115211Z
UID:10003530-1763110800-1763114400@www.wijkcentrumtewerve.nl
SUMMARY:Yoga
DESCRIPTION:Yogales door docente Carla Mahabier. Meer informatie via 06 – 20 94 38 56. \n 
URL:https://www.wijkcentrumtewerve.nl/activiteit/yoga-2-2/2025-11-14/
LOCATION:Activiteitenruimte 2
END:VEVENT
BEGIN:VEVENT
DTSTART;TZID=Europe/Amsterdam:20251113T133000
DTEND;TZID=Europe/Amsterdam:20251113T164500
DTSTAMP:20260420T152807
CREATED:20240708T115205Z
LAST-MODIFIED:20240708T115206Z
UID:10001392-1763040600-1763052300@www.wijkcentrumtewerve.nl
SUMMARY:Yoga
DESCRIPTION:Yogales door docente Carla Mahabier. Meer informatie via 06 – 20 94 38 56. \n 
URL:https://www.wijkcentrumtewerve.nl/activiteit/yoga-3/2025-11-13/
LOCATION:Activiteitenruimte 2
END:VEVENT
BEGIN:VEVENT
DTSTART;TZID=Europe/Amsterdam:20251107T090000
DTEND;TZID=Europe/Amsterdam:20251107T100000
DTSTAMP:20260420T152807
CREATED:20240708T115210Z
LAST-MODIFIED:20240708T115211Z
UID:10003529-1762506000-1762509600@www.wijkcentrumtewerve.nl
SUMMARY:Yoga
DESCRIPTION:Yogales door docente Carla Mahabier. Meer informatie via 06 – 20 94 38 56. \n 
URL:https://www.wijkcentrumtewerve.nl/activiteit/yoga-2-2/2025-11-07/
LOCATION:Activiteitenruimte 2
END:VEVENT
BEGIN:VEVENT
DTSTART;TZID=Europe/Amsterdam:20251106T133000
DTEND;TZID=Europe/Amsterdam:20251106T164500
DTSTAMP:20260420T152807
CREATED:20240708T115205Z
LAST-MODIFIED:20240708T115206Z
UID:10001391-1762435800-1762447500@www.wijkcentrumtewerve.nl
SUMMARY:Yoga
DESCRIPTION:Yogales door docente Carla Mahabier. Meer informatie via 06 – 20 94 38 56. \n 
URL:https://www.wijkcentrumtewerve.nl/activiteit/yoga-3/2025-11-06/
LOCATION:Activiteitenruimte 2
END:VEVENT
BEGIN:VEVENT
DTSTART;TZID=Europe/Amsterdam:20251031T090000
DTEND;TZID=Europe/Amsterdam:20251031T100000
DTSTAMP:20260420T152807
CREATED:20240708T115210Z
LAST-MODIFIED:20240708T115211Z
UID:10003528-1761901200-1761904800@www.wijkcentrumtewerve.nl
SUMMARY:Yoga
DESCRIPTION:Yogales door docente Carla Mahabier. Meer informatie via 06 – 20 94 38 56. \n 
URL:https://www.wijkcentrumtewerve.nl/activiteit/yoga-2-2/2025-10-31/
LOCATION:Activiteitenruimte 2
END:VEVENT
BEGIN:VEVENT
DTSTART;TZID=Europe/Amsterdam:20251030T133000
DTEND;TZID=Europe/Amsterdam:20251030T164500
DTSTAMP:20260420T152807
CREATED:20240708T115205Z
LAST-MODIFIED:20240708T115206Z
UID:10001390-1761831000-1761842700@www.wijkcentrumtewerve.nl
SUMMARY:Yoga
DESCRIPTION:Yogales door docente Carla Mahabier. Meer informatie via 06 – 20 94 38 56. \n 
URL:https://www.wijkcentrumtewerve.nl/activiteit/yoga-3/2025-10-30/
LOCATION:Activiteitenruimte 2
END:VEVENT
END:VCALENDAR