BEGIN:VCALENDAR
VERSION:2.0
PRODID:-//Wijkcentrum Te Werve - Welzijn Rijswijk - ECPv6.8.2.1//NONSGML v1.0//EN
CALSCALE:GREGORIAN
METHOD:PUBLISH
X-ORIGINAL-URL:https://www.wijkcentrumtewerve.nl
X-WR-CALDESC:Evenementen voor Wijkcentrum Te Werve - Welzijn Rijswijk
REFRESH-INTERVAL;VALUE=DURATION:PT1H
X-Robots-Tag:noindex
X-PUBLISHED-TTL:PT1H
BEGIN:VTIMEZONE
TZID:Europe/Amsterdam
BEGIN:DAYLIGHT
TZOFFSETFROM:+0100
TZOFFSETTO:+0200
TZNAME:CEST
DTSTART:20280326T010000
END:DAYLIGHT
BEGIN:STANDARD
TZOFFSETFROM:+0200
TZOFFSETTO:+0100
TZNAME:CET
DTSTART:20281029T010000
END:STANDARD
BEGIN:DAYLIGHT
TZOFFSETFROM:+0100
TZOFFSETTO:+0200
TZNAME:CEST
DTSTART:20290325T010000
END:DAYLIGHT
BEGIN:STANDARD
TZOFFSETFROM:+0200
TZOFFSETTO:+0100
TZNAME:CET
DTSTART:20291028T010000
END:STANDARD
END:VTIMEZONE
BEGIN:VEVENT
DTSTART;TZID=Europe/Amsterdam:20281026T133000
DTEND;TZID=Europe/Amsterdam:20281026T164500
DTSTAMP:20260425T060845
CREATED:20240708T115205Z
LAST-MODIFIED:20240708T115206Z
UID:10001546-1856179800-1856191500@www.wijkcentrumtewerve.nl
SUMMARY:Yoga
DESCRIPTION:Yogales door docente Carla Mahabier. Meer informatie via 06 – 20 94 38 56. \n 
URL:https://www.wijkcentrumtewerve.nl/activiteit/yoga-3/2028-10-26/
LOCATION:Activiteitenruimte 2
END:VEVENT
BEGIN:VEVENT
DTSTART;TZID=Europe/Amsterdam:20281027T090000
DTEND;TZID=Europe/Amsterdam:20281027T100000
DTSTAMP:20260425T060845
CREATED:20240708T115210Z
LAST-MODIFIED:20240708T115211Z
UID:10003684-1856250000-1856253600@www.wijkcentrumtewerve.nl
SUMMARY:Yoga
DESCRIPTION:Yogales door docente Carla Mahabier. Meer informatie via 06 – 20 94 38 56. \n 
URL:https://www.wijkcentrumtewerve.nl/activiteit/yoga-2-2/2028-10-27/
LOCATION:Activiteitenruimte 2
END:VEVENT
BEGIN:VEVENT
DTSTART;TZID=Europe/Amsterdam:20281102T133000
DTEND;TZID=Europe/Amsterdam:20281102T164500
DTSTAMP:20260425T060845
CREATED:20240708T115205Z
LAST-MODIFIED:20240708T115206Z
UID:10001547-1856784600-1856796300@www.wijkcentrumtewerve.nl
SUMMARY:Yoga
DESCRIPTION:Yogales door docente Carla Mahabier. Meer informatie via 06 – 20 94 38 56. \n 
URL:https://www.wijkcentrumtewerve.nl/activiteit/yoga-3/2028-11-02/
LOCATION:Activiteitenruimte 2
END:VEVENT
BEGIN:VEVENT
DTSTART;TZID=Europe/Amsterdam:20281103T090000
DTEND;TZID=Europe/Amsterdam:20281103T100000
DTSTAMP:20260425T060845
CREATED:20240708T115210Z
LAST-MODIFIED:20240708T115211Z
UID:10003685-1856854800-1856858400@www.wijkcentrumtewerve.nl
SUMMARY:Yoga
DESCRIPTION:Yogales door docente Carla Mahabier. Meer informatie via 06 – 20 94 38 56. \n 
URL:https://www.wijkcentrumtewerve.nl/activiteit/yoga-2-2/2028-11-03/
LOCATION:Activiteitenruimte 2
END:VEVENT
BEGIN:VEVENT
DTSTART;TZID=Europe/Amsterdam:20281109T133000
DTEND;TZID=Europe/Amsterdam:20281109T164500
DTSTAMP:20260425T060845
CREATED:20240708T115205Z
LAST-MODIFIED:20240708T115206Z
UID:10001548-1857389400-1857401100@www.wijkcentrumtewerve.nl
SUMMARY:Yoga
DESCRIPTION:Yogales door docente Carla Mahabier. Meer informatie via 06 – 20 94 38 56. \n 
URL:https://www.wijkcentrumtewerve.nl/activiteit/yoga-3/2028-11-09/
LOCATION:Activiteitenruimte 2
END:VEVENT
BEGIN:VEVENT
DTSTART;TZID=Europe/Amsterdam:20281110T090000
DTEND;TZID=Europe/Amsterdam:20281110T100000
DTSTAMP:20260425T060845
CREATED:20240708T115210Z
LAST-MODIFIED:20240708T115211Z
UID:10003686-1857459600-1857463200@www.wijkcentrumtewerve.nl
SUMMARY:Yoga
DESCRIPTION:Yogales door docente Carla Mahabier. Meer informatie via 06 – 20 94 38 56. \n 
URL:https://www.wijkcentrumtewerve.nl/activiteit/yoga-2-2/2028-11-10/
LOCATION:Activiteitenruimte 2
END:VEVENT
BEGIN:VEVENT
DTSTART;TZID=Europe/Amsterdam:20281116T133000
DTEND;TZID=Europe/Amsterdam:20281116T164500
DTSTAMP:20260425T060845
CREATED:20240708T115205Z
LAST-MODIFIED:20240708T115206Z
UID:10001549-1857994200-1858005900@www.wijkcentrumtewerve.nl
SUMMARY:Yoga
DESCRIPTION:Yogales door docente Carla Mahabier. Meer informatie via 06 – 20 94 38 56. \n 
URL:https://www.wijkcentrumtewerve.nl/activiteit/yoga-3/2028-11-16/
LOCATION:Activiteitenruimte 2
END:VEVENT
BEGIN:VEVENT
DTSTART;TZID=Europe/Amsterdam:20281117T090000
DTEND;TZID=Europe/Amsterdam:20281117T100000
DTSTAMP:20260425T060845
CREATED:20240708T115210Z
LAST-MODIFIED:20240708T115211Z
UID:10003687-1858064400-1858068000@www.wijkcentrumtewerve.nl
SUMMARY:Yoga
DESCRIPTION:Yogales door docente Carla Mahabier. Meer informatie via 06 – 20 94 38 56. \n 
URL:https://www.wijkcentrumtewerve.nl/activiteit/yoga-2-2/2028-11-17/
LOCATION:Activiteitenruimte 2
END:VEVENT
BEGIN:VEVENT
DTSTART;TZID=Europe/Amsterdam:20281123T133000
DTEND;TZID=Europe/Amsterdam:20281123T164500
DTSTAMP:20260425T060845
CREATED:20240708T115205Z
LAST-MODIFIED:20240708T115206Z
UID:10001550-1858599000-1858610700@www.wijkcentrumtewerve.nl
SUMMARY:Yoga
DESCRIPTION:Yogales door docente Carla Mahabier. Meer informatie via 06 – 20 94 38 56. \n 
URL:https://www.wijkcentrumtewerve.nl/activiteit/yoga-3/2028-11-23/
LOCATION:Activiteitenruimte 2
END:VEVENT
BEGIN:VEVENT
DTSTART;TZID=Europe/Amsterdam:20281124T090000
DTEND;TZID=Europe/Amsterdam:20281124T100000
DTSTAMP:20260425T060845
CREATED:20240708T115210Z
LAST-MODIFIED:20240708T115211Z
UID:10003688-1858669200-1858672800@www.wijkcentrumtewerve.nl
SUMMARY:Yoga
DESCRIPTION:Yogales door docente Carla Mahabier. Meer informatie via 06 – 20 94 38 56. \n 
URL:https://www.wijkcentrumtewerve.nl/activiteit/yoga-2-2/2028-11-24/
LOCATION:Activiteitenruimte 2
END:VEVENT
BEGIN:VEVENT
DTSTART;TZID=Europe/Amsterdam:20281130T133000
DTEND;TZID=Europe/Amsterdam:20281130T164500
DTSTAMP:20260425T060845
CREATED:20240708T115205Z
LAST-MODIFIED:20240708T115206Z
UID:10001551-1859203800-1859215500@www.wijkcentrumtewerve.nl
SUMMARY:Yoga
DESCRIPTION:Yogales door docente Carla Mahabier. Meer informatie via 06 – 20 94 38 56. \n 
URL:https://www.wijkcentrumtewerve.nl/activiteit/yoga-3/2028-11-30/
LOCATION:Activiteitenruimte 2
END:VEVENT
BEGIN:VEVENT
DTSTART;TZID=Europe/Amsterdam:20281201T090000
DTEND;TZID=Europe/Amsterdam:20281201T100000
DTSTAMP:20260425T060845
CREATED:20240708T115210Z
LAST-MODIFIED:20240708T115211Z
UID:10003689-1859274000-1859277600@www.wijkcentrumtewerve.nl
SUMMARY:Yoga
DESCRIPTION:Yogales door docente Carla Mahabier. Meer informatie via 06 – 20 94 38 56. \n 
URL:https://www.wijkcentrumtewerve.nl/activiteit/yoga-2-2/2028-12-01/
LOCATION:Activiteitenruimte 2
END:VEVENT
BEGIN:VEVENT
DTSTART;TZID=Europe/Amsterdam:20281207T133000
DTEND;TZID=Europe/Amsterdam:20281207T164500
DTSTAMP:20260425T060845
CREATED:20240708T115205Z
LAST-MODIFIED:20240708T115206Z
UID:10001552-1859808600-1859820300@www.wijkcentrumtewerve.nl
SUMMARY:Yoga
DESCRIPTION:Yogales door docente Carla Mahabier. Meer informatie via 06 – 20 94 38 56. \n 
URL:https://www.wijkcentrumtewerve.nl/activiteit/yoga-3/2028-12-07/
LOCATION:Activiteitenruimte 2
END:VEVENT
BEGIN:VEVENT
DTSTART;TZID=Europe/Amsterdam:20281208T090000
DTEND;TZID=Europe/Amsterdam:20281208T100000
DTSTAMP:20260425T060845
CREATED:20240708T115210Z
LAST-MODIFIED:20240708T115211Z
UID:10003690-1859878800-1859882400@www.wijkcentrumtewerve.nl
SUMMARY:Yoga
DESCRIPTION:Yogales door docente Carla Mahabier. Meer informatie via 06 – 20 94 38 56. \n 
URL:https://www.wijkcentrumtewerve.nl/activiteit/yoga-2-2/2028-12-08/
LOCATION:Activiteitenruimte 2
END:VEVENT
BEGIN:VEVENT
DTSTART;TZID=Europe/Amsterdam:20281214T133000
DTEND;TZID=Europe/Amsterdam:20281214T164500
DTSTAMP:20260425T060845
CREATED:20240708T115205Z
LAST-MODIFIED:20240708T115206Z
UID:10001553-1860413400-1860425100@www.wijkcentrumtewerve.nl
SUMMARY:Yoga
DESCRIPTION:Yogales door docente Carla Mahabier. Meer informatie via 06 – 20 94 38 56. \n 
URL:https://www.wijkcentrumtewerve.nl/activiteit/yoga-3/2028-12-14/
LOCATION:Activiteitenruimte 2
END:VEVENT
BEGIN:VEVENT
DTSTART;TZID=Europe/Amsterdam:20281215T090000
DTEND;TZID=Europe/Amsterdam:20281215T100000
DTSTAMP:20260425T060845
CREATED:20240708T115210Z
LAST-MODIFIED:20240708T115211Z
UID:10003691-1860483600-1860487200@www.wijkcentrumtewerve.nl
SUMMARY:Yoga
DESCRIPTION:Yogales door docente Carla Mahabier. Meer informatie via 06 – 20 94 38 56. \n 
URL:https://www.wijkcentrumtewerve.nl/activiteit/yoga-2-2/2028-12-15/
LOCATION:Activiteitenruimte 2
END:VEVENT
BEGIN:VEVENT
DTSTART;TZID=Europe/Amsterdam:20281221T133000
DTEND;TZID=Europe/Amsterdam:20281221T164500
DTSTAMP:20260425T060845
CREATED:20240708T115205Z
LAST-MODIFIED:20240708T115206Z
UID:10004396-1861018200-1861029900@www.wijkcentrumtewerve.nl
SUMMARY:Yoga
DESCRIPTION:Yogales door docente Carla Mahabier. Meer informatie via 06 – 20 94 38 56. \n 
URL:https://www.wijkcentrumtewerve.nl/activiteit/yoga-3/2028-12-21/
LOCATION:Activiteitenruimte 2
END:VEVENT
BEGIN:VEVENT
DTSTART;TZID=Europe/Amsterdam:20281222T090000
DTEND;TZID=Europe/Amsterdam:20281222T100000
DTSTAMP:20260425T060845
CREATED:20240708T115210Z
LAST-MODIFIED:20240708T115211Z
UID:10003692-1861088400-1861092000@www.wijkcentrumtewerve.nl
SUMMARY:Yoga
DESCRIPTION:Yogales door docente Carla Mahabier. Meer informatie via 06 – 20 94 38 56. \n 
URL:https://www.wijkcentrumtewerve.nl/activiteit/yoga-2-2/2028-12-22/
LOCATION:Activiteitenruimte 2
END:VEVENT
BEGIN:VEVENT
DTSTART;TZID=Europe/Amsterdam:20281228T133000
DTEND;TZID=Europe/Amsterdam:20281228T164500
DTSTAMP:20260425T060845
CREATED:20240708T115205Z
LAST-MODIFIED:20240708T115206Z
UID:10004397-1861623000-1861634700@www.wijkcentrumtewerve.nl
SUMMARY:Yoga
DESCRIPTION:Yogales door docente Carla Mahabier. Meer informatie via 06 – 20 94 38 56. \n 
URL:https://www.wijkcentrumtewerve.nl/activiteit/yoga-3/2028-12-28/
LOCATION:Activiteitenruimte 2
END:VEVENT
BEGIN:VEVENT
DTSTART;TZID=Europe/Amsterdam:20281229T090000
DTEND;TZID=Europe/Amsterdam:20281229T100000
DTSTAMP:20260425T060845
CREATED:20240708T115210Z
LAST-MODIFIED:20240708T115211Z
UID:10003693-1861693200-1861696800@www.wijkcentrumtewerve.nl
SUMMARY:Yoga
DESCRIPTION:Yogales door docente Carla Mahabier. Meer informatie via 06 – 20 94 38 56. \n 
URL:https://www.wijkcentrumtewerve.nl/activiteit/yoga-2-2/2028-12-29/
LOCATION:Activiteitenruimte 2
END:VEVENT
BEGIN:VEVENT
DTSTART;TZID=Europe/Amsterdam:20290104T133000
DTEND;TZID=Europe/Amsterdam:20290104T164500
DTSTAMP:20260425T060845
CREATED:20240708T115205Z
LAST-MODIFIED:20240708T115206Z
UID:10004398-1862227800-1862239500@www.wijkcentrumtewerve.nl
SUMMARY:Yoga
DESCRIPTION:Yogales door docente Carla Mahabier. Meer informatie via 06 – 20 94 38 56. \n 
URL:https://www.wijkcentrumtewerve.nl/activiteit/yoga-3/2029-01-04/
LOCATION:Activiteitenruimte 2
END:VEVENT
BEGIN:VEVENT
DTSTART;TZID=Europe/Amsterdam:20290105T090000
DTEND;TZID=Europe/Amsterdam:20290105T100000
DTSTAMP:20260425T060845
CREATED:20240708T115210Z
LAST-MODIFIED:20240708T115211Z
UID:10003694-1862298000-1862301600@www.wijkcentrumtewerve.nl
SUMMARY:Yoga
DESCRIPTION:Yogales door docente Carla Mahabier. Meer informatie via 06 – 20 94 38 56. \n 
URL:https://www.wijkcentrumtewerve.nl/activiteit/yoga-2-2/2029-01-05/
LOCATION:Activiteitenruimte 2
END:VEVENT
BEGIN:VEVENT
DTSTART;TZID=Europe/Amsterdam:20290111T133000
DTEND;TZID=Europe/Amsterdam:20290111T164500
DTSTAMP:20260425T060845
CREATED:20240708T115205Z
LAST-MODIFIED:20240708T115206Z
UID:10004399-1862832600-1862844300@www.wijkcentrumtewerve.nl
SUMMARY:Yoga
DESCRIPTION:Yogales door docente Carla Mahabier. Meer informatie via 06 – 20 94 38 56. \n 
URL:https://www.wijkcentrumtewerve.nl/activiteit/yoga-3/2029-01-11/
LOCATION:Activiteitenruimte 2
END:VEVENT
BEGIN:VEVENT
DTSTART;TZID=Europe/Amsterdam:20290112T090000
DTEND;TZID=Europe/Amsterdam:20290112T100000
DTSTAMP:20260425T060845
CREATED:20240708T115210Z
LAST-MODIFIED:20240708T115211Z
UID:10003695-1862902800-1862906400@www.wijkcentrumtewerve.nl
SUMMARY:Yoga
DESCRIPTION:Yogales door docente Carla Mahabier. Meer informatie via 06 – 20 94 38 56. \n 
URL:https://www.wijkcentrumtewerve.nl/activiteit/yoga-2-2/2029-01-12/
LOCATION:Activiteitenruimte 2
END:VEVENT
BEGIN:VEVENT
DTSTART;TZID=Europe/Amsterdam:20290118T133000
DTEND;TZID=Europe/Amsterdam:20290118T164500
DTSTAMP:20260425T060845
CREATED:20240708T115205Z
LAST-MODIFIED:20240708T115206Z
UID:10004400-1863437400-1863449100@www.wijkcentrumtewerve.nl
SUMMARY:Yoga
DESCRIPTION:Yogales door docente Carla Mahabier. Meer informatie via 06 – 20 94 38 56. \n 
URL:https://www.wijkcentrumtewerve.nl/activiteit/yoga-3/2029-01-18/
LOCATION:Activiteitenruimte 2
END:VEVENT
BEGIN:VEVENT
DTSTART;TZID=Europe/Amsterdam:20290119T090000
DTEND;TZID=Europe/Amsterdam:20290119T100000
DTSTAMP:20260425T060845
CREATED:20240708T115210Z
LAST-MODIFIED:20240708T115211Z
UID:10003696-1863507600-1863511200@www.wijkcentrumtewerve.nl
SUMMARY:Yoga
DESCRIPTION:Yogales door docente Carla Mahabier. Meer informatie via 06 – 20 94 38 56. \n 
URL:https://www.wijkcentrumtewerve.nl/activiteit/yoga-2-2/2029-01-19/
LOCATION:Activiteitenruimte 2
END:VEVENT
BEGIN:VEVENT
DTSTART;TZID=Europe/Amsterdam:20290125T133000
DTEND;TZID=Europe/Amsterdam:20290125T164500
DTSTAMP:20260425T060845
CREATED:20240708T115205Z
LAST-MODIFIED:20240708T115206Z
UID:10004401-1864042200-1864053900@www.wijkcentrumtewerve.nl
SUMMARY:Yoga
DESCRIPTION:Yogales door docente Carla Mahabier. Meer informatie via 06 – 20 94 38 56. \n 
URL:https://www.wijkcentrumtewerve.nl/activiteit/yoga-3/2029-01-25/
LOCATION:Activiteitenruimte 2
END:VEVENT
BEGIN:VEVENT
DTSTART;TZID=Europe/Amsterdam:20290126T090000
DTEND;TZID=Europe/Amsterdam:20290126T100000
DTSTAMP:20260425T060845
CREATED:20240708T115210Z
LAST-MODIFIED:20240708T115211Z
UID:10004425-1864112400-1864116000@www.wijkcentrumtewerve.nl
SUMMARY:Yoga
DESCRIPTION:Yogales door docente Carla Mahabier. Meer informatie via 06 – 20 94 38 56. \n 
URL:https://www.wijkcentrumtewerve.nl/activiteit/yoga-2-2/2029-01-26/
LOCATION:Activiteitenruimte 2
END:VEVENT
BEGIN:VEVENT
DTSTART;TZID=Europe/Amsterdam:20290201T133000
DTEND;TZID=Europe/Amsterdam:20290201T164500
DTSTAMP:20260425T060845
CREATED:20240708T115205Z
LAST-MODIFIED:20240708T115206Z
UID:10004402-1864647000-1864658700@www.wijkcentrumtewerve.nl
SUMMARY:Yoga
DESCRIPTION:Yogales door docente Carla Mahabier. Meer informatie via 06 – 20 94 38 56. \n 
URL:https://www.wijkcentrumtewerve.nl/activiteit/yoga-3/2029-02-01/
LOCATION:Activiteitenruimte 2
END:VEVENT
BEGIN:VEVENT
DTSTART;TZID=Europe/Amsterdam:20290202T090000
DTEND;TZID=Europe/Amsterdam:20290202T100000
DTSTAMP:20260425T060845
CREATED:20240708T115210Z
LAST-MODIFIED:20240708T115211Z
UID:10004426-1864717200-1864720800@www.wijkcentrumtewerve.nl
SUMMARY:Yoga
DESCRIPTION:Yogales door docente Carla Mahabier. Meer informatie via 06 – 20 94 38 56. \n 
URL:https://www.wijkcentrumtewerve.nl/activiteit/yoga-2-2/2029-02-02/
LOCATION:Activiteitenruimte 2
END:VEVENT
END:VCALENDAR