BEGIN:VCALENDAR
VERSION:2.0
PRODID:-//Wijkcentrum Te Werve - Welzijn Rijswijk - ECPv6.8.2.1//NONSGML v1.0//EN
CALSCALE:GREGORIAN
METHOD:PUBLISH
X-WR-CALNAME:Wijkcentrum Te Werve - Welzijn Rijswijk
X-ORIGINAL-URL:https://www.wijkcentrumtewerve.nl
X-WR-CALDESC:Evenementen voor Wijkcentrum Te Werve - Welzijn Rijswijk
REFRESH-INTERVAL;VALUE=DURATION:PT1H
X-Robots-Tag:noindex
X-PUBLISHED-TTL:PT1H
BEGIN:VTIMEZONE
TZID:Europe/Amsterdam
BEGIN:DAYLIGHT
TZOFFSETFROM:+0100
TZOFFSETTO:+0200
TZNAME:CEST
DTSTART:20280326T010000
END:DAYLIGHT
BEGIN:STANDARD
TZOFFSETFROM:+0200
TZOFFSETTO:+0100
TZNAME:CET
DTSTART:20281029T010000
END:STANDARD
END:VTIMEZONE
BEGIN:VEVENT
DTSTART;TZID=Europe/Amsterdam:20280817T133000
DTEND;TZID=Europe/Amsterdam:20280817T164500
DTSTAMP:20260425T044619
CREATED:20240708T115205Z
LAST-MODIFIED:20240708T115206Z
UID:10001536-1850131800-1850143500@www.wijkcentrumtewerve.nl
SUMMARY:Yoga
DESCRIPTION:Yogales door docente Carla Mahabier. Meer informatie via 06 – 20 94 38 56. \n 
URL:https://www.wijkcentrumtewerve.nl/activiteit/yoga-3/2028-08-17/
LOCATION:Activiteitenruimte 2
END:VEVENT
BEGIN:VEVENT
DTSTART;TZID=Europe/Amsterdam:20280818T090000
DTEND;TZID=Europe/Amsterdam:20280818T100000
DTSTAMP:20260425T044619
CREATED:20240708T115210Z
LAST-MODIFIED:20240708T115211Z
UID:10003674-1850202000-1850205600@www.wijkcentrumtewerve.nl
SUMMARY:Yoga
DESCRIPTION:Yogales door docente Carla Mahabier. Meer informatie via 06 – 20 94 38 56. \n 
URL:https://www.wijkcentrumtewerve.nl/activiteit/yoga-2-2/2028-08-18/
LOCATION:Activiteitenruimte 2
END:VEVENT
BEGIN:VEVENT
DTSTART;TZID=Europe/Amsterdam:20280824T133000
DTEND;TZID=Europe/Amsterdam:20280824T164500
DTSTAMP:20260425T044619
CREATED:20240708T115205Z
LAST-MODIFIED:20240708T115206Z
UID:10001537-1850736600-1850748300@www.wijkcentrumtewerve.nl
SUMMARY:Yoga
DESCRIPTION:Yogales door docente Carla Mahabier. Meer informatie via 06 – 20 94 38 56. \n 
URL:https://www.wijkcentrumtewerve.nl/activiteit/yoga-3/2028-08-24/
LOCATION:Activiteitenruimte 2
END:VEVENT
BEGIN:VEVENT
DTSTART;TZID=Europe/Amsterdam:20280825T090000
DTEND;TZID=Europe/Amsterdam:20280825T100000
DTSTAMP:20260425T044619
CREATED:20240708T115210Z
LAST-MODIFIED:20240708T115211Z
UID:10003675-1850806800-1850810400@www.wijkcentrumtewerve.nl
SUMMARY:Yoga
DESCRIPTION:Yogales door docente Carla Mahabier. Meer informatie via 06 – 20 94 38 56. \n 
URL:https://www.wijkcentrumtewerve.nl/activiteit/yoga-2-2/2028-08-25/
LOCATION:Activiteitenruimte 2
END:VEVENT
BEGIN:VEVENT
DTSTART;TZID=Europe/Amsterdam:20280831T133000
DTEND;TZID=Europe/Amsterdam:20280831T164500
DTSTAMP:20260425T044619
CREATED:20240708T115205Z
LAST-MODIFIED:20240708T115206Z
UID:10001538-1851341400-1851353100@www.wijkcentrumtewerve.nl
SUMMARY:Yoga
DESCRIPTION:Yogales door docente Carla Mahabier. Meer informatie via 06 – 20 94 38 56. \n 
URL:https://www.wijkcentrumtewerve.nl/activiteit/yoga-3/2028-08-31/
LOCATION:Activiteitenruimte 2
END:VEVENT
BEGIN:VEVENT
DTSTART;TZID=Europe/Amsterdam:20280901T090000
DTEND;TZID=Europe/Amsterdam:20280901T100000
DTSTAMP:20260425T044619
CREATED:20240708T115210Z
LAST-MODIFIED:20240708T115211Z
UID:10003676-1851411600-1851415200@www.wijkcentrumtewerve.nl
SUMMARY:Yoga
DESCRIPTION:Yogales door docente Carla Mahabier. Meer informatie via 06 – 20 94 38 56. \n 
URL:https://www.wijkcentrumtewerve.nl/activiteit/yoga-2-2/2028-09-01/
LOCATION:Activiteitenruimte 2
END:VEVENT
BEGIN:VEVENT
DTSTART;TZID=Europe/Amsterdam:20280907T133000
DTEND;TZID=Europe/Amsterdam:20280907T164500
DTSTAMP:20260425T044619
CREATED:20240708T115205Z
LAST-MODIFIED:20240708T115206Z
UID:10001539-1851946200-1851957900@www.wijkcentrumtewerve.nl
SUMMARY:Yoga
DESCRIPTION:Yogales door docente Carla Mahabier. Meer informatie via 06 – 20 94 38 56. \n 
URL:https://www.wijkcentrumtewerve.nl/activiteit/yoga-3/2028-09-07/
LOCATION:Activiteitenruimte 2
END:VEVENT
BEGIN:VEVENT
DTSTART;TZID=Europe/Amsterdam:20280908T090000
DTEND;TZID=Europe/Amsterdam:20280908T100000
DTSTAMP:20260425T044619
CREATED:20240708T115210Z
LAST-MODIFIED:20240708T115211Z
UID:10003677-1852016400-1852020000@www.wijkcentrumtewerve.nl
SUMMARY:Yoga
DESCRIPTION:Yogales door docente Carla Mahabier. Meer informatie via 06 – 20 94 38 56. \n 
URL:https://www.wijkcentrumtewerve.nl/activiteit/yoga-2-2/2028-09-08/
LOCATION:Activiteitenruimte 2
END:VEVENT
BEGIN:VEVENT
DTSTART;TZID=Europe/Amsterdam:20280914T133000
DTEND;TZID=Europe/Amsterdam:20280914T164500
DTSTAMP:20260425T044619
CREATED:20240708T115205Z
LAST-MODIFIED:20240708T115206Z
UID:10001540-1852551000-1852562700@www.wijkcentrumtewerve.nl
SUMMARY:Yoga
DESCRIPTION:Yogales door docente Carla Mahabier. Meer informatie via 06 – 20 94 38 56. \n 
URL:https://www.wijkcentrumtewerve.nl/activiteit/yoga-3/2028-09-14/
LOCATION:Activiteitenruimte 2
END:VEVENT
BEGIN:VEVENT
DTSTART;TZID=Europe/Amsterdam:20280915T090000
DTEND;TZID=Europe/Amsterdam:20280915T100000
DTSTAMP:20260425T044619
CREATED:20240708T115210Z
LAST-MODIFIED:20240708T115211Z
UID:10003678-1852621200-1852624800@www.wijkcentrumtewerve.nl
SUMMARY:Yoga
DESCRIPTION:Yogales door docente Carla Mahabier. Meer informatie via 06 – 20 94 38 56. \n 
URL:https://www.wijkcentrumtewerve.nl/activiteit/yoga-2-2/2028-09-15/
LOCATION:Activiteitenruimte 2
END:VEVENT
BEGIN:VEVENT
DTSTART;TZID=Europe/Amsterdam:20280921T133000
DTEND;TZID=Europe/Amsterdam:20280921T164500
DTSTAMP:20260425T044619
CREATED:20240708T115205Z
LAST-MODIFIED:20240708T115206Z
UID:10001541-1853155800-1853167500@www.wijkcentrumtewerve.nl
SUMMARY:Yoga
DESCRIPTION:Yogales door docente Carla Mahabier. Meer informatie via 06 – 20 94 38 56. \n 
URL:https://www.wijkcentrumtewerve.nl/activiteit/yoga-3/2028-09-21/
LOCATION:Activiteitenruimte 2
END:VEVENT
BEGIN:VEVENT
DTSTART;TZID=Europe/Amsterdam:20280922T090000
DTEND;TZID=Europe/Amsterdam:20280922T100000
DTSTAMP:20260425T044619
CREATED:20240708T115210Z
LAST-MODIFIED:20240708T115211Z
UID:10003679-1853226000-1853229600@www.wijkcentrumtewerve.nl
SUMMARY:Yoga
DESCRIPTION:Yogales door docente Carla Mahabier. Meer informatie via 06 – 20 94 38 56. \n 
URL:https://www.wijkcentrumtewerve.nl/activiteit/yoga-2-2/2028-09-22/
LOCATION:Activiteitenruimte 2
END:VEVENT
BEGIN:VEVENT
DTSTART;TZID=Europe/Amsterdam:20280928T133000
DTEND;TZID=Europe/Amsterdam:20280928T164500
DTSTAMP:20260425T044619
CREATED:20240708T115205Z
LAST-MODIFIED:20240708T115206Z
UID:10001542-1853760600-1853772300@www.wijkcentrumtewerve.nl
SUMMARY:Yoga
DESCRIPTION:Yogales door docente Carla Mahabier. Meer informatie via 06 – 20 94 38 56. \n 
URL:https://www.wijkcentrumtewerve.nl/activiteit/yoga-3/2028-09-28/
LOCATION:Activiteitenruimte 2
END:VEVENT
BEGIN:VEVENT
DTSTART;TZID=Europe/Amsterdam:20280929T090000
DTEND;TZID=Europe/Amsterdam:20280929T100000
DTSTAMP:20260425T044619
CREATED:20240708T115210Z
LAST-MODIFIED:20240708T115211Z
UID:10003680-1853830800-1853834400@www.wijkcentrumtewerve.nl
SUMMARY:Yoga
DESCRIPTION:Yogales door docente Carla Mahabier. Meer informatie via 06 – 20 94 38 56. \n 
URL:https://www.wijkcentrumtewerve.nl/activiteit/yoga-2-2/2028-09-29/
LOCATION:Activiteitenruimte 2
END:VEVENT
BEGIN:VEVENT
DTSTART;TZID=Europe/Amsterdam:20281005T133000
DTEND;TZID=Europe/Amsterdam:20281005T164500
DTSTAMP:20260425T044619
CREATED:20240708T115205Z
LAST-MODIFIED:20240708T115206Z
UID:10001543-1854365400-1854377100@www.wijkcentrumtewerve.nl
SUMMARY:Yoga
DESCRIPTION:Yogales door docente Carla Mahabier. Meer informatie via 06 – 20 94 38 56. \n 
URL:https://www.wijkcentrumtewerve.nl/activiteit/yoga-3/2028-10-05/
LOCATION:Activiteitenruimte 2
END:VEVENT
BEGIN:VEVENT
DTSTART;TZID=Europe/Amsterdam:20281006T090000
DTEND;TZID=Europe/Amsterdam:20281006T100000
DTSTAMP:20260425T044619
CREATED:20240708T115210Z
LAST-MODIFIED:20240708T115211Z
UID:10003681-1854435600-1854439200@www.wijkcentrumtewerve.nl
SUMMARY:Yoga
DESCRIPTION:Yogales door docente Carla Mahabier. Meer informatie via 06 – 20 94 38 56. \n 
URL:https://www.wijkcentrumtewerve.nl/activiteit/yoga-2-2/2028-10-06/
LOCATION:Activiteitenruimte 2
END:VEVENT
BEGIN:VEVENT
DTSTART;TZID=Europe/Amsterdam:20281012T133000
DTEND;TZID=Europe/Amsterdam:20281012T164500
DTSTAMP:20260425T044619
CREATED:20240708T115205Z
LAST-MODIFIED:20240708T115206Z
UID:10001544-1854970200-1854981900@www.wijkcentrumtewerve.nl
SUMMARY:Yoga
DESCRIPTION:Yogales door docente Carla Mahabier. Meer informatie via 06 – 20 94 38 56. \n 
URL:https://www.wijkcentrumtewerve.nl/activiteit/yoga-3/2028-10-12/
LOCATION:Activiteitenruimte 2
END:VEVENT
BEGIN:VEVENT
DTSTART;TZID=Europe/Amsterdam:20281013T090000
DTEND;TZID=Europe/Amsterdam:20281013T100000
DTSTAMP:20260425T044619
CREATED:20240708T115210Z
LAST-MODIFIED:20240708T115211Z
UID:10003682-1855040400-1855044000@www.wijkcentrumtewerve.nl
SUMMARY:Yoga
DESCRIPTION:Yogales door docente Carla Mahabier. Meer informatie via 06 – 20 94 38 56. \n 
URL:https://www.wijkcentrumtewerve.nl/activiteit/yoga-2-2/2028-10-13/
LOCATION:Activiteitenruimte 2
END:VEVENT
BEGIN:VEVENT
DTSTART;TZID=Europe/Amsterdam:20281019T133000
DTEND;TZID=Europe/Amsterdam:20281019T164500
DTSTAMP:20260425T044619
CREATED:20240708T115205Z
LAST-MODIFIED:20240708T115206Z
UID:10001545-1855575000-1855586700@www.wijkcentrumtewerve.nl
SUMMARY:Yoga
DESCRIPTION:Yogales door docente Carla Mahabier. Meer informatie via 06 – 20 94 38 56. \n 
URL:https://www.wijkcentrumtewerve.nl/activiteit/yoga-3/2028-10-19/
LOCATION:Activiteitenruimte 2
END:VEVENT
BEGIN:VEVENT
DTSTART;TZID=Europe/Amsterdam:20281020T090000
DTEND;TZID=Europe/Amsterdam:20281020T100000
DTSTAMP:20260425T044619
CREATED:20240708T115210Z
LAST-MODIFIED:20240708T115211Z
UID:10003683-1855645200-1855648800@www.wijkcentrumtewerve.nl
SUMMARY:Yoga
DESCRIPTION:Yogales door docente Carla Mahabier. Meer informatie via 06 – 20 94 38 56. \n 
URL:https://www.wijkcentrumtewerve.nl/activiteit/yoga-2-2/2028-10-20/
LOCATION:Activiteitenruimte 2
END:VEVENT
BEGIN:VEVENT
DTSTART;TZID=Europe/Amsterdam:20281026T133000
DTEND;TZID=Europe/Amsterdam:20281026T164500
DTSTAMP:20260425T044619
CREATED:20240708T115205Z
LAST-MODIFIED:20240708T115206Z
UID:10001546-1856179800-1856191500@www.wijkcentrumtewerve.nl
SUMMARY:Yoga
DESCRIPTION:Yogales door docente Carla Mahabier. Meer informatie via 06 – 20 94 38 56. \n 
URL:https://www.wijkcentrumtewerve.nl/activiteit/yoga-3/2028-10-26/
LOCATION:Activiteitenruimte 2
END:VEVENT
BEGIN:VEVENT
DTSTART;TZID=Europe/Amsterdam:20281027T090000
DTEND;TZID=Europe/Amsterdam:20281027T100000
DTSTAMP:20260425T044619
CREATED:20240708T115210Z
LAST-MODIFIED:20240708T115211Z
UID:10003684-1856250000-1856253600@www.wijkcentrumtewerve.nl
SUMMARY:Yoga
DESCRIPTION:Yogales door docente Carla Mahabier. Meer informatie via 06 – 20 94 38 56. \n 
URL:https://www.wijkcentrumtewerve.nl/activiteit/yoga-2-2/2028-10-27/
LOCATION:Activiteitenruimte 2
END:VEVENT
BEGIN:VEVENT
DTSTART;TZID=Europe/Amsterdam:20281102T133000
DTEND;TZID=Europe/Amsterdam:20281102T164500
DTSTAMP:20260425T044619
CREATED:20240708T115205Z
LAST-MODIFIED:20240708T115206Z
UID:10001547-1856784600-1856796300@www.wijkcentrumtewerve.nl
SUMMARY:Yoga
DESCRIPTION:Yogales door docente Carla Mahabier. Meer informatie via 06 – 20 94 38 56. \n 
URL:https://www.wijkcentrumtewerve.nl/activiteit/yoga-3/2028-11-02/
LOCATION:Activiteitenruimte 2
END:VEVENT
BEGIN:VEVENT
DTSTART;TZID=Europe/Amsterdam:20281103T090000
DTEND;TZID=Europe/Amsterdam:20281103T100000
DTSTAMP:20260425T044619
CREATED:20240708T115210Z
LAST-MODIFIED:20240708T115211Z
UID:10003685-1856854800-1856858400@www.wijkcentrumtewerve.nl
SUMMARY:Yoga
DESCRIPTION:Yogales door docente Carla Mahabier. Meer informatie via 06 – 20 94 38 56. \n 
URL:https://www.wijkcentrumtewerve.nl/activiteit/yoga-2-2/2028-11-03/
LOCATION:Activiteitenruimte 2
END:VEVENT
BEGIN:VEVENT
DTSTART;TZID=Europe/Amsterdam:20281109T133000
DTEND;TZID=Europe/Amsterdam:20281109T164500
DTSTAMP:20260425T044619
CREATED:20240708T115205Z
LAST-MODIFIED:20240708T115206Z
UID:10001548-1857389400-1857401100@www.wijkcentrumtewerve.nl
SUMMARY:Yoga
DESCRIPTION:Yogales door docente Carla Mahabier. Meer informatie via 06 – 20 94 38 56. \n 
URL:https://www.wijkcentrumtewerve.nl/activiteit/yoga-3/2028-11-09/
LOCATION:Activiteitenruimte 2
END:VEVENT
BEGIN:VEVENT
DTSTART;TZID=Europe/Amsterdam:20281110T090000
DTEND;TZID=Europe/Amsterdam:20281110T100000
DTSTAMP:20260425T044619
CREATED:20240708T115210Z
LAST-MODIFIED:20240708T115211Z
UID:10003686-1857459600-1857463200@www.wijkcentrumtewerve.nl
SUMMARY:Yoga
DESCRIPTION:Yogales door docente Carla Mahabier. Meer informatie via 06 – 20 94 38 56. \n 
URL:https://www.wijkcentrumtewerve.nl/activiteit/yoga-2-2/2028-11-10/
LOCATION:Activiteitenruimte 2
END:VEVENT
BEGIN:VEVENT
DTSTART;TZID=Europe/Amsterdam:20281116T133000
DTEND;TZID=Europe/Amsterdam:20281116T164500
DTSTAMP:20260425T044619
CREATED:20240708T115205Z
LAST-MODIFIED:20240708T115206Z
UID:10001549-1857994200-1858005900@www.wijkcentrumtewerve.nl
SUMMARY:Yoga
DESCRIPTION:Yogales door docente Carla Mahabier. Meer informatie via 06 – 20 94 38 56. \n 
URL:https://www.wijkcentrumtewerve.nl/activiteit/yoga-3/2028-11-16/
LOCATION:Activiteitenruimte 2
END:VEVENT
BEGIN:VEVENT
DTSTART;TZID=Europe/Amsterdam:20281117T090000
DTEND;TZID=Europe/Amsterdam:20281117T100000
DTSTAMP:20260425T044619
CREATED:20240708T115210Z
LAST-MODIFIED:20240708T115211Z
UID:10003687-1858064400-1858068000@www.wijkcentrumtewerve.nl
SUMMARY:Yoga
DESCRIPTION:Yogales door docente Carla Mahabier. Meer informatie via 06 – 20 94 38 56. \n 
URL:https://www.wijkcentrumtewerve.nl/activiteit/yoga-2-2/2028-11-17/
LOCATION:Activiteitenruimte 2
END:VEVENT
BEGIN:VEVENT
DTSTART;TZID=Europe/Amsterdam:20281123T133000
DTEND;TZID=Europe/Amsterdam:20281123T164500
DTSTAMP:20260425T044619
CREATED:20240708T115205Z
LAST-MODIFIED:20240708T115206Z
UID:10001550-1858599000-1858610700@www.wijkcentrumtewerve.nl
SUMMARY:Yoga
DESCRIPTION:Yogales door docente Carla Mahabier. Meer informatie via 06 – 20 94 38 56. \n 
URL:https://www.wijkcentrumtewerve.nl/activiteit/yoga-3/2028-11-23/
LOCATION:Activiteitenruimte 2
END:VEVENT
BEGIN:VEVENT
DTSTART;TZID=Europe/Amsterdam:20281124T090000
DTEND;TZID=Europe/Amsterdam:20281124T100000
DTSTAMP:20260425T044619
CREATED:20240708T115210Z
LAST-MODIFIED:20240708T115211Z
UID:10003688-1858669200-1858672800@www.wijkcentrumtewerve.nl
SUMMARY:Yoga
DESCRIPTION:Yogales door docente Carla Mahabier. Meer informatie via 06 – 20 94 38 56. \n 
URL:https://www.wijkcentrumtewerve.nl/activiteit/yoga-2-2/2028-11-24/
LOCATION:Activiteitenruimte 2
END:VEVENT
END:VCALENDAR