BEGIN:VCALENDAR
VERSION:2.0
PRODID:-//Wijkcentrum Te Werve - Welzijn Rijswijk - ECPv6.8.2.1//NONSGML v1.0//EN
CALSCALE:GREGORIAN
METHOD:PUBLISH
X-WR-CALNAME:Wijkcentrum Te Werve - Welzijn Rijswijk
X-ORIGINAL-URL:https://www.wijkcentrumtewerve.nl
X-WR-CALDESC:Evenementen voor Wijkcentrum Te Werve - Welzijn Rijswijk
REFRESH-INTERVAL;VALUE=DURATION:PT1H
X-Robots-Tag:noindex
X-PUBLISHED-TTL:PT1H
BEGIN:VTIMEZONE
TZID:Europe/Amsterdam
BEGIN:DAYLIGHT
TZOFFSETFROM:+0100
TZOFFSETTO:+0200
TZNAME:CEST
DTSTART:20280326T010000
END:DAYLIGHT
BEGIN:STANDARD
TZOFFSETFROM:+0200
TZOFFSETTO:+0100
TZNAME:CET
DTSTART:20281029T010000
END:STANDARD
END:VTIMEZONE
BEGIN:VEVENT
DTSTART;TZID=Europe/Amsterdam:20280608T133000
DTEND;TZID=Europe/Amsterdam:20280608T164500
DTSTAMP:20260425T032557
CREATED:20240708T115205Z
LAST-MODIFIED:20240708T115206Z
UID:10001526-1844083800-1844095500@www.wijkcentrumtewerve.nl
SUMMARY:Yoga
DESCRIPTION:Yogales door docente Carla Mahabier. Meer informatie via 06 – 20 94 38 56. \n 
URL:https://www.wijkcentrumtewerve.nl/activiteit/yoga-3/2028-06-08/
LOCATION:Activiteitenruimte 2
END:VEVENT
BEGIN:VEVENT
DTSTART;TZID=Europe/Amsterdam:20280609T090000
DTEND;TZID=Europe/Amsterdam:20280609T100000
DTSTAMP:20260425T032557
CREATED:20240708T115210Z
LAST-MODIFIED:20240708T115211Z
UID:10003664-1844154000-1844157600@www.wijkcentrumtewerve.nl
SUMMARY:Yoga
DESCRIPTION:Yogales door docente Carla Mahabier. Meer informatie via 06 – 20 94 38 56. \n 
URL:https://www.wijkcentrumtewerve.nl/activiteit/yoga-2-2/2028-06-09/
LOCATION:Activiteitenruimte 2
END:VEVENT
BEGIN:VEVENT
DTSTART;TZID=Europe/Amsterdam:20280615T133000
DTEND;TZID=Europe/Amsterdam:20280615T164500
DTSTAMP:20260425T032557
CREATED:20240708T115205Z
LAST-MODIFIED:20240708T115206Z
UID:10001527-1844688600-1844700300@www.wijkcentrumtewerve.nl
SUMMARY:Yoga
DESCRIPTION:Yogales door docente Carla Mahabier. Meer informatie via 06 – 20 94 38 56. \n 
URL:https://www.wijkcentrumtewerve.nl/activiteit/yoga-3/2028-06-15/
LOCATION:Activiteitenruimte 2
END:VEVENT
BEGIN:VEVENT
DTSTART;TZID=Europe/Amsterdam:20280616T090000
DTEND;TZID=Europe/Amsterdam:20280616T100000
DTSTAMP:20260425T032557
CREATED:20240708T115210Z
LAST-MODIFIED:20240708T115211Z
UID:10003665-1844758800-1844762400@www.wijkcentrumtewerve.nl
SUMMARY:Yoga
DESCRIPTION:Yogales door docente Carla Mahabier. Meer informatie via 06 – 20 94 38 56. \n 
URL:https://www.wijkcentrumtewerve.nl/activiteit/yoga-2-2/2028-06-16/
LOCATION:Activiteitenruimte 2
END:VEVENT
BEGIN:VEVENT
DTSTART;TZID=Europe/Amsterdam:20280622T133000
DTEND;TZID=Europe/Amsterdam:20280622T164500
DTSTAMP:20260425T032557
CREATED:20240708T115205Z
LAST-MODIFIED:20240708T115206Z
UID:10001528-1845293400-1845305100@www.wijkcentrumtewerve.nl
SUMMARY:Yoga
DESCRIPTION:Yogales door docente Carla Mahabier. Meer informatie via 06 – 20 94 38 56. \n 
URL:https://www.wijkcentrumtewerve.nl/activiteit/yoga-3/2028-06-22/
LOCATION:Activiteitenruimte 2
END:VEVENT
BEGIN:VEVENT
DTSTART;TZID=Europe/Amsterdam:20280623T090000
DTEND;TZID=Europe/Amsterdam:20280623T100000
DTSTAMP:20260425T032557
CREATED:20240708T115210Z
LAST-MODIFIED:20240708T115211Z
UID:10003666-1845363600-1845367200@www.wijkcentrumtewerve.nl
SUMMARY:Yoga
DESCRIPTION:Yogales door docente Carla Mahabier. Meer informatie via 06 – 20 94 38 56. \n 
URL:https://www.wijkcentrumtewerve.nl/activiteit/yoga-2-2/2028-06-23/
LOCATION:Activiteitenruimte 2
END:VEVENT
BEGIN:VEVENT
DTSTART;TZID=Europe/Amsterdam:20280629T133000
DTEND;TZID=Europe/Amsterdam:20280629T164500
DTSTAMP:20260425T032557
CREATED:20240708T115205Z
LAST-MODIFIED:20240708T115206Z
UID:10001529-1845898200-1845909900@www.wijkcentrumtewerve.nl
SUMMARY:Yoga
DESCRIPTION:Yogales door docente Carla Mahabier. Meer informatie via 06 – 20 94 38 56. \n 
URL:https://www.wijkcentrumtewerve.nl/activiteit/yoga-3/2028-06-29/
LOCATION:Activiteitenruimte 2
END:VEVENT
BEGIN:VEVENT
DTSTART;TZID=Europe/Amsterdam:20280630T090000
DTEND;TZID=Europe/Amsterdam:20280630T100000
DTSTAMP:20260425T032557
CREATED:20240708T115210Z
LAST-MODIFIED:20240708T115211Z
UID:10003667-1845968400-1845972000@www.wijkcentrumtewerve.nl
SUMMARY:Yoga
DESCRIPTION:Yogales door docente Carla Mahabier. Meer informatie via 06 – 20 94 38 56. \n 
URL:https://www.wijkcentrumtewerve.nl/activiteit/yoga-2-2/2028-06-30/
LOCATION:Activiteitenruimte 2
END:VEVENT
BEGIN:VEVENT
DTSTART;TZID=Europe/Amsterdam:20280706T133000
DTEND;TZID=Europe/Amsterdam:20280706T164500
DTSTAMP:20260425T032557
CREATED:20240708T115205Z
LAST-MODIFIED:20240708T115206Z
UID:10001530-1846503000-1846514700@www.wijkcentrumtewerve.nl
SUMMARY:Yoga
DESCRIPTION:Yogales door docente Carla Mahabier. Meer informatie via 06 – 20 94 38 56. \n 
URL:https://www.wijkcentrumtewerve.nl/activiteit/yoga-3/2028-07-06/
LOCATION:Activiteitenruimte 2
END:VEVENT
BEGIN:VEVENT
DTSTART;TZID=Europe/Amsterdam:20280707T090000
DTEND;TZID=Europe/Amsterdam:20280707T100000
DTSTAMP:20260425T032557
CREATED:20240708T115210Z
LAST-MODIFIED:20240708T115211Z
UID:10003668-1846573200-1846576800@www.wijkcentrumtewerve.nl
SUMMARY:Yoga
DESCRIPTION:Yogales door docente Carla Mahabier. Meer informatie via 06 – 20 94 38 56. \n 
URL:https://www.wijkcentrumtewerve.nl/activiteit/yoga-2-2/2028-07-07/
LOCATION:Activiteitenruimte 2
END:VEVENT
BEGIN:VEVENT
DTSTART;TZID=Europe/Amsterdam:20280713T133000
DTEND;TZID=Europe/Amsterdam:20280713T164500
DTSTAMP:20260425T032557
CREATED:20240708T115205Z
LAST-MODIFIED:20240708T115206Z
UID:10001531-1847107800-1847119500@www.wijkcentrumtewerve.nl
SUMMARY:Yoga
DESCRIPTION:Yogales door docente Carla Mahabier. Meer informatie via 06 – 20 94 38 56. \n 
URL:https://www.wijkcentrumtewerve.nl/activiteit/yoga-3/2028-07-13/
LOCATION:Activiteitenruimte 2
END:VEVENT
BEGIN:VEVENT
DTSTART;TZID=Europe/Amsterdam:20280714T090000
DTEND;TZID=Europe/Amsterdam:20280714T100000
DTSTAMP:20260425T032557
CREATED:20240708T115210Z
LAST-MODIFIED:20240708T115211Z
UID:10003669-1847178000-1847181600@www.wijkcentrumtewerve.nl
SUMMARY:Yoga
DESCRIPTION:Yogales door docente Carla Mahabier. Meer informatie via 06 – 20 94 38 56. \n 
URL:https://www.wijkcentrumtewerve.nl/activiteit/yoga-2-2/2028-07-14/
LOCATION:Activiteitenruimte 2
END:VEVENT
BEGIN:VEVENT
DTSTART;TZID=Europe/Amsterdam:20280720T133000
DTEND;TZID=Europe/Amsterdam:20280720T164500
DTSTAMP:20260425T032557
CREATED:20240708T115205Z
LAST-MODIFIED:20240708T115206Z
UID:10001532-1847712600-1847724300@www.wijkcentrumtewerve.nl
SUMMARY:Yoga
DESCRIPTION:Yogales door docente Carla Mahabier. Meer informatie via 06 – 20 94 38 56. \n 
URL:https://www.wijkcentrumtewerve.nl/activiteit/yoga-3/2028-07-20/
LOCATION:Activiteitenruimte 2
END:VEVENT
BEGIN:VEVENT
DTSTART;TZID=Europe/Amsterdam:20280721T090000
DTEND;TZID=Europe/Amsterdam:20280721T100000
DTSTAMP:20260425T032557
CREATED:20240708T115210Z
LAST-MODIFIED:20240708T115211Z
UID:10003670-1847782800-1847786400@www.wijkcentrumtewerve.nl
SUMMARY:Yoga
DESCRIPTION:Yogales door docente Carla Mahabier. Meer informatie via 06 – 20 94 38 56. \n 
URL:https://www.wijkcentrumtewerve.nl/activiteit/yoga-2-2/2028-07-21/
LOCATION:Activiteitenruimte 2
END:VEVENT
BEGIN:VEVENT
DTSTART;TZID=Europe/Amsterdam:20280727T133000
DTEND;TZID=Europe/Amsterdam:20280727T164500
DTSTAMP:20260425T032557
CREATED:20240708T115205Z
LAST-MODIFIED:20240708T115206Z
UID:10001533-1848317400-1848329100@www.wijkcentrumtewerve.nl
SUMMARY:Yoga
DESCRIPTION:Yogales door docente Carla Mahabier. Meer informatie via 06 – 20 94 38 56. \n 
URL:https://www.wijkcentrumtewerve.nl/activiteit/yoga-3/2028-07-27/
LOCATION:Activiteitenruimte 2
END:VEVENT
BEGIN:VEVENT
DTSTART;TZID=Europe/Amsterdam:20280728T090000
DTEND;TZID=Europe/Amsterdam:20280728T100000
DTSTAMP:20260425T032557
CREATED:20240708T115210Z
LAST-MODIFIED:20240708T115211Z
UID:10003671-1848387600-1848391200@www.wijkcentrumtewerve.nl
SUMMARY:Yoga
DESCRIPTION:Yogales door docente Carla Mahabier. Meer informatie via 06 – 20 94 38 56. \n 
URL:https://www.wijkcentrumtewerve.nl/activiteit/yoga-2-2/2028-07-28/
LOCATION:Activiteitenruimte 2
END:VEVENT
BEGIN:VEVENT
DTSTART;TZID=Europe/Amsterdam:20280803T133000
DTEND;TZID=Europe/Amsterdam:20280803T164500
DTSTAMP:20260425T032557
CREATED:20240708T115205Z
LAST-MODIFIED:20240708T115206Z
UID:10001534-1848922200-1848933900@www.wijkcentrumtewerve.nl
SUMMARY:Yoga
DESCRIPTION:Yogales door docente Carla Mahabier. Meer informatie via 06 – 20 94 38 56. \n 
URL:https://www.wijkcentrumtewerve.nl/activiteit/yoga-3/2028-08-03/
LOCATION:Activiteitenruimte 2
END:VEVENT
BEGIN:VEVENT
DTSTART;TZID=Europe/Amsterdam:20280804T090000
DTEND;TZID=Europe/Amsterdam:20280804T100000
DTSTAMP:20260425T032557
CREATED:20240708T115210Z
LAST-MODIFIED:20240708T115211Z
UID:10003672-1848992400-1848996000@www.wijkcentrumtewerve.nl
SUMMARY:Yoga
DESCRIPTION:Yogales door docente Carla Mahabier. Meer informatie via 06 – 20 94 38 56. \n 
URL:https://www.wijkcentrumtewerve.nl/activiteit/yoga-2-2/2028-08-04/
LOCATION:Activiteitenruimte 2
END:VEVENT
BEGIN:VEVENT
DTSTART;TZID=Europe/Amsterdam:20280810T133000
DTEND;TZID=Europe/Amsterdam:20280810T164500
DTSTAMP:20260425T032557
CREATED:20240708T115205Z
LAST-MODIFIED:20240708T115206Z
UID:10001535-1849527000-1849538700@www.wijkcentrumtewerve.nl
SUMMARY:Yoga
DESCRIPTION:Yogales door docente Carla Mahabier. Meer informatie via 06 – 20 94 38 56. \n 
URL:https://www.wijkcentrumtewerve.nl/activiteit/yoga-3/2028-08-10/
LOCATION:Activiteitenruimte 2
END:VEVENT
BEGIN:VEVENT
DTSTART;TZID=Europe/Amsterdam:20280811T090000
DTEND;TZID=Europe/Amsterdam:20280811T100000
DTSTAMP:20260425T032557
CREATED:20240708T115210Z
LAST-MODIFIED:20240708T115211Z
UID:10003673-1849597200-1849600800@www.wijkcentrumtewerve.nl
SUMMARY:Yoga
DESCRIPTION:Yogales door docente Carla Mahabier. Meer informatie via 06 – 20 94 38 56. \n 
URL:https://www.wijkcentrumtewerve.nl/activiteit/yoga-2-2/2028-08-11/
LOCATION:Activiteitenruimte 2
END:VEVENT
BEGIN:VEVENT
DTSTART;TZID=Europe/Amsterdam:20280817T133000
DTEND;TZID=Europe/Amsterdam:20280817T164500
DTSTAMP:20260425T032557
CREATED:20240708T115205Z
LAST-MODIFIED:20240708T115206Z
UID:10001536-1850131800-1850143500@www.wijkcentrumtewerve.nl
SUMMARY:Yoga
DESCRIPTION:Yogales door docente Carla Mahabier. Meer informatie via 06 – 20 94 38 56. \n 
URL:https://www.wijkcentrumtewerve.nl/activiteit/yoga-3/2028-08-17/
LOCATION:Activiteitenruimte 2
END:VEVENT
BEGIN:VEVENT
DTSTART;TZID=Europe/Amsterdam:20280818T090000
DTEND;TZID=Europe/Amsterdam:20280818T100000
DTSTAMP:20260425T032557
CREATED:20240708T115210Z
LAST-MODIFIED:20240708T115211Z
UID:10003674-1850202000-1850205600@www.wijkcentrumtewerve.nl
SUMMARY:Yoga
DESCRIPTION:Yogales door docente Carla Mahabier. Meer informatie via 06 – 20 94 38 56. \n 
URL:https://www.wijkcentrumtewerve.nl/activiteit/yoga-2-2/2028-08-18/
LOCATION:Activiteitenruimte 2
END:VEVENT
BEGIN:VEVENT
DTSTART;TZID=Europe/Amsterdam:20280824T133000
DTEND;TZID=Europe/Amsterdam:20280824T164500
DTSTAMP:20260425T032557
CREATED:20240708T115205Z
LAST-MODIFIED:20240708T115206Z
UID:10001537-1850736600-1850748300@www.wijkcentrumtewerve.nl
SUMMARY:Yoga
DESCRIPTION:Yogales door docente Carla Mahabier. Meer informatie via 06 – 20 94 38 56. \n 
URL:https://www.wijkcentrumtewerve.nl/activiteit/yoga-3/2028-08-24/
LOCATION:Activiteitenruimte 2
END:VEVENT
BEGIN:VEVENT
DTSTART;TZID=Europe/Amsterdam:20280825T090000
DTEND;TZID=Europe/Amsterdam:20280825T100000
DTSTAMP:20260425T032557
CREATED:20240708T115210Z
LAST-MODIFIED:20240708T115211Z
UID:10003675-1850806800-1850810400@www.wijkcentrumtewerve.nl
SUMMARY:Yoga
DESCRIPTION:Yogales door docente Carla Mahabier. Meer informatie via 06 – 20 94 38 56. \n 
URL:https://www.wijkcentrumtewerve.nl/activiteit/yoga-2-2/2028-08-25/
LOCATION:Activiteitenruimte 2
END:VEVENT
BEGIN:VEVENT
DTSTART;TZID=Europe/Amsterdam:20280831T133000
DTEND;TZID=Europe/Amsterdam:20280831T164500
DTSTAMP:20260425T032557
CREATED:20240708T115205Z
LAST-MODIFIED:20240708T115206Z
UID:10001538-1851341400-1851353100@www.wijkcentrumtewerve.nl
SUMMARY:Yoga
DESCRIPTION:Yogales door docente Carla Mahabier. Meer informatie via 06 – 20 94 38 56. \n 
URL:https://www.wijkcentrumtewerve.nl/activiteit/yoga-3/2028-08-31/
LOCATION:Activiteitenruimte 2
END:VEVENT
BEGIN:VEVENT
DTSTART;TZID=Europe/Amsterdam:20280901T090000
DTEND;TZID=Europe/Amsterdam:20280901T100000
DTSTAMP:20260425T032557
CREATED:20240708T115210Z
LAST-MODIFIED:20240708T115211Z
UID:10003676-1851411600-1851415200@www.wijkcentrumtewerve.nl
SUMMARY:Yoga
DESCRIPTION:Yogales door docente Carla Mahabier. Meer informatie via 06 – 20 94 38 56. \n 
URL:https://www.wijkcentrumtewerve.nl/activiteit/yoga-2-2/2028-09-01/
LOCATION:Activiteitenruimte 2
END:VEVENT
BEGIN:VEVENT
DTSTART;TZID=Europe/Amsterdam:20280907T133000
DTEND;TZID=Europe/Amsterdam:20280907T164500
DTSTAMP:20260425T032557
CREATED:20240708T115205Z
LAST-MODIFIED:20240708T115206Z
UID:10001539-1851946200-1851957900@www.wijkcentrumtewerve.nl
SUMMARY:Yoga
DESCRIPTION:Yogales door docente Carla Mahabier. Meer informatie via 06 – 20 94 38 56. \n 
URL:https://www.wijkcentrumtewerve.nl/activiteit/yoga-3/2028-09-07/
LOCATION:Activiteitenruimte 2
END:VEVENT
BEGIN:VEVENT
DTSTART;TZID=Europe/Amsterdam:20280908T090000
DTEND;TZID=Europe/Amsterdam:20280908T100000
DTSTAMP:20260425T032557
CREATED:20240708T115210Z
LAST-MODIFIED:20240708T115211Z
UID:10003677-1852016400-1852020000@www.wijkcentrumtewerve.nl
SUMMARY:Yoga
DESCRIPTION:Yogales door docente Carla Mahabier. Meer informatie via 06 – 20 94 38 56. \n 
URL:https://www.wijkcentrumtewerve.nl/activiteit/yoga-2-2/2028-09-08/
LOCATION:Activiteitenruimte 2
END:VEVENT
BEGIN:VEVENT
DTSTART;TZID=Europe/Amsterdam:20280914T133000
DTEND;TZID=Europe/Amsterdam:20280914T164500
DTSTAMP:20260425T032557
CREATED:20240708T115205Z
LAST-MODIFIED:20240708T115206Z
UID:10001540-1852551000-1852562700@www.wijkcentrumtewerve.nl
SUMMARY:Yoga
DESCRIPTION:Yogales door docente Carla Mahabier. Meer informatie via 06 – 20 94 38 56. \n 
URL:https://www.wijkcentrumtewerve.nl/activiteit/yoga-3/2028-09-14/
LOCATION:Activiteitenruimte 2
END:VEVENT
BEGIN:VEVENT
DTSTART;TZID=Europe/Amsterdam:20280915T090000
DTEND;TZID=Europe/Amsterdam:20280915T100000
DTSTAMP:20260425T032557
CREATED:20240708T115210Z
LAST-MODIFIED:20240708T115211Z
UID:10003678-1852621200-1852624800@www.wijkcentrumtewerve.nl
SUMMARY:Yoga
DESCRIPTION:Yogales door docente Carla Mahabier. Meer informatie via 06 – 20 94 38 56. \n 
URL:https://www.wijkcentrumtewerve.nl/activiteit/yoga-2-2/2028-09-15/
LOCATION:Activiteitenruimte 2
END:VEVENT
END:VCALENDAR