BEGIN:VCALENDAR
VERSION:2.0
PRODID:-//Wijkcentrum Te Werve - Welzijn Rijswijk - ECPv6.8.2.1//NONSGML v1.0//EN
CALSCALE:GREGORIAN
METHOD:PUBLISH
X-ORIGINAL-URL:https://www.wijkcentrumtewerve.nl
X-WR-CALDESC:Evenementen voor Wijkcentrum Te Werve - Welzijn Rijswijk
REFRESH-INTERVAL;VALUE=DURATION:PT1H
X-Robots-Tag:noindex
X-PUBLISHED-TTL:PT1H
BEGIN:VTIMEZONE
TZID:Europe/Amsterdam
BEGIN:DAYLIGHT
TZOFFSETFROM:+0100
TZOFFSETTO:+0200
TZNAME:CEST
DTSTART:20280326T010000
END:DAYLIGHT
BEGIN:STANDARD
TZOFFSETFROM:+0200
TZOFFSETTO:+0100
TZNAME:CET
DTSTART:20281029T010000
END:STANDARD
END:VTIMEZONE
BEGIN:VEVENT
DTSTART;TZID=Europe/Amsterdam:20280330T133000
DTEND;TZID=Europe/Amsterdam:20280330T164500
DTSTAMP:20260425T020553
CREATED:20240708T115205Z
LAST-MODIFIED:20240708T115206Z
UID:10001516-1838035800-1838047500@www.wijkcentrumtewerve.nl
SUMMARY:Yoga
DESCRIPTION:Yogales door docente Carla Mahabier. Meer informatie via 06 – 20 94 38 56. \n 
URL:https://www.wijkcentrumtewerve.nl/activiteit/yoga-3/2028-03-30/
LOCATION:Activiteitenruimte 2
END:VEVENT
BEGIN:VEVENT
DTSTART;TZID=Europe/Amsterdam:20280331T090000
DTEND;TZID=Europe/Amsterdam:20280331T100000
DTSTAMP:20260425T020553
CREATED:20240708T115210Z
LAST-MODIFIED:20240708T115211Z
UID:10003654-1838106000-1838109600@www.wijkcentrumtewerve.nl
SUMMARY:Yoga
DESCRIPTION:Yogales door docente Carla Mahabier. Meer informatie via 06 – 20 94 38 56. \n 
URL:https://www.wijkcentrumtewerve.nl/activiteit/yoga-2-2/2028-03-31/
LOCATION:Activiteitenruimte 2
END:VEVENT
BEGIN:VEVENT
DTSTART;TZID=Europe/Amsterdam:20280406T133000
DTEND;TZID=Europe/Amsterdam:20280406T164500
DTSTAMP:20260425T020553
CREATED:20240708T115205Z
LAST-MODIFIED:20240708T115206Z
UID:10001517-1838640600-1838652300@www.wijkcentrumtewerve.nl
SUMMARY:Yoga
DESCRIPTION:Yogales door docente Carla Mahabier. Meer informatie via 06 – 20 94 38 56. \n 
URL:https://www.wijkcentrumtewerve.nl/activiteit/yoga-3/2028-04-06/
LOCATION:Activiteitenruimte 2
END:VEVENT
BEGIN:VEVENT
DTSTART;TZID=Europe/Amsterdam:20280407T090000
DTEND;TZID=Europe/Amsterdam:20280407T100000
DTSTAMP:20260425T020553
CREATED:20240708T115210Z
LAST-MODIFIED:20240708T115211Z
UID:10003655-1838710800-1838714400@www.wijkcentrumtewerve.nl
SUMMARY:Yoga
DESCRIPTION:Yogales door docente Carla Mahabier. Meer informatie via 06 – 20 94 38 56. \n 
URL:https://www.wijkcentrumtewerve.nl/activiteit/yoga-2-2/2028-04-07/
LOCATION:Activiteitenruimte 2
END:VEVENT
BEGIN:VEVENT
DTSTART;TZID=Europe/Amsterdam:20280413T133000
DTEND;TZID=Europe/Amsterdam:20280413T164500
DTSTAMP:20260425T020553
CREATED:20240708T115205Z
LAST-MODIFIED:20240708T115206Z
UID:10001518-1839245400-1839257100@www.wijkcentrumtewerve.nl
SUMMARY:Yoga
DESCRIPTION:Yogales door docente Carla Mahabier. Meer informatie via 06 – 20 94 38 56. \n 
URL:https://www.wijkcentrumtewerve.nl/activiteit/yoga-3/2028-04-13/
LOCATION:Activiteitenruimte 2
END:VEVENT
BEGIN:VEVENT
DTSTART;TZID=Europe/Amsterdam:20280414T090000
DTEND;TZID=Europe/Amsterdam:20280414T100000
DTSTAMP:20260425T020553
CREATED:20240708T115210Z
LAST-MODIFIED:20240708T115211Z
UID:10003656-1839315600-1839319200@www.wijkcentrumtewerve.nl
SUMMARY:Yoga
DESCRIPTION:Yogales door docente Carla Mahabier. Meer informatie via 06 – 20 94 38 56. \n 
URL:https://www.wijkcentrumtewerve.nl/activiteit/yoga-2-2/2028-04-14/
LOCATION:Activiteitenruimte 2
END:VEVENT
BEGIN:VEVENT
DTSTART;TZID=Europe/Amsterdam:20280420T133000
DTEND;TZID=Europe/Amsterdam:20280420T164500
DTSTAMP:20260425T020553
CREATED:20240708T115205Z
LAST-MODIFIED:20240708T115206Z
UID:10001519-1839850200-1839861900@www.wijkcentrumtewerve.nl
SUMMARY:Yoga
DESCRIPTION:Yogales door docente Carla Mahabier. Meer informatie via 06 – 20 94 38 56. \n 
URL:https://www.wijkcentrumtewerve.nl/activiteit/yoga-3/2028-04-20/
LOCATION:Activiteitenruimte 2
END:VEVENT
BEGIN:VEVENT
DTSTART;TZID=Europe/Amsterdam:20280421T090000
DTEND;TZID=Europe/Amsterdam:20280421T100000
DTSTAMP:20260425T020553
CREATED:20240708T115210Z
LAST-MODIFIED:20240708T115211Z
UID:10003657-1839920400-1839924000@www.wijkcentrumtewerve.nl
SUMMARY:Yoga
DESCRIPTION:Yogales door docente Carla Mahabier. Meer informatie via 06 – 20 94 38 56. \n 
URL:https://www.wijkcentrumtewerve.nl/activiteit/yoga-2-2/2028-04-21/
LOCATION:Activiteitenruimte 2
END:VEVENT
BEGIN:VEVENT
DTSTART;TZID=Europe/Amsterdam:20280427T133000
DTEND;TZID=Europe/Amsterdam:20280427T164500
DTSTAMP:20260425T020553
CREATED:20240708T115205Z
LAST-MODIFIED:20240708T115206Z
UID:10001520-1840455000-1840466700@www.wijkcentrumtewerve.nl
SUMMARY:Yoga
DESCRIPTION:Yogales door docente Carla Mahabier. Meer informatie via 06 – 20 94 38 56. \n 
URL:https://www.wijkcentrumtewerve.nl/activiteit/yoga-3/2028-04-27/
LOCATION:Activiteitenruimte 2
END:VEVENT
BEGIN:VEVENT
DTSTART;TZID=Europe/Amsterdam:20280428T090000
DTEND;TZID=Europe/Amsterdam:20280428T100000
DTSTAMP:20260425T020553
CREATED:20240708T115210Z
LAST-MODIFIED:20240708T115211Z
UID:10003658-1840525200-1840528800@www.wijkcentrumtewerve.nl
SUMMARY:Yoga
DESCRIPTION:Yogales door docente Carla Mahabier. Meer informatie via 06 – 20 94 38 56. \n 
URL:https://www.wijkcentrumtewerve.nl/activiteit/yoga-2-2/2028-04-28/
LOCATION:Activiteitenruimte 2
END:VEVENT
BEGIN:VEVENT
DTSTART;TZID=Europe/Amsterdam:20280504T133000
DTEND;TZID=Europe/Amsterdam:20280504T164500
DTSTAMP:20260425T020553
CREATED:20240708T115205Z
LAST-MODIFIED:20240708T115206Z
UID:10001521-1841059800-1841071500@www.wijkcentrumtewerve.nl
SUMMARY:Yoga
DESCRIPTION:Yogales door docente Carla Mahabier. Meer informatie via 06 – 20 94 38 56. \n 
URL:https://www.wijkcentrumtewerve.nl/activiteit/yoga-3/2028-05-04/
LOCATION:Activiteitenruimte 2
END:VEVENT
BEGIN:VEVENT
DTSTART;TZID=Europe/Amsterdam:20280505T090000
DTEND;TZID=Europe/Amsterdam:20280505T100000
DTSTAMP:20260425T020553
CREATED:20240708T115210Z
LAST-MODIFIED:20240708T115211Z
UID:10003659-1841130000-1841133600@www.wijkcentrumtewerve.nl
SUMMARY:Yoga
DESCRIPTION:Yogales door docente Carla Mahabier. Meer informatie via 06 – 20 94 38 56. \n 
URL:https://www.wijkcentrumtewerve.nl/activiteit/yoga-2-2/2028-05-05/
LOCATION:Activiteitenruimte 2
END:VEVENT
BEGIN:VEVENT
DTSTART;TZID=Europe/Amsterdam:20280511T133000
DTEND;TZID=Europe/Amsterdam:20280511T164500
DTSTAMP:20260425T020553
CREATED:20240708T115205Z
LAST-MODIFIED:20240708T115206Z
UID:10001522-1841664600-1841676300@www.wijkcentrumtewerve.nl
SUMMARY:Yoga
DESCRIPTION:Yogales door docente Carla Mahabier. Meer informatie via 06 – 20 94 38 56. \n 
URL:https://www.wijkcentrumtewerve.nl/activiteit/yoga-3/2028-05-11/
LOCATION:Activiteitenruimte 2
END:VEVENT
BEGIN:VEVENT
DTSTART;TZID=Europe/Amsterdam:20280512T090000
DTEND;TZID=Europe/Amsterdam:20280512T100000
DTSTAMP:20260425T020553
CREATED:20240708T115210Z
LAST-MODIFIED:20240708T115211Z
UID:10003660-1841734800-1841738400@www.wijkcentrumtewerve.nl
SUMMARY:Yoga
DESCRIPTION:Yogales door docente Carla Mahabier. Meer informatie via 06 – 20 94 38 56. \n 
URL:https://www.wijkcentrumtewerve.nl/activiteit/yoga-2-2/2028-05-12/
LOCATION:Activiteitenruimte 2
END:VEVENT
BEGIN:VEVENT
DTSTART;TZID=Europe/Amsterdam:20280518T133000
DTEND;TZID=Europe/Amsterdam:20280518T164500
DTSTAMP:20260425T020553
CREATED:20240708T115205Z
LAST-MODIFIED:20240708T115206Z
UID:10001523-1842269400-1842281100@www.wijkcentrumtewerve.nl
SUMMARY:Yoga
DESCRIPTION:Yogales door docente Carla Mahabier. Meer informatie via 06 – 20 94 38 56. \n 
URL:https://www.wijkcentrumtewerve.nl/activiteit/yoga-3/2028-05-18/
LOCATION:Activiteitenruimte 2
END:VEVENT
BEGIN:VEVENT
DTSTART;TZID=Europe/Amsterdam:20280519T090000
DTEND;TZID=Europe/Amsterdam:20280519T100000
DTSTAMP:20260425T020553
CREATED:20240708T115210Z
LAST-MODIFIED:20240708T115211Z
UID:10003661-1842339600-1842343200@www.wijkcentrumtewerve.nl
SUMMARY:Yoga
DESCRIPTION:Yogales door docente Carla Mahabier. Meer informatie via 06 – 20 94 38 56. \n 
URL:https://www.wijkcentrumtewerve.nl/activiteit/yoga-2-2/2028-05-19/
LOCATION:Activiteitenruimte 2
END:VEVENT
BEGIN:VEVENT
DTSTART;TZID=Europe/Amsterdam:20280525T133000
DTEND;TZID=Europe/Amsterdam:20280525T164500
DTSTAMP:20260425T020553
CREATED:20240708T115205Z
LAST-MODIFIED:20240708T115206Z
UID:10001524-1842874200-1842885900@www.wijkcentrumtewerve.nl
SUMMARY:Yoga
DESCRIPTION:Yogales door docente Carla Mahabier. Meer informatie via 06 – 20 94 38 56. \n 
URL:https://www.wijkcentrumtewerve.nl/activiteit/yoga-3/2028-05-25/
LOCATION:Activiteitenruimte 2
END:VEVENT
BEGIN:VEVENT
DTSTART;TZID=Europe/Amsterdam:20280526T090000
DTEND;TZID=Europe/Amsterdam:20280526T100000
DTSTAMP:20260425T020553
CREATED:20240708T115210Z
LAST-MODIFIED:20240708T115211Z
UID:10003662-1842944400-1842948000@www.wijkcentrumtewerve.nl
SUMMARY:Yoga
DESCRIPTION:Yogales door docente Carla Mahabier. Meer informatie via 06 – 20 94 38 56. \n 
URL:https://www.wijkcentrumtewerve.nl/activiteit/yoga-2-2/2028-05-26/
LOCATION:Activiteitenruimte 2
END:VEVENT
BEGIN:VEVENT
DTSTART;TZID=Europe/Amsterdam:20280601T133000
DTEND;TZID=Europe/Amsterdam:20280601T164500
DTSTAMP:20260425T020553
CREATED:20240708T115205Z
LAST-MODIFIED:20240708T115206Z
UID:10001525-1843479000-1843490700@www.wijkcentrumtewerve.nl
SUMMARY:Yoga
DESCRIPTION:Yogales door docente Carla Mahabier. Meer informatie via 06 – 20 94 38 56. \n 
URL:https://www.wijkcentrumtewerve.nl/activiteit/yoga-3/2028-06-01/
LOCATION:Activiteitenruimte 2
END:VEVENT
BEGIN:VEVENT
DTSTART;TZID=Europe/Amsterdam:20280602T090000
DTEND;TZID=Europe/Amsterdam:20280602T100000
DTSTAMP:20260425T020553
CREATED:20240708T115210Z
LAST-MODIFIED:20240708T115211Z
UID:10003663-1843549200-1843552800@www.wijkcentrumtewerve.nl
SUMMARY:Yoga
DESCRIPTION:Yogales door docente Carla Mahabier. Meer informatie via 06 – 20 94 38 56. \n 
URL:https://www.wijkcentrumtewerve.nl/activiteit/yoga-2-2/2028-06-02/
LOCATION:Activiteitenruimte 2
END:VEVENT
BEGIN:VEVENT
DTSTART;TZID=Europe/Amsterdam:20280608T133000
DTEND;TZID=Europe/Amsterdam:20280608T164500
DTSTAMP:20260425T020553
CREATED:20240708T115205Z
LAST-MODIFIED:20240708T115206Z
UID:10001526-1844083800-1844095500@www.wijkcentrumtewerve.nl
SUMMARY:Yoga
DESCRIPTION:Yogales door docente Carla Mahabier. Meer informatie via 06 – 20 94 38 56. \n 
URL:https://www.wijkcentrumtewerve.nl/activiteit/yoga-3/2028-06-08/
LOCATION:Activiteitenruimte 2
END:VEVENT
BEGIN:VEVENT
DTSTART;TZID=Europe/Amsterdam:20280609T090000
DTEND;TZID=Europe/Amsterdam:20280609T100000
DTSTAMP:20260425T020553
CREATED:20240708T115210Z
LAST-MODIFIED:20240708T115211Z
UID:10003664-1844154000-1844157600@www.wijkcentrumtewerve.nl
SUMMARY:Yoga
DESCRIPTION:Yogales door docente Carla Mahabier. Meer informatie via 06 – 20 94 38 56. \n 
URL:https://www.wijkcentrumtewerve.nl/activiteit/yoga-2-2/2028-06-09/
LOCATION:Activiteitenruimte 2
END:VEVENT
BEGIN:VEVENT
DTSTART;TZID=Europe/Amsterdam:20280615T133000
DTEND;TZID=Europe/Amsterdam:20280615T164500
DTSTAMP:20260425T020553
CREATED:20240708T115205Z
LAST-MODIFIED:20240708T115206Z
UID:10001527-1844688600-1844700300@www.wijkcentrumtewerve.nl
SUMMARY:Yoga
DESCRIPTION:Yogales door docente Carla Mahabier. Meer informatie via 06 – 20 94 38 56. \n 
URL:https://www.wijkcentrumtewerve.nl/activiteit/yoga-3/2028-06-15/
LOCATION:Activiteitenruimte 2
END:VEVENT
BEGIN:VEVENT
DTSTART;TZID=Europe/Amsterdam:20280616T090000
DTEND;TZID=Europe/Amsterdam:20280616T100000
DTSTAMP:20260425T020553
CREATED:20240708T115210Z
LAST-MODIFIED:20240708T115211Z
UID:10003665-1844758800-1844762400@www.wijkcentrumtewerve.nl
SUMMARY:Yoga
DESCRIPTION:Yogales door docente Carla Mahabier. Meer informatie via 06 – 20 94 38 56. \n 
URL:https://www.wijkcentrumtewerve.nl/activiteit/yoga-2-2/2028-06-16/
LOCATION:Activiteitenruimte 2
END:VEVENT
BEGIN:VEVENT
DTSTART;TZID=Europe/Amsterdam:20280622T133000
DTEND;TZID=Europe/Amsterdam:20280622T164500
DTSTAMP:20260425T020553
CREATED:20240708T115205Z
LAST-MODIFIED:20240708T115206Z
UID:10001528-1845293400-1845305100@www.wijkcentrumtewerve.nl
SUMMARY:Yoga
DESCRIPTION:Yogales door docente Carla Mahabier. Meer informatie via 06 – 20 94 38 56. \n 
URL:https://www.wijkcentrumtewerve.nl/activiteit/yoga-3/2028-06-22/
LOCATION:Activiteitenruimte 2
END:VEVENT
BEGIN:VEVENT
DTSTART;TZID=Europe/Amsterdam:20280623T090000
DTEND;TZID=Europe/Amsterdam:20280623T100000
DTSTAMP:20260425T020553
CREATED:20240708T115210Z
LAST-MODIFIED:20240708T115211Z
UID:10003666-1845363600-1845367200@www.wijkcentrumtewerve.nl
SUMMARY:Yoga
DESCRIPTION:Yogales door docente Carla Mahabier. Meer informatie via 06 – 20 94 38 56. \n 
URL:https://www.wijkcentrumtewerve.nl/activiteit/yoga-2-2/2028-06-23/
LOCATION:Activiteitenruimte 2
END:VEVENT
BEGIN:VEVENT
DTSTART;TZID=Europe/Amsterdam:20280629T133000
DTEND;TZID=Europe/Amsterdam:20280629T164500
DTSTAMP:20260425T020553
CREATED:20240708T115205Z
LAST-MODIFIED:20240708T115206Z
UID:10001529-1845898200-1845909900@www.wijkcentrumtewerve.nl
SUMMARY:Yoga
DESCRIPTION:Yogales door docente Carla Mahabier. Meer informatie via 06 – 20 94 38 56. \n 
URL:https://www.wijkcentrumtewerve.nl/activiteit/yoga-3/2028-06-29/
LOCATION:Activiteitenruimte 2
END:VEVENT
BEGIN:VEVENT
DTSTART;TZID=Europe/Amsterdam:20280630T090000
DTEND;TZID=Europe/Amsterdam:20280630T100000
DTSTAMP:20260425T020553
CREATED:20240708T115210Z
LAST-MODIFIED:20240708T115211Z
UID:10003667-1845968400-1845972000@www.wijkcentrumtewerve.nl
SUMMARY:Yoga
DESCRIPTION:Yogales door docente Carla Mahabier. Meer informatie via 06 – 20 94 38 56. \n 
URL:https://www.wijkcentrumtewerve.nl/activiteit/yoga-2-2/2028-06-30/
LOCATION:Activiteitenruimte 2
END:VEVENT
BEGIN:VEVENT
DTSTART;TZID=Europe/Amsterdam:20280706T133000
DTEND;TZID=Europe/Amsterdam:20280706T164500
DTSTAMP:20260425T020553
CREATED:20240708T115205Z
LAST-MODIFIED:20240708T115206Z
UID:10001530-1846503000-1846514700@www.wijkcentrumtewerve.nl
SUMMARY:Yoga
DESCRIPTION:Yogales door docente Carla Mahabier. Meer informatie via 06 – 20 94 38 56. \n 
URL:https://www.wijkcentrumtewerve.nl/activiteit/yoga-3/2028-07-06/
LOCATION:Activiteitenruimte 2
END:VEVENT
BEGIN:VEVENT
DTSTART;TZID=Europe/Amsterdam:20280707T090000
DTEND;TZID=Europe/Amsterdam:20280707T100000
DTSTAMP:20260425T020553
CREATED:20240708T115210Z
LAST-MODIFIED:20240708T115211Z
UID:10003668-1846573200-1846576800@www.wijkcentrumtewerve.nl
SUMMARY:Yoga
DESCRIPTION:Yogales door docente Carla Mahabier. Meer informatie via 06 – 20 94 38 56. \n 
URL:https://www.wijkcentrumtewerve.nl/activiteit/yoga-2-2/2028-07-07/
LOCATION:Activiteitenruimte 2
END:VEVENT
END:VCALENDAR