BEGIN:VCALENDAR
VERSION:2.0
PRODID:-//Wijkcentrum Te Werve - Welzijn Rijswijk - ECPv6.8.2.1//NONSGML v1.0//EN
CALSCALE:GREGORIAN
METHOD:PUBLISH
X-WR-CALNAME:Wijkcentrum Te Werve - Welzijn Rijswijk
X-ORIGINAL-URL:https://www.wijkcentrumtewerve.nl
X-WR-CALDESC:Evenementen voor Wijkcentrum Te Werve - Welzijn Rijswijk
REFRESH-INTERVAL;VALUE=DURATION:PT1H
X-Robots-Tag:noindex
X-PUBLISHED-TTL:PT1H
BEGIN:VTIMEZONE
TZID:Europe/Amsterdam
BEGIN:DAYLIGHT
TZOFFSETFROM:+0100
TZOFFSETTO:+0200
TZNAME:CEST
DTSTART:20260329T010000
END:DAYLIGHT
BEGIN:STANDARD
TZOFFSETFROM:+0200
TZOFFSETTO:+0100
TZNAME:CET
DTSTART:20261025T010000
END:STANDARD
END:VTIMEZONE
BEGIN:VEVENT
DTSTART;TZID=Europe/Amsterdam:20260417T090000
DTEND;TZID=Europe/Amsterdam:20260417T100000
DTSTAMP:20260420T141519
CREATED:20240708T115210Z
LAST-MODIFIED:20240708T115211Z
UID:10003552-1776416400-1776420000@www.wijkcentrumtewerve.nl
SUMMARY:Yoga
DESCRIPTION:Yogales door docente Carla Mahabier. Meer informatie via 06 – 20 94 38 56. \n 
URL:https://www.wijkcentrumtewerve.nl/activiteit/yoga-2-2/2026-04-17/
LOCATION:Activiteitenruimte 2
END:VEVENT
BEGIN:VEVENT
DTSTART;TZID=Europe/Amsterdam:20260416T133000
DTEND;TZID=Europe/Amsterdam:20260416T164500
DTSTAMP:20260420T141519
CREATED:20240708T115205Z
LAST-MODIFIED:20240708T115206Z
UID:10001414-1776346200-1776357900@www.wijkcentrumtewerve.nl
SUMMARY:Yoga
DESCRIPTION:Yogales door docente Carla Mahabier. Meer informatie via 06 – 20 94 38 56. \n 
URL:https://www.wijkcentrumtewerve.nl/activiteit/yoga-3/2026-04-16/
LOCATION:Activiteitenruimte 2
END:VEVENT
BEGIN:VEVENT
DTSTART;TZID=Europe/Amsterdam:20260410T090000
DTEND;TZID=Europe/Amsterdam:20260410T100000
DTSTAMP:20260420T141519
CREATED:20240708T115210Z
LAST-MODIFIED:20240708T115211Z
UID:10003551-1775811600-1775815200@www.wijkcentrumtewerve.nl
SUMMARY:Yoga
DESCRIPTION:Yogales door docente Carla Mahabier. Meer informatie via 06 – 20 94 38 56. \n 
URL:https://www.wijkcentrumtewerve.nl/activiteit/yoga-2-2/2026-04-10/
LOCATION:Activiteitenruimte 2
END:VEVENT
BEGIN:VEVENT
DTSTART;TZID=Europe/Amsterdam:20260409T133000
DTEND;TZID=Europe/Amsterdam:20260409T164500
DTSTAMP:20260420T141519
CREATED:20240708T115205Z
LAST-MODIFIED:20240708T115206Z
UID:10001413-1775741400-1775753100@www.wijkcentrumtewerve.nl
SUMMARY:Yoga
DESCRIPTION:Yogales door docente Carla Mahabier. Meer informatie via 06 – 20 94 38 56. \n 
URL:https://www.wijkcentrumtewerve.nl/activiteit/yoga-3/2026-04-09/
LOCATION:Activiteitenruimte 2
END:VEVENT
BEGIN:VEVENT
DTSTART;TZID=Europe/Amsterdam:20260403T090000
DTEND;TZID=Europe/Amsterdam:20260403T100000
DTSTAMP:20260420T141519
CREATED:20240708T115210Z
LAST-MODIFIED:20240708T115211Z
UID:10003550-1775206800-1775210400@www.wijkcentrumtewerve.nl
SUMMARY:Yoga
DESCRIPTION:Yogales door docente Carla Mahabier. Meer informatie via 06 – 20 94 38 56. \n 
URL:https://www.wijkcentrumtewerve.nl/activiteit/yoga-2-2/2026-04-03/
LOCATION:Activiteitenruimte 2
END:VEVENT
BEGIN:VEVENT
DTSTART;TZID=Europe/Amsterdam:20260402T133000
DTEND;TZID=Europe/Amsterdam:20260402T164500
DTSTAMP:20260420T141519
CREATED:20240708T115205Z
LAST-MODIFIED:20240708T115206Z
UID:10001412-1775136600-1775148300@www.wijkcentrumtewerve.nl
SUMMARY:Yoga
DESCRIPTION:Yogales door docente Carla Mahabier. Meer informatie via 06 – 20 94 38 56. \n 
URL:https://www.wijkcentrumtewerve.nl/activiteit/yoga-3/2026-04-02/
LOCATION:Activiteitenruimte 2
END:VEVENT
BEGIN:VEVENT
DTSTART;TZID=Europe/Amsterdam:20260327T090000
DTEND;TZID=Europe/Amsterdam:20260327T100000
DTSTAMP:20260420T141519
CREATED:20240708T115210Z
LAST-MODIFIED:20240708T115211Z
UID:10003549-1774602000-1774605600@www.wijkcentrumtewerve.nl
SUMMARY:Yoga
DESCRIPTION:Yogales door docente Carla Mahabier. Meer informatie via 06 – 20 94 38 56. \n 
URL:https://www.wijkcentrumtewerve.nl/activiteit/yoga-2-2/2026-03-27/
LOCATION:Activiteitenruimte 2
END:VEVENT
BEGIN:VEVENT
DTSTART;TZID=Europe/Amsterdam:20260326T133000
DTEND;TZID=Europe/Amsterdam:20260326T164500
DTSTAMP:20260420T141519
CREATED:20240708T115205Z
LAST-MODIFIED:20240708T115206Z
UID:10001411-1774531800-1774543500@www.wijkcentrumtewerve.nl
SUMMARY:Yoga
DESCRIPTION:Yogales door docente Carla Mahabier. Meer informatie via 06 – 20 94 38 56. \n 
URL:https://www.wijkcentrumtewerve.nl/activiteit/yoga-3/2026-03-26/
LOCATION:Activiteitenruimte 2
END:VEVENT
BEGIN:VEVENT
DTSTART;TZID=Europe/Amsterdam:20260320T090000
DTEND;TZID=Europe/Amsterdam:20260320T100000
DTSTAMP:20260420T141519
CREATED:20240708T115210Z
LAST-MODIFIED:20240708T115211Z
UID:10003548-1773997200-1774000800@www.wijkcentrumtewerve.nl
SUMMARY:Yoga
DESCRIPTION:Yogales door docente Carla Mahabier. Meer informatie via 06 – 20 94 38 56. \n 
URL:https://www.wijkcentrumtewerve.nl/activiteit/yoga-2-2/2026-03-20/
LOCATION:Activiteitenruimte 2
END:VEVENT
BEGIN:VEVENT
DTSTART;TZID=Europe/Amsterdam:20260319T133000
DTEND;TZID=Europe/Amsterdam:20260319T164500
DTSTAMP:20260420T141519
CREATED:20240708T115205Z
LAST-MODIFIED:20240708T115206Z
UID:10001410-1773927000-1773938700@www.wijkcentrumtewerve.nl
SUMMARY:Yoga
DESCRIPTION:Yogales door docente Carla Mahabier. Meer informatie via 06 – 20 94 38 56. \n 
URL:https://www.wijkcentrumtewerve.nl/activiteit/yoga-3/2026-03-19/
LOCATION:Activiteitenruimte 2
END:VEVENT
BEGIN:VEVENT
DTSTART;TZID=Europe/Amsterdam:20260313T090000
DTEND;TZID=Europe/Amsterdam:20260313T100000
DTSTAMP:20260420T141519
CREATED:20240708T115210Z
LAST-MODIFIED:20240708T115211Z
UID:10003547-1773392400-1773396000@www.wijkcentrumtewerve.nl
SUMMARY:Yoga
DESCRIPTION:Yogales door docente Carla Mahabier. Meer informatie via 06 – 20 94 38 56. \n 
URL:https://www.wijkcentrumtewerve.nl/activiteit/yoga-2-2/2026-03-13/
LOCATION:Activiteitenruimte 2
END:VEVENT
BEGIN:VEVENT
DTSTART;TZID=Europe/Amsterdam:20260312T133000
DTEND;TZID=Europe/Amsterdam:20260312T164500
DTSTAMP:20260420T141519
CREATED:20240708T115205Z
LAST-MODIFIED:20240708T115206Z
UID:10001409-1773322200-1773333900@www.wijkcentrumtewerve.nl
SUMMARY:Yoga
DESCRIPTION:Yogales door docente Carla Mahabier. Meer informatie via 06 – 20 94 38 56. \n 
URL:https://www.wijkcentrumtewerve.nl/activiteit/yoga-3/2026-03-12/
LOCATION:Activiteitenruimte 2
END:VEVENT
BEGIN:VEVENT
DTSTART;TZID=Europe/Amsterdam:20260306T090000
DTEND;TZID=Europe/Amsterdam:20260306T100000
DTSTAMP:20260420T141519
CREATED:20240708T115210Z
LAST-MODIFIED:20240708T115211Z
UID:10003546-1772787600-1772791200@www.wijkcentrumtewerve.nl
SUMMARY:Yoga
DESCRIPTION:Yogales door docente Carla Mahabier. Meer informatie via 06 – 20 94 38 56. \n 
URL:https://www.wijkcentrumtewerve.nl/activiteit/yoga-2-2/2026-03-06/
LOCATION:Activiteitenruimte 2
END:VEVENT
BEGIN:VEVENT
DTSTART;TZID=Europe/Amsterdam:20260305T133000
DTEND;TZID=Europe/Amsterdam:20260305T164500
DTSTAMP:20260420T141519
CREATED:20240708T115205Z
LAST-MODIFIED:20240708T115206Z
UID:10001408-1772717400-1772729100@www.wijkcentrumtewerve.nl
SUMMARY:Yoga
DESCRIPTION:Yogales door docente Carla Mahabier. Meer informatie via 06 – 20 94 38 56. \n 
URL:https://www.wijkcentrumtewerve.nl/activiteit/yoga-3/2026-03-05/
LOCATION:Activiteitenruimte 2
END:VEVENT
BEGIN:VEVENT
DTSTART;TZID=Europe/Amsterdam:20260227T090000
DTEND;TZID=Europe/Amsterdam:20260227T100000
DTSTAMP:20260420T141519
CREATED:20240708T115210Z
LAST-MODIFIED:20240708T115211Z
UID:10003545-1772182800-1772186400@www.wijkcentrumtewerve.nl
SUMMARY:Yoga
DESCRIPTION:Yogales door docente Carla Mahabier. Meer informatie via 06 – 20 94 38 56. \n 
URL:https://www.wijkcentrumtewerve.nl/activiteit/yoga-2-2/2026-02-27/
LOCATION:Activiteitenruimte 2
END:VEVENT
BEGIN:VEVENT
DTSTART;TZID=Europe/Amsterdam:20260226T133000
DTEND;TZID=Europe/Amsterdam:20260226T164500
DTSTAMP:20260420T141519
CREATED:20240708T115205Z
LAST-MODIFIED:20240708T115206Z
UID:10001407-1772112600-1772124300@www.wijkcentrumtewerve.nl
SUMMARY:Yoga
DESCRIPTION:Yogales door docente Carla Mahabier. Meer informatie via 06 – 20 94 38 56. \n 
URL:https://www.wijkcentrumtewerve.nl/activiteit/yoga-3/2026-02-26/
LOCATION:Activiteitenruimte 2
END:VEVENT
BEGIN:VEVENT
DTSTART;TZID=Europe/Amsterdam:20260220T090000
DTEND;TZID=Europe/Amsterdam:20260220T100000
DTSTAMP:20260420T141519
CREATED:20240708T115210Z
LAST-MODIFIED:20240708T115211Z
UID:10003544-1771578000-1771581600@www.wijkcentrumtewerve.nl
SUMMARY:Yoga
DESCRIPTION:Yogales door docente Carla Mahabier. Meer informatie via 06 – 20 94 38 56. \n 
URL:https://www.wijkcentrumtewerve.nl/activiteit/yoga-2-2/2026-02-20/
LOCATION:Activiteitenruimte 2
END:VEVENT
BEGIN:VEVENT
DTSTART;TZID=Europe/Amsterdam:20260219T133000
DTEND;TZID=Europe/Amsterdam:20260219T164500
DTSTAMP:20260420T141519
CREATED:20240708T115205Z
LAST-MODIFIED:20240708T115206Z
UID:10001406-1771507800-1771519500@www.wijkcentrumtewerve.nl
SUMMARY:Yoga
DESCRIPTION:Yogales door docente Carla Mahabier. Meer informatie via 06 – 20 94 38 56. \n 
URL:https://www.wijkcentrumtewerve.nl/activiteit/yoga-3/2026-02-19/
LOCATION:Activiteitenruimte 2
END:VEVENT
BEGIN:VEVENT
DTSTART;TZID=Europe/Amsterdam:20260213T090000
DTEND;TZID=Europe/Amsterdam:20260213T100000
DTSTAMP:20260420T141519
CREATED:20240708T115210Z
LAST-MODIFIED:20240708T115211Z
UID:10003543-1770973200-1770976800@www.wijkcentrumtewerve.nl
SUMMARY:Yoga
DESCRIPTION:Yogales door docente Carla Mahabier. Meer informatie via 06 – 20 94 38 56. \n 
URL:https://www.wijkcentrumtewerve.nl/activiteit/yoga-2-2/2026-02-13/
LOCATION:Activiteitenruimte 2
END:VEVENT
BEGIN:VEVENT
DTSTART;TZID=Europe/Amsterdam:20260212T133000
DTEND;TZID=Europe/Amsterdam:20260212T164500
DTSTAMP:20260420T141519
CREATED:20240708T115205Z
LAST-MODIFIED:20240708T115206Z
UID:10001405-1770903000-1770914700@www.wijkcentrumtewerve.nl
SUMMARY:Yoga
DESCRIPTION:Yogales door docente Carla Mahabier. Meer informatie via 06 – 20 94 38 56. \n 
URL:https://www.wijkcentrumtewerve.nl/activiteit/yoga-3/2026-02-12/
LOCATION:Activiteitenruimte 2
END:VEVENT
BEGIN:VEVENT
DTSTART;TZID=Europe/Amsterdam:20260206T090000
DTEND;TZID=Europe/Amsterdam:20260206T100000
DTSTAMP:20260420T141519
CREATED:20240708T115210Z
LAST-MODIFIED:20240708T115211Z
UID:10003542-1770368400-1770372000@www.wijkcentrumtewerve.nl
SUMMARY:Yoga
DESCRIPTION:Yogales door docente Carla Mahabier. Meer informatie via 06 – 20 94 38 56. \n 
URL:https://www.wijkcentrumtewerve.nl/activiteit/yoga-2-2/2026-02-06/
LOCATION:Activiteitenruimte 2
END:VEVENT
BEGIN:VEVENT
DTSTART;TZID=Europe/Amsterdam:20260205T133000
DTEND;TZID=Europe/Amsterdam:20260205T164500
DTSTAMP:20260420T141519
CREATED:20240708T115205Z
LAST-MODIFIED:20240708T115206Z
UID:10001404-1770298200-1770309900@www.wijkcentrumtewerve.nl
SUMMARY:Yoga
DESCRIPTION:Yogales door docente Carla Mahabier. Meer informatie via 06 – 20 94 38 56. \n 
URL:https://www.wijkcentrumtewerve.nl/activiteit/yoga-3/2026-02-05/
LOCATION:Activiteitenruimte 2
END:VEVENT
BEGIN:VEVENT
DTSTART;TZID=Europe/Amsterdam:20260130T090000
DTEND;TZID=Europe/Amsterdam:20260130T100000
DTSTAMP:20260420T141519
CREATED:20240708T115210Z
LAST-MODIFIED:20240708T115211Z
UID:10003541-1769763600-1769767200@www.wijkcentrumtewerve.nl
SUMMARY:Yoga
DESCRIPTION:Yogales door docente Carla Mahabier. Meer informatie via 06 – 20 94 38 56. \n 
URL:https://www.wijkcentrumtewerve.nl/activiteit/yoga-2-2/2026-01-30/
LOCATION:Activiteitenruimte 2
END:VEVENT
BEGIN:VEVENT
DTSTART;TZID=Europe/Amsterdam:20260129T133000
DTEND;TZID=Europe/Amsterdam:20260129T164500
DTSTAMP:20260420T141519
CREATED:20240708T115205Z
LAST-MODIFIED:20240708T115206Z
UID:10001403-1769693400-1769705100@www.wijkcentrumtewerve.nl
SUMMARY:Yoga
DESCRIPTION:Yogales door docente Carla Mahabier. Meer informatie via 06 – 20 94 38 56. \n 
URL:https://www.wijkcentrumtewerve.nl/activiteit/yoga-3/2026-01-29/
LOCATION:Activiteitenruimte 2
END:VEVENT
BEGIN:VEVENT
DTSTART;TZID=Europe/Amsterdam:20260123T090000
DTEND;TZID=Europe/Amsterdam:20260123T100000
DTSTAMP:20260420T141519
CREATED:20240708T115210Z
LAST-MODIFIED:20240708T115211Z
UID:10003540-1769158800-1769162400@www.wijkcentrumtewerve.nl
SUMMARY:Yoga
DESCRIPTION:Yogales door docente Carla Mahabier. Meer informatie via 06 – 20 94 38 56. \n 
URL:https://www.wijkcentrumtewerve.nl/activiteit/yoga-2-2/2026-01-23/
LOCATION:Activiteitenruimte 2
END:VEVENT
BEGIN:VEVENT
DTSTART;TZID=Europe/Amsterdam:20260122T133000
DTEND;TZID=Europe/Amsterdam:20260122T164500
DTSTAMP:20260420T141519
CREATED:20240708T115205Z
LAST-MODIFIED:20240708T115206Z
UID:10001402-1769088600-1769100300@www.wijkcentrumtewerve.nl
SUMMARY:Yoga
DESCRIPTION:Yogales door docente Carla Mahabier. Meer informatie via 06 – 20 94 38 56. \n 
URL:https://www.wijkcentrumtewerve.nl/activiteit/yoga-3/2026-01-22/
LOCATION:Activiteitenruimte 2
END:VEVENT
BEGIN:VEVENT
DTSTART;TZID=Europe/Amsterdam:20260116T090000
DTEND;TZID=Europe/Amsterdam:20260116T100000
DTSTAMP:20260420T141519
CREATED:20240708T115210Z
LAST-MODIFIED:20240708T115211Z
UID:10003539-1768554000-1768557600@www.wijkcentrumtewerve.nl
SUMMARY:Yoga
DESCRIPTION:Yogales door docente Carla Mahabier. Meer informatie via 06 – 20 94 38 56. \n 
URL:https://www.wijkcentrumtewerve.nl/activiteit/yoga-2-2/2026-01-16/
LOCATION:Activiteitenruimte 2
END:VEVENT
BEGIN:VEVENT
DTSTART;TZID=Europe/Amsterdam:20260115T133000
DTEND;TZID=Europe/Amsterdam:20260115T164500
DTSTAMP:20260420T141519
CREATED:20240708T115205Z
LAST-MODIFIED:20240708T115206Z
UID:10001401-1768483800-1768495500@www.wijkcentrumtewerve.nl
SUMMARY:Yoga
DESCRIPTION:Yogales door docente Carla Mahabier. Meer informatie via 06 – 20 94 38 56. \n 
URL:https://www.wijkcentrumtewerve.nl/activiteit/yoga-3/2026-01-15/
LOCATION:Activiteitenruimte 2
END:VEVENT
BEGIN:VEVENT
DTSTART;TZID=Europe/Amsterdam:20260109T090000
DTEND;TZID=Europe/Amsterdam:20260109T100000
DTSTAMP:20260420T141519
CREATED:20240708T115210Z
LAST-MODIFIED:20240708T115211Z
UID:10003538-1767949200-1767952800@www.wijkcentrumtewerve.nl
SUMMARY:Yoga
DESCRIPTION:Yogales door docente Carla Mahabier. Meer informatie via 06 – 20 94 38 56. \n 
URL:https://www.wijkcentrumtewerve.nl/activiteit/yoga-2-2/2026-01-09/
LOCATION:Activiteitenruimte 2
END:VEVENT
BEGIN:VEVENT
DTSTART;TZID=Europe/Amsterdam:20260108T133000
DTEND;TZID=Europe/Amsterdam:20260108T164500
DTSTAMP:20260420T141519
CREATED:20240708T115205Z
LAST-MODIFIED:20240708T115206Z
UID:10001400-1767879000-1767890700@www.wijkcentrumtewerve.nl
SUMMARY:Yoga
DESCRIPTION:Yogales door docente Carla Mahabier. Meer informatie via 06 – 20 94 38 56. \n 
URL:https://www.wijkcentrumtewerve.nl/activiteit/yoga-3/2026-01-08/
LOCATION:Activiteitenruimte 2
END:VEVENT
END:VCALENDAR