BEGIN:VCALENDAR
VERSION:2.0
PRODID:-//Wijkcentrum Te Werve - Welzijn Rijswijk - ECPv6.8.2.1//NONSGML v1.0//EN
CALSCALE:GREGORIAN
METHOD:PUBLISH
X-ORIGINAL-URL:https://www.wijkcentrumtewerve.nl
X-WR-CALDESC:Evenementen voor Wijkcentrum Te Werve - Welzijn Rijswijk
REFRESH-INTERVAL;VALUE=DURATION:PT1H
X-Robots-Tag:noindex
X-PUBLISHED-TTL:PT1H
BEGIN:VTIMEZONE
TZID:Europe/Amsterdam
BEGIN:DAYLIGHT
TZOFFSETFROM:+0100
TZOFFSETTO:+0200
TZNAME:CEST
DTSTART:20240331T010000
END:DAYLIGHT
BEGIN:STANDARD
TZOFFSETFROM:+0200
TZOFFSETTO:+0100
TZNAME:CET
DTSTART:20241027T010000
END:STANDARD
END:VTIMEZONE
BEGIN:VEVENT
DTSTART;TZID=Europe/Amsterdam:20241009T100000
DTEND;TZID=Europe/Amsterdam:20241009T120000
DTSTAMP:20260421T200213
CREATED:20240718T121433Z
LAST-MODIFIED:20240718T121433Z
UID:10004461-1728468000-1728475200@www.wijkcentrumtewerve.nl
SUMMARY:Teken- en schilderclub Te Verve
DESCRIPTION:Teken- en schilderclub Te Verve: Teken en schilder mee en ontdek je creatieve kant \nVoor iedereen die gezellig samen met andere bewoners wil tekenen of schilderen \nElke woensdag van 10.00-12.00 uur \nMateriaal zelf meenemen \nGratis \nAanmelden en verdere info bij Ton van Geest: email ahcvandergeest@gmail.com of 06-15523616 \n\nTegen kosten is koffie en frisdrank te verkrijgen (Pin Only)
URL:https://www.wijkcentrumtewerve.nl/activiteit/teken-en-schilderclub-te-verve/2024-10-09/
LOCATION:Activiteitenruimte 1
END:VEVENT
BEGIN:VEVENT
DTSTART;TZID=Europe/Amsterdam:20241008T193000
DTEND;TZID=Europe/Amsterdam:20241008T230000
DTSTAMP:20260421T200213
CREATED:20231216T213346Z
LAST-MODIFIED:20240927T084129Z
UID:10000400-1728415800-1728428400@www.wijkcentrumtewerve.nl
SUMMARY:Rode Dobbelsteen
DESCRIPTION:Gratis bordspellenavond\, elke oneven week op dinsdagavond van 19.30 tot 23.00 uur. Voor meer info: Kijk op de website www.derodedobbelsteen.nl of loop op dinsdagavond (oneven weken) binnen en vraag naar Frederik of Inge. 
URL:https://www.wijkcentrumtewerve.nl/activiteit/rode-dobbelsteen/2024-10-08/
LOCATION:Ontmoetingsruimte
END:VEVENT
BEGIN:VEVENT
DTSTART;TZID=Europe/Amsterdam:20241002T100000
DTEND;TZID=Europe/Amsterdam:20241002T120000
DTSTAMP:20260421T200213
CREATED:20240718T121433Z
LAST-MODIFIED:20240718T121433Z
UID:10004460-1727863200-1727870400@www.wijkcentrumtewerve.nl
SUMMARY:Teken- en schilderclub Te Verve
DESCRIPTION:Teken- en schilderclub Te Verve: Teken en schilder mee en ontdek je creatieve kant \nVoor iedereen die gezellig samen met andere bewoners wil tekenen of schilderen \nElke woensdag van 10.00-12.00 uur \nMateriaal zelf meenemen \nGratis \nAanmelden en verdere info bij Ton van Geest: email ahcvandergeest@gmail.com of 06-15523616 \n\nTegen kosten is koffie en frisdrank te verkrijgen (Pin Only)
URL:https://www.wijkcentrumtewerve.nl/activiteit/teken-en-schilderclub-te-verve/2024-10-02/
LOCATION:Activiteitenruimte 1
END:VEVENT
BEGIN:VEVENT
DTSTART;TZID=Europe/Amsterdam:20240925T100000
DTEND;TZID=Europe/Amsterdam:20240925T120000
DTSTAMP:20260421T200213
CREATED:20240718T121433Z
LAST-MODIFIED:20240718T121433Z
UID:10004459-1727258400-1727265600@www.wijkcentrumtewerve.nl
SUMMARY:Teken- en schilderclub Te Verve
DESCRIPTION:Teken- en schilderclub Te Verve: Teken en schilder mee en ontdek je creatieve kant \nVoor iedereen die gezellig samen met andere bewoners wil tekenen of schilderen \nElke woensdag van 10.00-12.00 uur \nMateriaal zelf meenemen \nGratis \nAanmelden en verdere info bij Ton van Geest: email ahcvandergeest@gmail.com of 06-15523616 \n\nTegen kosten is koffie en frisdrank te verkrijgen (Pin Only)
URL:https://www.wijkcentrumtewerve.nl/activiteit/teken-en-schilderclub-te-verve/2024-09-25/
LOCATION:Activiteitenruimte 1
END:VEVENT
BEGIN:VEVENT
DTSTART;TZID=Europe/Amsterdam:20240924T193000
DTEND;TZID=Europe/Amsterdam:20240924T230000
DTSTAMP:20260421T200213
CREATED:20231216T213346Z
LAST-MODIFIED:20240927T084129Z
UID:10000399-1727206200-1727218800@www.wijkcentrumtewerve.nl
SUMMARY:Rode Dobbelsteen
DESCRIPTION:Gratis bordspellenavond\, elke oneven week op dinsdagavond van 19.30 tot 23.00 uur. Voor meer info: Kijk op de website www.derodedobbelsteen.nl of loop op dinsdagavond (oneven weken) binnen en vraag naar Frederik of Inge. 
URL:https://www.wijkcentrumtewerve.nl/activiteit/rode-dobbelsteen/2024-09-24/
LOCATION:Ontmoetingsruimte
END:VEVENT
BEGIN:VEVENT
DTSTART;TZID=Europe/Amsterdam:20240918T100000
DTEND;TZID=Europe/Amsterdam:20240918T120000
DTSTAMP:20260421T200213
CREATED:20240718T121433Z
LAST-MODIFIED:20240718T121433Z
UID:10004458-1726653600-1726660800@www.wijkcentrumtewerve.nl
SUMMARY:Teken- en schilderclub Te Verve
DESCRIPTION:Teken- en schilderclub Te Verve: Teken en schilder mee en ontdek je creatieve kant \nVoor iedereen die gezellig samen met andere bewoners wil tekenen of schilderen \nElke woensdag van 10.00-12.00 uur \nMateriaal zelf meenemen \nGratis \nAanmelden en verdere info bij Ton van Geest: email ahcvandergeest@gmail.com of 06-15523616 \n\nTegen kosten is koffie en frisdrank te verkrijgen (Pin Only)
URL:https://www.wijkcentrumtewerve.nl/activiteit/teken-en-schilderclub-te-verve/2024-09-18/
LOCATION:Activiteitenruimte 1
END:VEVENT
BEGIN:VEVENT
DTSTART;TZID=Europe/Amsterdam:20240912T110000
DTEND;TZID=Europe/Amsterdam:20240912T123000
DTSTAMP:20260421T200213
CREATED:20231216T214535Z
LAST-MODIFIED:20231216T214535Z
UID:10001819-1726138800-1726144200@www.wijkcentrumtewerve.nl
SUMMARY:Ouders voor ouders
DESCRIPTION:Ouders voor ouders\, verbreed je netwerk met andere vaders of moeders\nStart donderdag 11 januari\, elke tweede donderdag van de maand\, meer info bij ouderstewerve@hotmail.com\nTijd: 11.00-12.30 uur
URL:https://www.wijkcentrumtewerve.nl/activiteit/ouders-voor-ouders/2024-09-12/
LOCATION:Activiteitenruimte 1
END:VEVENT
BEGIN:VEVENT
DTSTART;TZID=Europe/Amsterdam:20240911T100000
DTEND;TZID=Europe/Amsterdam:20240911T120000
DTSTAMP:20260421T200213
CREATED:20240718T121433Z
LAST-MODIFIED:20240718T121433Z
UID:10004457-1726048800-1726056000@www.wijkcentrumtewerve.nl
SUMMARY:Teken- en schilderclub Te Verve
DESCRIPTION:Teken- en schilderclub Te Verve: Teken en schilder mee en ontdek je creatieve kant \nVoor iedereen die gezellig samen met andere bewoners wil tekenen of schilderen \nElke woensdag van 10.00-12.00 uur \nMateriaal zelf meenemen \nGratis \nAanmelden en verdere info bij Ton van Geest: email ahcvandergeest@gmail.com of 06-15523616 \n\nTegen kosten is koffie en frisdrank te verkrijgen (Pin Only)
URL:https://www.wijkcentrumtewerve.nl/activiteit/teken-en-schilderclub-te-verve/2024-09-11/
LOCATION:Activiteitenruimte 1
END:VEVENT
BEGIN:VEVENT
DTSTART;TZID=Europe/Amsterdam:20240910T193000
DTEND;TZID=Europe/Amsterdam:20240910T230000
DTSTAMP:20260421T200213
CREATED:20231216T213346Z
LAST-MODIFIED:20240927T084129Z
UID:10000398-1725996600-1726009200@www.wijkcentrumtewerve.nl
SUMMARY:Rode Dobbelsteen
DESCRIPTION:Gratis bordspellenavond\, elke oneven week op dinsdagavond van 19.30 tot 23.00 uur. Voor meer info: Kijk op de website www.derodedobbelsteen.nl of loop op dinsdagavond (oneven weken) binnen en vraag naar Frederik of Inge. 
URL:https://www.wijkcentrumtewerve.nl/activiteit/rode-dobbelsteen/2024-09-10/
LOCATION:Ontmoetingsruimte
END:VEVENT
BEGIN:VEVENT
DTSTART;TZID=Europe/Amsterdam:20240904T100000
DTEND;TZID=Europe/Amsterdam:20240904T120000
DTSTAMP:20260421T200213
CREATED:20240718T121433Z
LAST-MODIFIED:20240718T121433Z
UID:10004456-1725444000-1725451200@www.wijkcentrumtewerve.nl
SUMMARY:Teken- en schilderclub Te Verve
DESCRIPTION:Teken- en schilderclub Te Verve: Teken en schilder mee en ontdek je creatieve kant \nVoor iedereen die gezellig samen met andere bewoners wil tekenen of schilderen \nElke woensdag van 10.00-12.00 uur \nMateriaal zelf meenemen \nGratis \nAanmelden en verdere info bij Ton van Geest: email ahcvandergeest@gmail.com of 06-15523616 \n\nTegen kosten is koffie en frisdrank te verkrijgen (Pin Only)
URL:https://www.wijkcentrumtewerve.nl/activiteit/teken-en-schilderclub-te-verve/2024-09-04/
LOCATION:Activiteitenruimte 1
END:VEVENT
BEGIN:VEVENT
DTSTART;TZID=Europe/Amsterdam:20240828T100000
DTEND;TZID=Europe/Amsterdam:20240828T120000
DTSTAMP:20260421T200213
CREATED:20240718T121433Z
LAST-MODIFIED:20240718T121433Z
UID:10004455-1724839200-1724846400@www.wijkcentrumtewerve.nl
SUMMARY:Teken- en schilderclub Te Verve
DESCRIPTION:Teken- en schilderclub Te Verve: Teken en schilder mee en ontdek je creatieve kant \nVoor iedereen die gezellig samen met andere bewoners wil tekenen of schilderen \nElke woensdag van 10.00-12.00 uur \nMateriaal zelf meenemen \nGratis \nAanmelden en verdere info bij Ton van Geest: email ahcvandergeest@gmail.com of 06-15523616 \n\nTegen kosten is koffie en frisdrank te verkrijgen (Pin Only)
URL:https://www.wijkcentrumtewerve.nl/activiteit/teken-en-schilderclub-te-verve/2024-08-28/
LOCATION:Activiteitenruimte 1
END:VEVENT
BEGIN:VEVENT
DTSTART;TZID=Europe/Amsterdam:20240827T193000
DTEND;TZID=Europe/Amsterdam:20240827T230000
DTSTAMP:20260421T200213
CREATED:20231216T213346Z
LAST-MODIFIED:20240927T084129Z
UID:10000397-1724787000-1724799600@www.wijkcentrumtewerve.nl
SUMMARY:Rode Dobbelsteen
DESCRIPTION:Gratis bordspellenavond\, elke oneven week op dinsdagavond van 19.30 tot 23.00 uur. Voor meer info: Kijk op de website www.derodedobbelsteen.nl of loop op dinsdagavond (oneven weken) binnen en vraag naar Frederik of Inge. 
URL:https://www.wijkcentrumtewerve.nl/activiteit/rode-dobbelsteen/2024-08-27/
LOCATION:Ontmoetingsruimte
END:VEVENT
BEGIN:VEVENT
DTSTART;TZID=Europe/Amsterdam:20240821T100000
DTEND;TZID=Europe/Amsterdam:20240821T120000
DTSTAMP:20260421T200213
CREATED:20240718T121433Z
LAST-MODIFIED:20240718T121433Z
UID:10004454-1724234400-1724241600@www.wijkcentrumtewerve.nl
SUMMARY:Teken- en schilderclub Te Verve
DESCRIPTION:Teken- en schilderclub Te Verve: Teken en schilder mee en ontdek je creatieve kant \nVoor iedereen die gezellig samen met andere bewoners wil tekenen of schilderen \nElke woensdag van 10.00-12.00 uur \nMateriaal zelf meenemen \nGratis \nAanmelden en verdere info bij Ton van Geest: email ahcvandergeest@gmail.com of 06-15523616 \n\nTegen kosten is koffie en frisdrank te verkrijgen (Pin Only)
URL:https://www.wijkcentrumtewerve.nl/activiteit/teken-en-schilderclub-te-verve/2024-08-21/
LOCATION:Activiteitenruimte 1
END:VEVENT
BEGIN:VEVENT
DTSTART;TZID=Europe/Amsterdam:20240814T100000
DTEND;TZID=Europe/Amsterdam:20240814T120000
DTSTAMP:20260421T200213
CREATED:20240718T121433Z
LAST-MODIFIED:20240718T121433Z
UID:10004453-1723629600-1723636800@www.wijkcentrumtewerve.nl
SUMMARY:Teken- en schilderclub Te Verve
DESCRIPTION:Teken- en schilderclub Te Verve: Teken en schilder mee en ontdek je creatieve kant \nVoor iedereen die gezellig samen met andere bewoners wil tekenen of schilderen \nElke woensdag van 10.00-12.00 uur \nMateriaal zelf meenemen \nGratis \nAanmelden en verdere info bij Ton van Geest: email ahcvandergeest@gmail.com of 06-15523616 \n\nTegen kosten is koffie en frisdrank te verkrijgen (Pin Only)
URL:https://www.wijkcentrumtewerve.nl/activiteit/teken-en-schilderclub-te-verve/2024-08-14/
LOCATION:Activiteitenruimte 1
END:VEVENT
BEGIN:VEVENT
DTSTART;TZID=Europe/Amsterdam:20240813T193000
DTEND;TZID=Europe/Amsterdam:20240813T230000
DTSTAMP:20260421T200213
CREATED:20231216T213346Z
LAST-MODIFIED:20240927T084129Z
UID:10000396-1723577400-1723590000@www.wijkcentrumtewerve.nl
SUMMARY:Rode Dobbelsteen
DESCRIPTION:Gratis bordspellenavond\, elke oneven week op dinsdagavond van 19.30 tot 23.00 uur. Voor meer info: Kijk op de website www.derodedobbelsteen.nl of loop op dinsdagavond (oneven weken) binnen en vraag naar Frederik of Inge. 
URL:https://www.wijkcentrumtewerve.nl/activiteit/rode-dobbelsteen/2024-08-13/
LOCATION:Ontmoetingsruimte
END:VEVENT
BEGIN:VEVENT
DTSTART;TZID=Europe/Amsterdam:20240808T110000
DTEND;TZID=Europe/Amsterdam:20240808T123000
DTSTAMP:20260421T200213
CREATED:20231216T214535Z
LAST-MODIFIED:20231216T214535Z
UID:10001818-1723114800-1723120200@www.wijkcentrumtewerve.nl
SUMMARY:Ouders voor ouders
DESCRIPTION:Ouders voor ouders\, verbreed je netwerk met andere vaders of moeders\nStart donderdag 11 januari\, elke tweede donderdag van de maand\, meer info bij ouderstewerve@hotmail.com\nTijd: 11.00-12.30 uur
URL:https://www.wijkcentrumtewerve.nl/activiteit/ouders-voor-ouders/2024-08-08/
LOCATION:Activiteitenruimte 1
END:VEVENT
BEGIN:VEVENT
DTSTART;TZID=Europe/Amsterdam:20240807T100000
DTEND;TZID=Europe/Amsterdam:20240807T120000
DTSTAMP:20260421T200213
CREATED:20240718T121433Z
LAST-MODIFIED:20240718T121433Z
UID:10004452-1723024800-1723032000@www.wijkcentrumtewerve.nl
SUMMARY:Teken- en schilderclub Te Verve
DESCRIPTION:Teken- en schilderclub Te Verve: Teken en schilder mee en ontdek je creatieve kant \nVoor iedereen die gezellig samen met andere bewoners wil tekenen of schilderen \nElke woensdag van 10.00-12.00 uur \nMateriaal zelf meenemen \nGratis \nAanmelden en verdere info bij Ton van Geest: email ahcvandergeest@gmail.com of 06-15523616 \n\nTegen kosten is koffie en frisdrank te verkrijgen (Pin Only)
URL:https://www.wijkcentrumtewerve.nl/activiteit/teken-en-schilderclub-te-verve/2024-08-07/
LOCATION:Activiteitenruimte 1
END:VEVENT
BEGIN:VEVENT
DTSTART;TZID=Europe/Amsterdam:20240730T193000
DTEND;TZID=Europe/Amsterdam:20240730T230000
DTSTAMP:20260421T200214
CREATED:20231216T213346Z
LAST-MODIFIED:20240927T084129Z
UID:10000395-1722367800-1722380400@www.wijkcentrumtewerve.nl
SUMMARY:Rode Dobbelsteen
DESCRIPTION:Gratis bordspellenavond\, elke oneven week op dinsdagavond van 19.30 tot 23.00 uur. Voor meer info: Kijk op de website www.derodedobbelsteen.nl of loop op dinsdagavond (oneven weken) binnen en vraag naar Frederik of Inge. 
URL:https://www.wijkcentrumtewerve.nl/activiteit/rode-dobbelsteen/2024-07-30/
LOCATION:Ontmoetingsruimte
END:VEVENT
BEGIN:VEVENT
DTSTART;TZID=Europe/Amsterdam:20240716T193000
DTEND;TZID=Europe/Amsterdam:20240716T230000
DTSTAMP:20260421T200214
CREATED:20231216T213346Z
LAST-MODIFIED:20240927T084129Z
UID:10000394-1721158200-1721170800@www.wijkcentrumtewerve.nl
SUMMARY:Rode Dobbelsteen
DESCRIPTION:Gratis bordspellenavond\, elke oneven week op dinsdagavond van 19.30 tot 23.00 uur. Voor meer info: Kijk op de website www.derodedobbelsteen.nl of loop op dinsdagavond (oneven weken) binnen en vraag naar Frederik of Inge. 
URL:https://www.wijkcentrumtewerve.nl/activiteit/rode-dobbelsteen/2024-07-16/
LOCATION:Ontmoetingsruimte
END:VEVENT
BEGIN:VEVENT
DTSTART;TZID=Europe/Amsterdam:20240711T110000
DTEND;TZID=Europe/Amsterdam:20240711T123000
DTSTAMP:20260421T200214
CREATED:20231216T214535Z
LAST-MODIFIED:20231216T214535Z
UID:10001817-1720695600-1720701000@www.wijkcentrumtewerve.nl
SUMMARY:Ouders voor ouders
DESCRIPTION:Ouders voor ouders\, verbreed je netwerk met andere vaders of moeders\nStart donderdag 11 januari\, elke tweede donderdag van de maand\, meer info bij ouderstewerve@hotmail.com\nTijd: 11.00-12.30 uur
URL:https://www.wijkcentrumtewerve.nl/activiteit/ouders-voor-ouders/2024-07-11/
LOCATION:Activiteitenruimte 1
END:VEVENT
BEGIN:VEVENT
DTSTART;TZID=Europe/Amsterdam:20240702T193000
DTEND;TZID=Europe/Amsterdam:20240702T230000
DTSTAMP:20260421T200214
CREATED:20231216T213346Z
LAST-MODIFIED:20240927T084129Z
UID:10000393-1719948600-1719961200@www.wijkcentrumtewerve.nl
SUMMARY:Rode Dobbelsteen
DESCRIPTION:Gratis bordspellenavond\, elke oneven week op dinsdagavond van 19.30 tot 23.00 uur. Voor meer info: Kijk op de website www.derodedobbelsteen.nl of loop op dinsdagavond (oneven weken) binnen en vraag naar Frederik of Inge. 
URL:https://www.wijkcentrumtewerve.nl/activiteit/rode-dobbelsteen/2024-07-02/
LOCATION:Ontmoetingsruimte
END:VEVENT
BEGIN:VEVENT
DTSTART;TZID=Europe/Amsterdam:20240618T193000
DTEND;TZID=Europe/Amsterdam:20240618T230000
DTSTAMP:20260421T200214
CREATED:20231216T213346Z
LAST-MODIFIED:20240927T084129Z
UID:10000392-1718739000-1718751600@www.wijkcentrumtewerve.nl
SUMMARY:Rode Dobbelsteen
DESCRIPTION:Gratis bordspellenavond\, elke oneven week op dinsdagavond van 19.30 tot 23.00 uur. Voor meer info: Kijk op de website www.derodedobbelsteen.nl of loop op dinsdagavond (oneven weken) binnen en vraag naar Frederik of Inge. 
URL:https://www.wijkcentrumtewerve.nl/activiteit/rode-dobbelsteen/2024-06-18/
LOCATION:Ontmoetingsruimte
END:VEVENT
BEGIN:VEVENT
DTSTART;TZID=Europe/Amsterdam:20240613T110000
DTEND;TZID=Europe/Amsterdam:20240613T123000
DTSTAMP:20260421T200214
CREATED:20231216T214535Z
LAST-MODIFIED:20231216T214535Z
UID:10001816-1718276400-1718281800@www.wijkcentrumtewerve.nl
SUMMARY:Ouders voor ouders
DESCRIPTION:Ouders voor ouders\, verbreed je netwerk met andere vaders of moeders\nStart donderdag 11 januari\, elke tweede donderdag van de maand\, meer info bij ouderstewerve@hotmail.com\nTijd: 11.00-12.30 uur
URL:https://www.wijkcentrumtewerve.nl/activiteit/ouders-voor-ouders/2024-06-13/
LOCATION:Activiteitenruimte 1
END:VEVENT
BEGIN:VEVENT
DTSTART;TZID=Europe/Amsterdam:20240604T193000
DTEND;TZID=Europe/Amsterdam:20240604T230000
DTSTAMP:20260421T200214
CREATED:20231216T213346Z
LAST-MODIFIED:20240927T084129Z
UID:10000391-1717529400-1717542000@www.wijkcentrumtewerve.nl
SUMMARY:Rode Dobbelsteen
DESCRIPTION:Gratis bordspellenavond\, elke oneven week op dinsdagavond van 19.30 tot 23.00 uur. Voor meer info: Kijk op de website www.derodedobbelsteen.nl of loop op dinsdagavond (oneven weken) binnen en vraag naar Frederik of Inge. 
URL:https://www.wijkcentrumtewerve.nl/activiteit/rode-dobbelsteen/2024-06-04/
LOCATION:Ontmoetingsruimte
END:VEVENT
BEGIN:VEVENT
DTSTART;TZID=Europe/Amsterdam:20240521T193000
DTEND;TZID=Europe/Amsterdam:20240521T230000
DTSTAMP:20260421T200214
CREATED:20231216T213346Z
LAST-MODIFIED:20240927T084129Z
UID:10000390-1716319800-1716332400@www.wijkcentrumtewerve.nl
SUMMARY:Rode Dobbelsteen
DESCRIPTION:Gratis bordspellenavond\, elke oneven week op dinsdagavond van 19.30 tot 23.00 uur. Voor meer info: Kijk op de website www.derodedobbelsteen.nl of loop op dinsdagavond (oneven weken) binnen en vraag naar Frederik of Inge. 
URL:https://www.wijkcentrumtewerve.nl/activiteit/rode-dobbelsteen/2024-05-21/
LOCATION:Ontmoetingsruimte
END:VEVENT
BEGIN:VEVENT
DTSTART;TZID=Europe/Amsterdam:20240513T100000
DTEND;TZID=Europe/Amsterdam:20240513T120000
DTSTAMP:20260421T200214
CREATED:20240116T142317Z
LAST-MODIFIED:20240116T142317Z
UID:10003425-1715594400-1715601600@www.wijkcentrumtewerve.nl
SUMMARY:Repair Café
DESCRIPTION:Weggooien? Mooi niet! \nRepair Cafés zijn gratis bijeenkomsten die draaien om samen repareren. Er is gereedschap en materiaal aanwezig om allerlei reparaties uit te voeren. Bijvoorbeeld kleding\, elektrische apparaten\, speelgoed etc. \nOnze klussers kunnen een heleboel. Stofzuigers\, Senseo-apparaten en ritsen repareren of inzetten doen ze helaas niet. Voor andere klussen ben je van harte welkom. Aanmelden is niet nodig.
URL:https://www.wijkcentrumtewerve.nl/activiteit/repair-cafe/2024-05-13/
LOCATION:Activiteitenruimte 1
ORGANIZER;CN="Welzijn Rijswijk":MAILTO:info@welzijn-rijswijk.nl
END:VEVENT
BEGIN:VEVENT
DTSTART;TZID=Europe/Amsterdam:20240509T110000
DTEND;TZID=Europe/Amsterdam:20240509T123000
DTSTAMP:20260421T200214
CREATED:20231216T214535Z
LAST-MODIFIED:20231216T214535Z
UID:10001815-1715252400-1715257800@www.wijkcentrumtewerve.nl
SUMMARY:Ouders voor ouders
DESCRIPTION:Ouders voor ouders\, verbreed je netwerk met andere vaders of moeders\nStart donderdag 11 januari\, elke tweede donderdag van de maand\, meer info bij ouderstewerve@hotmail.com\nTijd: 11.00-12.30 uur
URL:https://www.wijkcentrumtewerve.nl/activiteit/ouders-voor-ouders/2024-05-09/
LOCATION:Activiteitenruimte 1
END:VEVENT
BEGIN:VEVENT
DTSTART;TZID=Europe/Amsterdam:20240507T193000
DTEND;TZID=Europe/Amsterdam:20240507T230000
DTSTAMP:20260421T200214
CREATED:20231216T213346Z
LAST-MODIFIED:20240927T084129Z
UID:10000389-1715110200-1715122800@www.wijkcentrumtewerve.nl
SUMMARY:Rode Dobbelsteen
DESCRIPTION:Gratis bordspellenavond\, elke oneven week op dinsdagavond van 19.30 tot 23.00 uur. Voor meer info: Kijk op de website www.derodedobbelsteen.nl of loop op dinsdagavond (oneven weken) binnen en vraag naar Frederik of Inge. 
URL:https://www.wijkcentrumtewerve.nl/activiteit/rode-dobbelsteen/2024-05-07/
LOCATION:Ontmoetingsruimte
END:VEVENT
BEGIN:VEVENT
DTSTART;TZID=Europe/Amsterdam:20240423T193000
DTEND;TZID=Europe/Amsterdam:20240423T230000
DTSTAMP:20260421T200214
CREATED:20231216T213346Z
LAST-MODIFIED:20240927T084129Z
UID:10000388-1713900600-1713913200@www.wijkcentrumtewerve.nl
SUMMARY:Rode Dobbelsteen
DESCRIPTION:Gratis bordspellenavond\, elke oneven week op dinsdagavond van 19.30 tot 23.00 uur. Voor meer info: Kijk op de website www.derodedobbelsteen.nl of loop op dinsdagavond (oneven weken) binnen en vraag naar Frederik of Inge. 
URL:https://www.wijkcentrumtewerve.nl/activiteit/rode-dobbelsteen/2024-04-23/
LOCATION:Ontmoetingsruimte
END:VEVENT
BEGIN:VEVENT
DTSTART;TZID=Europe/Amsterdam:20240411T110000
DTEND;TZID=Europe/Amsterdam:20240411T123000
DTSTAMP:20260421T200214
CREATED:20231216T214535Z
LAST-MODIFIED:20231216T214535Z
UID:10001814-1712833200-1712838600@www.wijkcentrumtewerve.nl
SUMMARY:Ouders voor ouders
DESCRIPTION:Ouders voor ouders\, verbreed je netwerk met andere vaders of moeders\nStart donderdag 11 januari\, elke tweede donderdag van de maand\, meer info bij ouderstewerve@hotmail.com\nTijd: 11.00-12.30 uur
URL:https://www.wijkcentrumtewerve.nl/activiteit/ouders-voor-ouders/2024-04-11/
LOCATION:Activiteitenruimte 1
END:VEVENT
END:VCALENDAR