BEGIN:VCALENDAR
VERSION:2.0
PRODID:-//Wijkcentrum Te Werve - Welzijn Rijswijk - ECPv6.8.2.1//NONSGML v1.0//EN
CALSCALE:GREGORIAN
METHOD:PUBLISH
X-ORIGINAL-URL:https://www.wijkcentrumtewerve.nl
X-WR-CALDESC:Evenementen voor Wijkcentrum Te Werve - Welzijn Rijswijk
REFRESH-INTERVAL;VALUE=DURATION:PT1H
X-Robots-Tag:noindex
X-PUBLISHED-TTL:PT1H
BEGIN:VTIMEZONE
TZID:Europe/Amsterdam
BEGIN:DAYLIGHT
TZOFFSETFROM:+0100
TZOFFSETTO:+0200
TZNAME:CEST
DTSTART:20250330T010000
END:DAYLIGHT
BEGIN:STANDARD
TZOFFSETFROM:+0200
TZOFFSETTO:+0100
TZNAME:CET
DTSTART:20251026T010000
END:STANDARD
END:VTIMEZONE
BEGIN:VEVENT
DTSTART;TZID=Europe/Amsterdam:20251008T100000
DTEND;TZID=Europe/Amsterdam:20251008T120000
DTSTAMP:20260421T145358
CREATED:20240718T121433Z
LAST-MODIFIED:20240718T121433Z
UID:10004513-1759917600-1759924800@www.wijkcentrumtewerve.nl
SUMMARY:Teken- en schilderclub Te Verve
DESCRIPTION:Teken- en schilderclub Te Verve: Teken en schilder mee en ontdek je creatieve kant \nVoor iedereen die gezellig samen met andere bewoners wil tekenen of schilderen \nElke woensdag van 10.00-12.00 uur \nMateriaal zelf meenemen \nGratis \nAanmelden en verdere info bij Ton van Geest: email ahcvandergeest@gmail.com of 06-15523616 \n\nTegen kosten is koffie en frisdrank te verkrijgen (Pin Only)
URL:https://www.wijkcentrumtewerve.nl/activiteit/teken-en-schilderclub-te-verve/2025-10-08/
LOCATION:Activiteitenruimte 1
END:VEVENT
BEGIN:VEVENT
DTSTART;TZID=Europe/Amsterdam:20251007T193000
DTEND;TZID=Europe/Amsterdam:20251007T230000
DTSTAMP:20260421T145358
CREATED:20231216T213346Z
LAST-MODIFIED:20240927T084129Z
UID:10000426-1759865400-1759878000@www.wijkcentrumtewerve.nl
SUMMARY:Rode Dobbelsteen
DESCRIPTION:Gratis bordspellenavond\, elke oneven week op dinsdagavond van 19.30 tot 23.00 uur. Voor meer info: Kijk op de website www.derodedobbelsteen.nl of loop op dinsdagavond (oneven weken) binnen en vraag naar Frederik of Inge. 
URL:https://www.wijkcentrumtewerve.nl/activiteit/rode-dobbelsteen/2025-10-07/
LOCATION:Ontmoetingsruimte
END:VEVENT
BEGIN:VEVENT
DTSTART;TZID=Europe/Amsterdam:20251001T100000
DTEND;TZID=Europe/Amsterdam:20251001T120000
DTSTAMP:20260421T145358
CREATED:20240718T121433Z
LAST-MODIFIED:20240718T121433Z
UID:10004512-1759312800-1759320000@www.wijkcentrumtewerve.nl
SUMMARY:Teken- en schilderclub Te Verve
DESCRIPTION:Teken- en schilderclub Te Verve: Teken en schilder mee en ontdek je creatieve kant \nVoor iedereen die gezellig samen met andere bewoners wil tekenen of schilderen \nElke woensdag van 10.00-12.00 uur \nMateriaal zelf meenemen \nGratis \nAanmelden en verdere info bij Ton van Geest: email ahcvandergeest@gmail.com of 06-15523616 \n\nTegen kosten is koffie en frisdrank te verkrijgen (Pin Only)
URL:https://www.wijkcentrumtewerve.nl/activiteit/teken-en-schilderclub-te-verve/2025-10-01/
LOCATION:Activiteitenruimte 1
END:VEVENT
BEGIN:VEVENT
DTSTART;TZID=Europe/Amsterdam:20250924T100000
DTEND;TZID=Europe/Amsterdam:20250924T120000
DTSTAMP:20260421T145358
CREATED:20240718T121433Z
LAST-MODIFIED:20240718T121433Z
UID:10004511-1758708000-1758715200@www.wijkcentrumtewerve.nl
SUMMARY:Teken- en schilderclub Te Verve
DESCRIPTION:Teken- en schilderclub Te Verve: Teken en schilder mee en ontdek je creatieve kant \nVoor iedereen die gezellig samen met andere bewoners wil tekenen of schilderen \nElke woensdag van 10.00-12.00 uur \nMateriaal zelf meenemen \nGratis \nAanmelden en verdere info bij Ton van Geest: email ahcvandergeest@gmail.com of 06-15523616 \n\nTegen kosten is koffie en frisdrank te verkrijgen (Pin Only)
URL:https://www.wijkcentrumtewerve.nl/activiteit/teken-en-schilderclub-te-verve/2025-09-24/
LOCATION:Activiteitenruimte 1
END:VEVENT
BEGIN:VEVENT
DTSTART;TZID=Europe/Amsterdam:20250923T193000
DTEND;TZID=Europe/Amsterdam:20250923T230000
DTSTAMP:20260421T145358
CREATED:20231216T213346Z
LAST-MODIFIED:20240927T084129Z
UID:10000425-1758655800-1758668400@www.wijkcentrumtewerve.nl
SUMMARY:Rode Dobbelsteen
DESCRIPTION:Gratis bordspellenavond\, elke oneven week op dinsdagavond van 19.30 tot 23.00 uur. Voor meer info: Kijk op de website www.derodedobbelsteen.nl of loop op dinsdagavond (oneven weken) binnen en vraag naar Frederik of Inge. 
URL:https://www.wijkcentrumtewerve.nl/activiteit/rode-dobbelsteen/2025-09-23/
LOCATION:Ontmoetingsruimte
END:VEVENT
BEGIN:VEVENT
DTSTART;TZID=Europe/Amsterdam:20250917T100000
DTEND;TZID=Europe/Amsterdam:20250917T120000
DTSTAMP:20260421T145358
CREATED:20240718T121433Z
LAST-MODIFIED:20240718T121433Z
UID:10004510-1758103200-1758110400@www.wijkcentrumtewerve.nl
SUMMARY:Teken- en schilderclub Te Verve
DESCRIPTION:Teken- en schilderclub Te Verve: Teken en schilder mee en ontdek je creatieve kant \nVoor iedereen die gezellig samen met andere bewoners wil tekenen of schilderen \nElke woensdag van 10.00-12.00 uur \nMateriaal zelf meenemen \nGratis \nAanmelden en verdere info bij Ton van Geest: email ahcvandergeest@gmail.com of 06-15523616 \n\nTegen kosten is koffie en frisdrank te verkrijgen (Pin Only)
URL:https://www.wijkcentrumtewerve.nl/activiteit/teken-en-schilderclub-te-verve/2025-09-17/
LOCATION:Activiteitenruimte 1
END:VEVENT
BEGIN:VEVENT
DTSTART;TZID=Europe/Amsterdam:20250910T100000
DTEND;TZID=Europe/Amsterdam:20250910T120000
DTSTAMP:20260421T145358
CREATED:20240718T121433Z
LAST-MODIFIED:20240718T121433Z
UID:10004509-1757498400-1757505600@www.wijkcentrumtewerve.nl
SUMMARY:Teken- en schilderclub Te Verve
DESCRIPTION:Teken- en schilderclub Te Verve: Teken en schilder mee en ontdek je creatieve kant \nVoor iedereen die gezellig samen met andere bewoners wil tekenen of schilderen \nElke woensdag van 10.00-12.00 uur \nMateriaal zelf meenemen \nGratis \nAanmelden en verdere info bij Ton van Geest: email ahcvandergeest@gmail.com of 06-15523616 \n\nTegen kosten is koffie en frisdrank te verkrijgen (Pin Only)
URL:https://www.wijkcentrumtewerve.nl/activiteit/teken-en-schilderclub-te-verve/2025-09-10/
LOCATION:Activiteitenruimte 1
END:VEVENT
BEGIN:VEVENT
DTSTART;TZID=Europe/Amsterdam:20250909T193000
DTEND;TZID=Europe/Amsterdam:20250909T230000
DTSTAMP:20260421T145358
CREATED:20231216T213346Z
LAST-MODIFIED:20240927T084129Z
UID:10000424-1757446200-1757458800@www.wijkcentrumtewerve.nl
SUMMARY:Rode Dobbelsteen
DESCRIPTION:Gratis bordspellenavond\, elke oneven week op dinsdagavond van 19.30 tot 23.00 uur. Voor meer info: Kijk op de website www.derodedobbelsteen.nl of loop op dinsdagavond (oneven weken) binnen en vraag naar Frederik of Inge. 
URL:https://www.wijkcentrumtewerve.nl/activiteit/rode-dobbelsteen/2025-09-09/
LOCATION:Ontmoetingsruimte
END:VEVENT
BEGIN:VEVENT
DTSTART;TZID=Europe/Amsterdam:20250903T100000
DTEND;TZID=Europe/Amsterdam:20250903T120000
DTSTAMP:20260421T145358
CREATED:20240718T121433Z
LAST-MODIFIED:20240718T121433Z
UID:10004508-1756893600-1756900800@www.wijkcentrumtewerve.nl
SUMMARY:Teken- en schilderclub Te Verve
DESCRIPTION:Teken- en schilderclub Te Verve: Teken en schilder mee en ontdek je creatieve kant \nVoor iedereen die gezellig samen met andere bewoners wil tekenen of schilderen \nElke woensdag van 10.00-12.00 uur \nMateriaal zelf meenemen \nGratis \nAanmelden en verdere info bij Ton van Geest: email ahcvandergeest@gmail.com of 06-15523616 \n\nTegen kosten is koffie en frisdrank te verkrijgen (Pin Only)
URL:https://www.wijkcentrumtewerve.nl/activiteit/teken-en-schilderclub-te-verve/2025-09-03/
LOCATION:Activiteitenruimte 1
END:VEVENT
BEGIN:VEVENT
DTSTART;TZID=Europe/Amsterdam:20250827T100000
DTEND;TZID=Europe/Amsterdam:20250827T120000
DTSTAMP:20260421T145358
CREATED:20240718T121433Z
LAST-MODIFIED:20240718T121433Z
UID:10004507-1756288800-1756296000@www.wijkcentrumtewerve.nl
SUMMARY:Teken- en schilderclub Te Verve
DESCRIPTION:Teken- en schilderclub Te Verve: Teken en schilder mee en ontdek je creatieve kant \nVoor iedereen die gezellig samen met andere bewoners wil tekenen of schilderen \nElke woensdag van 10.00-12.00 uur \nMateriaal zelf meenemen \nGratis \nAanmelden en verdere info bij Ton van Geest: email ahcvandergeest@gmail.com of 06-15523616 \n\nTegen kosten is koffie en frisdrank te verkrijgen (Pin Only)
URL:https://www.wijkcentrumtewerve.nl/activiteit/teken-en-schilderclub-te-verve/2025-08-27/
LOCATION:Activiteitenruimte 1
END:VEVENT
BEGIN:VEVENT
DTSTART;TZID=Europe/Amsterdam:20250826T193000
DTEND;TZID=Europe/Amsterdam:20250826T230000
DTSTAMP:20260421T145358
CREATED:20231216T213346Z
LAST-MODIFIED:20240927T084129Z
UID:10000423-1756236600-1756249200@www.wijkcentrumtewerve.nl
SUMMARY:Rode Dobbelsteen
DESCRIPTION:Gratis bordspellenavond\, elke oneven week op dinsdagavond van 19.30 tot 23.00 uur. Voor meer info: Kijk op de website www.derodedobbelsteen.nl of loop op dinsdagavond (oneven weken) binnen en vraag naar Frederik of Inge. 
URL:https://www.wijkcentrumtewerve.nl/activiteit/rode-dobbelsteen/2025-08-26/
LOCATION:Ontmoetingsruimte
END:VEVENT
BEGIN:VEVENT
DTSTART;TZID=Europe/Amsterdam:20250820T100000
DTEND;TZID=Europe/Amsterdam:20250820T120000
DTSTAMP:20260421T145358
CREATED:20240718T121433Z
LAST-MODIFIED:20240718T121433Z
UID:10004506-1755684000-1755691200@www.wijkcentrumtewerve.nl
SUMMARY:Teken- en schilderclub Te Verve
DESCRIPTION:Teken- en schilderclub Te Verve: Teken en schilder mee en ontdek je creatieve kant \nVoor iedereen die gezellig samen met andere bewoners wil tekenen of schilderen \nElke woensdag van 10.00-12.00 uur \nMateriaal zelf meenemen \nGratis \nAanmelden en verdere info bij Ton van Geest: email ahcvandergeest@gmail.com of 06-15523616 \n\nTegen kosten is koffie en frisdrank te verkrijgen (Pin Only)
URL:https://www.wijkcentrumtewerve.nl/activiteit/teken-en-schilderclub-te-verve/2025-08-20/
LOCATION:Activiteitenruimte 1
END:VEVENT
BEGIN:VEVENT
DTSTART;TZID=Europe/Amsterdam:20250813T100000
DTEND;TZID=Europe/Amsterdam:20250813T120000
DTSTAMP:20260421T145358
CREATED:20240718T121433Z
LAST-MODIFIED:20240718T121433Z
UID:10004505-1755079200-1755086400@www.wijkcentrumtewerve.nl
SUMMARY:Teken- en schilderclub Te Verve
DESCRIPTION:Teken- en schilderclub Te Verve: Teken en schilder mee en ontdek je creatieve kant \nVoor iedereen die gezellig samen met andere bewoners wil tekenen of schilderen \nElke woensdag van 10.00-12.00 uur \nMateriaal zelf meenemen \nGratis \nAanmelden en verdere info bij Ton van Geest: email ahcvandergeest@gmail.com of 06-15523616 \n\nTegen kosten is koffie en frisdrank te verkrijgen (Pin Only)
URL:https://www.wijkcentrumtewerve.nl/activiteit/teken-en-schilderclub-te-verve/2025-08-13/
LOCATION:Activiteitenruimte 1
END:VEVENT
BEGIN:VEVENT
DTSTART;TZID=Europe/Amsterdam:20250812T193000
DTEND;TZID=Europe/Amsterdam:20250812T230000
DTSTAMP:20260421T145358
CREATED:20231216T213346Z
LAST-MODIFIED:20240927T084129Z
UID:10000422-1755027000-1755039600@www.wijkcentrumtewerve.nl
SUMMARY:Rode Dobbelsteen
DESCRIPTION:Gratis bordspellenavond\, elke oneven week op dinsdagavond van 19.30 tot 23.00 uur. Voor meer info: Kijk op de website www.derodedobbelsteen.nl of loop op dinsdagavond (oneven weken) binnen en vraag naar Frederik of Inge. 
URL:https://www.wijkcentrumtewerve.nl/activiteit/rode-dobbelsteen/2025-08-12/
LOCATION:Ontmoetingsruimte
END:VEVENT
BEGIN:VEVENT
DTSTART;TZID=Europe/Amsterdam:20250806T100000
DTEND;TZID=Europe/Amsterdam:20250806T120000
DTSTAMP:20260421T145358
CREATED:20240718T121433Z
LAST-MODIFIED:20240718T121433Z
UID:10004504-1754474400-1754481600@www.wijkcentrumtewerve.nl
SUMMARY:Teken- en schilderclub Te Verve
DESCRIPTION:Teken- en schilderclub Te Verve: Teken en schilder mee en ontdek je creatieve kant \nVoor iedereen die gezellig samen met andere bewoners wil tekenen of schilderen \nElke woensdag van 10.00-12.00 uur \nMateriaal zelf meenemen \nGratis \nAanmelden en verdere info bij Ton van Geest: email ahcvandergeest@gmail.com of 06-15523616 \n\nTegen kosten is koffie en frisdrank te verkrijgen (Pin Only)
URL:https://www.wijkcentrumtewerve.nl/activiteit/teken-en-schilderclub-te-verve/2025-08-06/
LOCATION:Activiteitenruimte 1
END:VEVENT
BEGIN:VEVENT
DTSTART;TZID=Europe/Amsterdam:20250730T100000
DTEND;TZID=Europe/Amsterdam:20250730T120000
DTSTAMP:20260421T145358
CREATED:20240718T121433Z
LAST-MODIFIED:20240718T121433Z
UID:10004503-1753869600-1753876800@www.wijkcentrumtewerve.nl
SUMMARY:Teken- en schilderclub Te Verve
DESCRIPTION:Teken- en schilderclub Te Verve: Teken en schilder mee en ontdek je creatieve kant \nVoor iedereen die gezellig samen met andere bewoners wil tekenen of schilderen \nElke woensdag van 10.00-12.00 uur \nMateriaal zelf meenemen \nGratis \nAanmelden en verdere info bij Ton van Geest: email ahcvandergeest@gmail.com of 06-15523616 \n\nTegen kosten is koffie en frisdrank te verkrijgen (Pin Only)
URL:https://www.wijkcentrumtewerve.nl/activiteit/teken-en-schilderclub-te-verve/2025-07-30/
LOCATION:Activiteitenruimte 1
END:VEVENT
BEGIN:VEVENT
DTSTART;TZID=Europe/Amsterdam:20250729T193000
DTEND;TZID=Europe/Amsterdam:20250729T230000
DTSTAMP:20260421T145358
CREATED:20231216T213346Z
LAST-MODIFIED:20240927T084129Z
UID:10000421-1753817400-1753830000@www.wijkcentrumtewerve.nl
SUMMARY:Rode Dobbelsteen
DESCRIPTION:Gratis bordspellenavond\, elke oneven week op dinsdagavond van 19.30 tot 23.00 uur. Voor meer info: Kijk op de website www.derodedobbelsteen.nl of loop op dinsdagavond (oneven weken) binnen en vraag naar Frederik of Inge. 
URL:https://www.wijkcentrumtewerve.nl/activiteit/rode-dobbelsteen/2025-07-29/
LOCATION:Ontmoetingsruimte
END:VEVENT
BEGIN:VEVENT
DTSTART;TZID=Europe/Amsterdam:20250723T100000
DTEND;TZID=Europe/Amsterdam:20250723T120000
DTSTAMP:20260421T145358
CREATED:20240718T121433Z
LAST-MODIFIED:20240718T121433Z
UID:10004502-1753264800-1753272000@www.wijkcentrumtewerve.nl
SUMMARY:Teken- en schilderclub Te Verve
DESCRIPTION:Teken- en schilderclub Te Verve: Teken en schilder mee en ontdek je creatieve kant \nVoor iedereen die gezellig samen met andere bewoners wil tekenen of schilderen \nElke woensdag van 10.00-12.00 uur \nMateriaal zelf meenemen \nGratis \nAanmelden en verdere info bij Ton van Geest: email ahcvandergeest@gmail.com of 06-15523616 \n\nTegen kosten is koffie en frisdrank te verkrijgen (Pin Only)
URL:https://www.wijkcentrumtewerve.nl/activiteit/teken-en-schilderclub-te-verve/2025-07-23/
LOCATION:Activiteitenruimte 1
END:VEVENT
BEGIN:VEVENT
DTSTART;TZID=Europe/Amsterdam:20250716T100000
DTEND;TZID=Europe/Amsterdam:20250716T120000
DTSTAMP:20260421T145358
CREATED:20240718T121433Z
LAST-MODIFIED:20240718T121433Z
UID:10004501-1752660000-1752667200@www.wijkcentrumtewerve.nl
SUMMARY:Teken- en schilderclub Te Verve
DESCRIPTION:Teken- en schilderclub Te Verve: Teken en schilder mee en ontdek je creatieve kant \nVoor iedereen die gezellig samen met andere bewoners wil tekenen of schilderen \nElke woensdag van 10.00-12.00 uur \nMateriaal zelf meenemen \nGratis \nAanmelden en verdere info bij Ton van Geest: email ahcvandergeest@gmail.com of 06-15523616 \n\nTegen kosten is koffie en frisdrank te verkrijgen (Pin Only)
URL:https://www.wijkcentrumtewerve.nl/activiteit/teken-en-schilderclub-te-verve/2025-07-16/
LOCATION:Activiteitenruimte 1
END:VEVENT
BEGIN:VEVENT
DTSTART;TZID=Europe/Amsterdam:20250715T193000
DTEND;TZID=Europe/Amsterdam:20250715T230000
DTSTAMP:20260421T145358
CREATED:20231216T213346Z
LAST-MODIFIED:20240927T084129Z
UID:10000420-1752607800-1752620400@www.wijkcentrumtewerve.nl
SUMMARY:Rode Dobbelsteen
DESCRIPTION:Gratis bordspellenavond\, elke oneven week op dinsdagavond van 19.30 tot 23.00 uur. Voor meer info: Kijk op de website www.derodedobbelsteen.nl of loop op dinsdagavond (oneven weken) binnen en vraag naar Frederik of Inge. 
URL:https://www.wijkcentrumtewerve.nl/activiteit/rode-dobbelsteen/2025-07-15/
LOCATION:Ontmoetingsruimte
END:VEVENT
BEGIN:VEVENT
DTSTART;TZID=Europe/Amsterdam:20250709T100000
DTEND;TZID=Europe/Amsterdam:20250709T120000
DTSTAMP:20260421T145358
CREATED:20240718T121433Z
LAST-MODIFIED:20240718T121433Z
UID:10004500-1752055200-1752062400@www.wijkcentrumtewerve.nl
SUMMARY:Teken- en schilderclub Te Verve
DESCRIPTION:Teken- en schilderclub Te Verve: Teken en schilder mee en ontdek je creatieve kant \nVoor iedereen die gezellig samen met andere bewoners wil tekenen of schilderen \nElke woensdag van 10.00-12.00 uur \nMateriaal zelf meenemen \nGratis \nAanmelden en verdere info bij Ton van Geest: email ahcvandergeest@gmail.com of 06-15523616 \n\nTegen kosten is koffie en frisdrank te verkrijgen (Pin Only)
URL:https://www.wijkcentrumtewerve.nl/activiteit/teken-en-schilderclub-te-verve/2025-07-09/
LOCATION:Activiteitenruimte 1
END:VEVENT
BEGIN:VEVENT
DTSTART;TZID=Europe/Amsterdam:20250702T100000
DTEND;TZID=Europe/Amsterdam:20250702T120000
DTSTAMP:20260421T145358
CREATED:20240718T121433Z
LAST-MODIFIED:20240718T121433Z
UID:10004499-1751450400-1751457600@www.wijkcentrumtewerve.nl
SUMMARY:Teken- en schilderclub Te Verve
DESCRIPTION:Teken- en schilderclub Te Verve: Teken en schilder mee en ontdek je creatieve kant \nVoor iedereen die gezellig samen met andere bewoners wil tekenen of schilderen \nElke woensdag van 10.00-12.00 uur \nMateriaal zelf meenemen \nGratis \nAanmelden en verdere info bij Ton van Geest: email ahcvandergeest@gmail.com of 06-15523616 \n\nTegen kosten is koffie en frisdrank te verkrijgen (Pin Only)
URL:https://www.wijkcentrumtewerve.nl/activiteit/teken-en-schilderclub-te-verve/2025-07-02/
LOCATION:Activiteitenruimte 1
END:VEVENT
BEGIN:VEVENT
DTSTART;TZID=Europe/Amsterdam:20250701T193000
DTEND;TZID=Europe/Amsterdam:20250701T230000
DTSTAMP:20260421T145358
CREATED:20231216T213346Z
LAST-MODIFIED:20240927T084129Z
UID:10000419-1751398200-1751410800@www.wijkcentrumtewerve.nl
SUMMARY:Rode Dobbelsteen
DESCRIPTION:Gratis bordspellenavond\, elke oneven week op dinsdagavond van 19.30 tot 23.00 uur. Voor meer info: Kijk op de website www.derodedobbelsteen.nl of loop op dinsdagavond (oneven weken) binnen en vraag naar Frederik of Inge. 
URL:https://www.wijkcentrumtewerve.nl/activiteit/rode-dobbelsteen/2025-07-01/
LOCATION:Ontmoetingsruimte
END:VEVENT
BEGIN:VEVENT
DTSTART;TZID=Europe/Amsterdam:20250625T100000
DTEND;TZID=Europe/Amsterdam:20250625T120000
DTSTAMP:20260421T145358
CREATED:20240718T121433Z
LAST-MODIFIED:20240718T121433Z
UID:10004498-1750845600-1750852800@www.wijkcentrumtewerve.nl
SUMMARY:Teken- en schilderclub Te Verve
DESCRIPTION:Teken- en schilderclub Te Verve: Teken en schilder mee en ontdek je creatieve kant \nVoor iedereen die gezellig samen met andere bewoners wil tekenen of schilderen \nElke woensdag van 10.00-12.00 uur \nMateriaal zelf meenemen \nGratis \nAanmelden en verdere info bij Ton van Geest: email ahcvandergeest@gmail.com of 06-15523616 \n\nTegen kosten is koffie en frisdrank te verkrijgen (Pin Only)
URL:https://www.wijkcentrumtewerve.nl/activiteit/teken-en-schilderclub-te-verve/2025-06-25/
LOCATION:Activiteitenruimte 1
END:VEVENT
BEGIN:VEVENT
DTSTART;TZID=Europe/Amsterdam:20250618T100000
DTEND;TZID=Europe/Amsterdam:20250618T120000
DTSTAMP:20260421T145358
CREATED:20240718T121433Z
LAST-MODIFIED:20240718T121433Z
UID:10004497-1750240800-1750248000@www.wijkcentrumtewerve.nl
SUMMARY:Teken- en schilderclub Te Verve
DESCRIPTION:Teken- en schilderclub Te Verve: Teken en schilder mee en ontdek je creatieve kant \nVoor iedereen die gezellig samen met andere bewoners wil tekenen of schilderen \nElke woensdag van 10.00-12.00 uur \nMateriaal zelf meenemen \nGratis \nAanmelden en verdere info bij Ton van Geest: email ahcvandergeest@gmail.com of 06-15523616 \n\nTegen kosten is koffie en frisdrank te verkrijgen (Pin Only)
URL:https://www.wijkcentrumtewerve.nl/activiteit/teken-en-schilderclub-te-verve/2025-06-18/
LOCATION:Activiteitenruimte 1
END:VEVENT
BEGIN:VEVENT
DTSTART;TZID=Europe/Amsterdam:20250617T193000
DTEND;TZID=Europe/Amsterdam:20250617T230000
DTSTAMP:20260421T145358
CREATED:20231216T213346Z
LAST-MODIFIED:20240927T084129Z
UID:10000418-1750188600-1750201200@www.wijkcentrumtewerve.nl
SUMMARY:Rode Dobbelsteen
DESCRIPTION:Gratis bordspellenavond\, elke oneven week op dinsdagavond van 19.30 tot 23.00 uur. Voor meer info: Kijk op de website www.derodedobbelsteen.nl of loop op dinsdagavond (oneven weken) binnen en vraag naar Frederik of Inge. 
URL:https://www.wijkcentrumtewerve.nl/activiteit/rode-dobbelsteen/2025-06-17/
LOCATION:Ontmoetingsruimte
END:VEVENT
BEGIN:VEVENT
DTSTART;TZID=Europe/Amsterdam:20250611T100000
DTEND;TZID=Europe/Amsterdam:20250611T120000
DTSTAMP:20260421T145358
CREATED:20240718T121433Z
LAST-MODIFIED:20240718T121433Z
UID:10004496-1749636000-1749643200@www.wijkcentrumtewerve.nl
SUMMARY:Teken- en schilderclub Te Verve
DESCRIPTION:Teken- en schilderclub Te Verve: Teken en schilder mee en ontdek je creatieve kant \nVoor iedereen die gezellig samen met andere bewoners wil tekenen of schilderen \nElke woensdag van 10.00-12.00 uur \nMateriaal zelf meenemen \nGratis \nAanmelden en verdere info bij Ton van Geest: email ahcvandergeest@gmail.com of 06-15523616 \n\nTegen kosten is koffie en frisdrank te verkrijgen (Pin Only)
URL:https://www.wijkcentrumtewerve.nl/activiteit/teken-en-schilderclub-te-verve/2025-06-11/
LOCATION:Activiteitenruimte 1
END:VEVENT
BEGIN:VEVENT
DTSTART;TZID=Europe/Amsterdam:20250604T100000
DTEND;TZID=Europe/Amsterdam:20250604T120000
DTSTAMP:20260421T145358
CREATED:20240718T121433Z
LAST-MODIFIED:20240718T121433Z
UID:10004495-1749031200-1749038400@www.wijkcentrumtewerve.nl
SUMMARY:Teken- en schilderclub Te Verve
DESCRIPTION:Teken- en schilderclub Te Verve: Teken en schilder mee en ontdek je creatieve kant \nVoor iedereen die gezellig samen met andere bewoners wil tekenen of schilderen \nElke woensdag van 10.00-12.00 uur \nMateriaal zelf meenemen \nGratis \nAanmelden en verdere info bij Ton van Geest: email ahcvandergeest@gmail.com of 06-15523616 \n\nTegen kosten is koffie en frisdrank te verkrijgen (Pin Only)
URL:https://www.wijkcentrumtewerve.nl/activiteit/teken-en-schilderclub-te-verve/2025-06-04/
LOCATION:Activiteitenruimte 1
END:VEVENT
BEGIN:VEVENT
DTSTART;TZID=Europe/Amsterdam:20250603T193000
DTEND;TZID=Europe/Amsterdam:20250603T230000
DTSTAMP:20260421T145358
CREATED:20231216T213346Z
LAST-MODIFIED:20240927T084129Z
UID:10000417-1748979000-1748991600@www.wijkcentrumtewerve.nl
SUMMARY:Rode Dobbelsteen
DESCRIPTION:Gratis bordspellenavond\, elke oneven week op dinsdagavond van 19.30 tot 23.00 uur. Voor meer info: Kijk op de website www.derodedobbelsteen.nl of loop op dinsdagavond (oneven weken) binnen en vraag naar Frederik of Inge. 
URL:https://www.wijkcentrumtewerve.nl/activiteit/rode-dobbelsteen/2025-06-03/
LOCATION:Ontmoetingsruimte
END:VEVENT
BEGIN:VEVENT
DTSTART;TZID=Europe/Amsterdam:20250528T100000
DTEND;TZID=Europe/Amsterdam:20250528T120000
DTSTAMP:20260421T145359
CREATED:20240718T121433Z
LAST-MODIFIED:20240718T121433Z
UID:10004494-1748426400-1748433600@www.wijkcentrumtewerve.nl
SUMMARY:Teken- en schilderclub Te Verve
DESCRIPTION:Teken- en schilderclub Te Verve: Teken en schilder mee en ontdek je creatieve kant \nVoor iedereen die gezellig samen met andere bewoners wil tekenen of schilderen \nElke woensdag van 10.00-12.00 uur \nMateriaal zelf meenemen \nGratis \nAanmelden en verdere info bij Ton van Geest: email ahcvandergeest@gmail.com of 06-15523616 \n\nTegen kosten is koffie en frisdrank te verkrijgen (Pin Only)
URL:https://www.wijkcentrumtewerve.nl/activiteit/teken-en-schilderclub-te-verve/2025-05-28/
LOCATION:Activiteitenruimte 1
END:VEVENT
END:VCALENDAR