BEGIN:VCALENDAR
VERSION:2.0
PRODID:-//Wijkcentrum Te Werve - Welzijn Rijswijk - ECPv6.8.2.1//NONSGML v1.0//EN
CALSCALE:GREGORIAN
METHOD:PUBLISH
X-WR-CALNAME:Wijkcentrum Te Werve - Welzijn Rijswijk
X-ORIGINAL-URL:https://www.wijkcentrumtewerve.nl
X-WR-CALDESC:Evenementen voor Wijkcentrum Te Werve - Welzijn Rijswijk
REFRESH-INTERVAL;VALUE=DURATION:PT1H
X-Robots-Tag:noindex
X-PUBLISHED-TTL:PT1H
BEGIN:VTIMEZONE
TZID:Europe/Amsterdam
BEGIN:DAYLIGHT
TZOFFSETFROM:+0100
TZOFFSETTO:+0200
TZNAME:CEST
DTSTART:20260329T010000
END:DAYLIGHT
BEGIN:STANDARD
TZOFFSETFROM:+0200
TZOFFSETTO:+0100
TZNAME:CET
DTSTART:20261025T010000
END:STANDARD
END:VTIMEZONE
BEGIN:VEVENT
DTSTART;TZID=Europe/Amsterdam:20260722T100000
DTEND;TZID=Europe/Amsterdam:20260722T120000
DTSTAMP:20260421T121535
CREATED:20240718T121433Z
LAST-MODIFIED:20240718T121433Z
UID:10004554-1784714400-1784721600@www.wijkcentrumtewerve.nl
SUMMARY:Teken- en schilderclub Te Verve
DESCRIPTION:Teken- en schilderclub Te Verve: Teken en schilder mee en ontdek je creatieve kant \nVoor iedereen die gezellig samen met andere bewoners wil tekenen of schilderen \nElke woensdag van 10.00-12.00 uur \nMateriaal zelf meenemen \nGratis \nAanmelden en verdere info bij Ton van Geest: email ahcvandergeest@gmail.com of 06-15523616 \n\nTegen kosten is koffie en frisdrank te verkrijgen (Pin Only)
URL:https://www.wijkcentrumtewerve.nl/activiteit/teken-en-schilderclub-te-verve/2026-07-22/
LOCATION:Activiteitenruimte 1
END:VEVENT
BEGIN:VEVENT
DTSTART;TZID=Europe/Amsterdam:20260728T193000
DTEND;TZID=Europe/Amsterdam:20260728T230000
DTSTAMP:20260421T121535
CREATED:20231216T213346Z
LAST-MODIFIED:20240927T084129Z
UID:10000447-1785267000-1785279600@www.wijkcentrumtewerve.nl
SUMMARY:Rode Dobbelsteen
DESCRIPTION:Gratis bordspellenavond\, elke oneven week op dinsdagavond van 19.30 tot 23.00 uur. Voor meer info: Kijk op de website www.derodedobbelsteen.nl of loop op dinsdagavond (oneven weken) binnen en vraag naar Frederik of Inge. 
URL:https://www.wijkcentrumtewerve.nl/activiteit/rode-dobbelsteen/2026-07-28/
LOCATION:Ontmoetingsruimte
END:VEVENT
BEGIN:VEVENT
DTSTART;TZID=Europe/Amsterdam:20260729T100000
DTEND;TZID=Europe/Amsterdam:20260729T120000
DTSTAMP:20260421T121535
CREATED:20240718T121433Z
LAST-MODIFIED:20240718T121433Z
UID:10004555-1785319200-1785326400@www.wijkcentrumtewerve.nl
SUMMARY:Teken- en schilderclub Te Verve
DESCRIPTION:Teken- en schilderclub Te Verve: Teken en schilder mee en ontdek je creatieve kant \nVoor iedereen die gezellig samen met andere bewoners wil tekenen of schilderen \nElke woensdag van 10.00-12.00 uur \nMateriaal zelf meenemen \nGratis \nAanmelden en verdere info bij Ton van Geest: email ahcvandergeest@gmail.com of 06-15523616 \n\nTegen kosten is koffie en frisdrank te verkrijgen (Pin Only)
URL:https://www.wijkcentrumtewerve.nl/activiteit/teken-en-schilderclub-te-verve/2026-07-29/
LOCATION:Activiteitenruimte 1
END:VEVENT
BEGIN:VEVENT
DTSTART;TZID=Europe/Amsterdam:20260805T100000
DTEND;TZID=Europe/Amsterdam:20260805T120000
DTSTAMP:20260421T121535
CREATED:20240718T121433Z
LAST-MODIFIED:20240718T121433Z
UID:10004556-1785924000-1785931200@www.wijkcentrumtewerve.nl
SUMMARY:Teken- en schilderclub Te Verve
DESCRIPTION:Teken- en schilderclub Te Verve: Teken en schilder mee en ontdek je creatieve kant \nVoor iedereen die gezellig samen met andere bewoners wil tekenen of schilderen \nElke woensdag van 10.00-12.00 uur \nMateriaal zelf meenemen \nGratis \nAanmelden en verdere info bij Ton van Geest: email ahcvandergeest@gmail.com of 06-15523616 \n\nTegen kosten is koffie en frisdrank te verkrijgen (Pin Only)
URL:https://www.wijkcentrumtewerve.nl/activiteit/teken-en-schilderclub-te-verve/2026-08-05/
LOCATION:Activiteitenruimte 1
END:VEVENT
BEGIN:VEVENT
DTSTART;TZID=Europe/Amsterdam:20260811T193000
DTEND;TZID=Europe/Amsterdam:20260811T230000
DTSTAMP:20260421T121535
CREATED:20231216T213346Z
LAST-MODIFIED:20240927T084129Z
UID:10000448-1786476600-1786489200@www.wijkcentrumtewerve.nl
SUMMARY:Rode Dobbelsteen
DESCRIPTION:Gratis bordspellenavond\, elke oneven week op dinsdagavond van 19.30 tot 23.00 uur. Voor meer info: Kijk op de website www.derodedobbelsteen.nl of loop op dinsdagavond (oneven weken) binnen en vraag naar Frederik of Inge. 
URL:https://www.wijkcentrumtewerve.nl/activiteit/rode-dobbelsteen/2026-08-11/
LOCATION:Ontmoetingsruimte
END:VEVENT
BEGIN:VEVENT
DTSTART;TZID=Europe/Amsterdam:20260812T100000
DTEND;TZID=Europe/Amsterdam:20260812T120000
DTSTAMP:20260421T121535
CREATED:20240718T121433Z
LAST-MODIFIED:20240718T121433Z
UID:10004557-1786528800-1786536000@www.wijkcentrumtewerve.nl
SUMMARY:Teken- en schilderclub Te Verve
DESCRIPTION:Teken- en schilderclub Te Verve: Teken en schilder mee en ontdek je creatieve kant \nVoor iedereen die gezellig samen met andere bewoners wil tekenen of schilderen \nElke woensdag van 10.00-12.00 uur \nMateriaal zelf meenemen \nGratis \nAanmelden en verdere info bij Ton van Geest: email ahcvandergeest@gmail.com of 06-15523616 \n\nTegen kosten is koffie en frisdrank te verkrijgen (Pin Only)
URL:https://www.wijkcentrumtewerve.nl/activiteit/teken-en-schilderclub-te-verve/2026-08-12/
LOCATION:Activiteitenruimte 1
END:VEVENT
BEGIN:VEVENT
DTSTART;TZID=Europe/Amsterdam:20260819T100000
DTEND;TZID=Europe/Amsterdam:20260819T120000
DTSTAMP:20260421T121535
CREATED:20240718T121433Z
LAST-MODIFIED:20240718T121433Z
UID:10004558-1787133600-1787140800@www.wijkcentrumtewerve.nl
SUMMARY:Teken- en schilderclub Te Verve
DESCRIPTION:Teken- en schilderclub Te Verve: Teken en schilder mee en ontdek je creatieve kant \nVoor iedereen die gezellig samen met andere bewoners wil tekenen of schilderen \nElke woensdag van 10.00-12.00 uur \nMateriaal zelf meenemen \nGratis \nAanmelden en verdere info bij Ton van Geest: email ahcvandergeest@gmail.com of 06-15523616 \n\nTegen kosten is koffie en frisdrank te verkrijgen (Pin Only)
URL:https://www.wijkcentrumtewerve.nl/activiteit/teken-en-schilderclub-te-verve/2026-08-19/
LOCATION:Activiteitenruimte 1
END:VEVENT
BEGIN:VEVENT
DTSTART;TZID=Europe/Amsterdam:20260825T193000
DTEND;TZID=Europe/Amsterdam:20260825T230000
DTSTAMP:20260421T121535
CREATED:20231216T213346Z
LAST-MODIFIED:20240927T084129Z
UID:10000449-1787686200-1787698800@www.wijkcentrumtewerve.nl
SUMMARY:Rode Dobbelsteen
DESCRIPTION:Gratis bordspellenavond\, elke oneven week op dinsdagavond van 19.30 tot 23.00 uur. Voor meer info: Kijk op de website www.derodedobbelsteen.nl of loop op dinsdagavond (oneven weken) binnen en vraag naar Frederik of Inge. 
URL:https://www.wijkcentrumtewerve.nl/activiteit/rode-dobbelsteen/2026-08-25/
LOCATION:Ontmoetingsruimte
END:VEVENT
BEGIN:VEVENT
DTSTART;TZID=Europe/Amsterdam:20260826T100000
DTEND;TZID=Europe/Amsterdam:20260826T120000
DTSTAMP:20260421T121535
CREATED:20240718T121433Z
LAST-MODIFIED:20240718T121433Z
UID:10004559-1787738400-1787745600@www.wijkcentrumtewerve.nl
SUMMARY:Teken- en schilderclub Te Verve
DESCRIPTION:Teken- en schilderclub Te Verve: Teken en schilder mee en ontdek je creatieve kant \nVoor iedereen die gezellig samen met andere bewoners wil tekenen of schilderen \nElke woensdag van 10.00-12.00 uur \nMateriaal zelf meenemen \nGratis \nAanmelden en verdere info bij Ton van Geest: email ahcvandergeest@gmail.com of 06-15523616 \n\nTegen kosten is koffie en frisdrank te verkrijgen (Pin Only)
URL:https://www.wijkcentrumtewerve.nl/activiteit/teken-en-schilderclub-te-verve/2026-08-26/
LOCATION:Activiteitenruimte 1
END:VEVENT
BEGIN:VEVENT
DTSTART;TZID=Europe/Amsterdam:20260902T100000
DTEND;TZID=Europe/Amsterdam:20260902T120000
DTSTAMP:20260421T121535
CREATED:20240718T121433Z
LAST-MODIFIED:20240718T121433Z
UID:10004560-1788343200-1788350400@www.wijkcentrumtewerve.nl
SUMMARY:Teken- en schilderclub Te Verve
DESCRIPTION:Teken- en schilderclub Te Verve: Teken en schilder mee en ontdek je creatieve kant \nVoor iedereen die gezellig samen met andere bewoners wil tekenen of schilderen \nElke woensdag van 10.00-12.00 uur \nMateriaal zelf meenemen \nGratis \nAanmelden en verdere info bij Ton van Geest: email ahcvandergeest@gmail.com of 06-15523616 \n\nTegen kosten is koffie en frisdrank te verkrijgen (Pin Only)
URL:https://www.wijkcentrumtewerve.nl/activiteit/teken-en-schilderclub-te-verve/2026-09-02/
LOCATION:Activiteitenruimte 1
END:VEVENT
BEGIN:VEVENT
DTSTART;TZID=Europe/Amsterdam:20260908T193000
DTEND;TZID=Europe/Amsterdam:20260908T230000
DTSTAMP:20260421T121535
CREATED:20231216T213346Z
LAST-MODIFIED:20240927T084129Z
UID:10000450-1788895800-1788908400@www.wijkcentrumtewerve.nl
SUMMARY:Rode Dobbelsteen
DESCRIPTION:Gratis bordspellenavond\, elke oneven week op dinsdagavond van 19.30 tot 23.00 uur. Voor meer info: Kijk op de website www.derodedobbelsteen.nl of loop op dinsdagavond (oneven weken) binnen en vraag naar Frederik of Inge. 
URL:https://www.wijkcentrumtewerve.nl/activiteit/rode-dobbelsteen/2026-09-08/
LOCATION:Ontmoetingsruimte
END:VEVENT
BEGIN:VEVENT
DTSTART;TZID=Europe/Amsterdam:20260909T100000
DTEND;TZID=Europe/Amsterdam:20260909T120000
DTSTAMP:20260421T121535
CREATED:20240718T121433Z
LAST-MODIFIED:20240718T121433Z
UID:10004561-1788948000-1788955200@www.wijkcentrumtewerve.nl
SUMMARY:Teken- en schilderclub Te Verve
DESCRIPTION:Teken- en schilderclub Te Verve: Teken en schilder mee en ontdek je creatieve kant \nVoor iedereen die gezellig samen met andere bewoners wil tekenen of schilderen \nElke woensdag van 10.00-12.00 uur \nMateriaal zelf meenemen \nGratis \nAanmelden en verdere info bij Ton van Geest: email ahcvandergeest@gmail.com of 06-15523616 \n\nTegen kosten is koffie en frisdrank te verkrijgen (Pin Only)
URL:https://www.wijkcentrumtewerve.nl/activiteit/teken-en-schilderclub-te-verve/2026-09-09/
LOCATION:Activiteitenruimte 1
END:VEVENT
BEGIN:VEVENT
DTSTART;TZID=Europe/Amsterdam:20260916T100000
DTEND;TZID=Europe/Amsterdam:20260916T120000
DTSTAMP:20260421T121535
CREATED:20240718T121433Z
LAST-MODIFIED:20240718T121433Z
UID:10004562-1789552800-1789560000@www.wijkcentrumtewerve.nl
SUMMARY:Teken- en schilderclub Te Verve
DESCRIPTION:Teken- en schilderclub Te Verve: Teken en schilder mee en ontdek je creatieve kant \nVoor iedereen die gezellig samen met andere bewoners wil tekenen of schilderen \nElke woensdag van 10.00-12.00 uur \nMateriaal zelf meenemen \nGratis \nAanmelden en verdere info bij Ton van Geest: email ahcvandergeest@gmail.com of 06-15523616 \n\nTegen kosten is koffie en frisdrank te verkrijgen (Pin Only)
URL:https://www.wijkcentrumtewerve.nl/activiteit/teken-en-schilderclub-te-verve/2026-09-16/
LOCATION:Activiteitenruimte 1
END:VEVENT
BEGIN:VEVENT
DTSTART;TZID=Europe/Amsterdam:20260922T193000
DTEND;TZID=Europe/Amsterdam:20260922T230000
DTSTAMP:20260421T121535
CREATED:20231216T213346Z
LAST-MODIFIED:20240927T084129Z
UID:10000451-1790105400-1790118000@www.wijkcentrumtewerve.nl
SUMMARY:Rode Dobbelsteen
DESCRIPTION:Gratis bordspellenavond\, elke oneven week op dinsdagavond van 19.30 tot 23.00 uur. Voor meer info: Kijk op de website www.derodedobbelsteen.nl of loop op dinsdagavond (oneven weken) binnen en vraag naar Frederik of Inge. 
URL:https://www.wijkcentrumtewerve.nl/activiteit/rode-dobbelsteen/2026-09-22/
LOCATION:Ontmoetingsruimte
END:VEVENT
BEGIN:VEVENT
DTSTART;TZID=Europe/Amsterdam:20260923T100000
DTEND;TZID=Europe/Amsterdam:20260923T120000
DTSTAMP:20260421T121535
CREATED:20240718T121433Z
LAST-MODIFIED:20240718T121433Z
UID:10004563-1790157600-1790164800@www.wijkcentrumtewerve.nl
SUMMARY:Teken- en schilderclub Te Verve
DESCRIPTION:Teken- en schilderclub Te Verve: Teken en schilder mee en ontdek je creatieve kant \nVoor iedereen die gezellig samen met andere bewoners wil tekenen of schilderen \nElke woensdag van 10.00-12.00 uur \nMateriaal zelf meenemen \nGratis \nAanmelden en verdere info bij Ton van Geest: email ahcvandergeest@gmail.com of 06-15523616 \n\nTegen kosten is koffie en frisdrank te verkrijgen (Pin Only)
URL:https://www.wijkcentrumtewerve.nl/activiteit/teken-en-schilderclub-te-verve/2026-09-23/
LOCATION:Activiteitenruimte 1
END:VEVENT
BEGIN:VEVENT
DTSTART;TZID=Europe/Amsterdam:20260930T100000
DTEND;TZID=Europe/Amsterdam:20260930T120000
DTSTAMP:20260421T121535
CREATED:20240718T121433Z
LAST-MODIFIED:20240718T121433Z
UID:10004564-1790762400-1790769600@www.wijkcentrumtewerve.nl
SUMMARY:Teken- en schilderclub Te Verve
DESCRIPTION:Teken- en schilderclub Te Verve: Teken en schilder mee en ontdek je creatieve kant \nVoor iedereen die gezellig samen met andere bewoners wil tekenen of schilderen \nElke woensdag van 10.00-12.00 uur \nMateriaal zelf meenemen \nGratis \nAanmelden en verdere info bij Ton van Geest: email ahcvandergeest@gmail.com of 06-15523616 \n\nTegen kosten is koffie en frisdrank te verkrijgen (Pin Only)
URL:https://www.wijkcentrumtewerve.nl/activiteit/teken-en-schilderclub-te-verve/2026-09-30/
LOCATION:Activiteitenruimte 1
END:VEVENT
BEGIN:VEVENT
DTSTART;TZID=Europe/Amsterdam:20261006T193000
DTEND;TZID=Europe/Amsterdam:20261006T230000
DTSTAMP:20260421T121535
CREATED:20231216T213346Z
LAST-MODIFIED:20240927T084129Z
UID:10000452-1791315000-1791327600@www.wijkcentrumtewerve.nl
SUMMARY:Rode Dobbelsteen
DESCRIPTION:Gratis bordspellenavond\, elke oneven week op dinsdagavond van 19.30 tot 23.00 uur. Voor meer info: Kijk op de website www.derodedobbelsteen.nl of loop op dinsdagavond (oneven weken) binnen en vraag naar Frederik of Inge. 
URL:https://www.wijkcentrumtewerve.nl/activiteit/rode-dobbelsteen/2026-10-06/
LOCATION:Ontmoetingsruimte
END:VEVENT
BEGIN:VEVENT
DTSTART;TZID=Europe/Amsterdam:20261007T100000
DTEND;TZID=Europe/Amsterdam:20261007T120000
DTSTAMP:20260421T121535
CREATED:20240718T121433Z
LAST-MODIFIED:20240718T121433Z
UID:10004565-1791367200-1791374400@www.wijkcentrumtewerve.nl
SUMMARY:Teken- en schilderclub Te Verve
DESCRIPTION:Teken- en schilderclub Te Verve: Teken en schilder mee en ontdek je creatieve kant \nVoor iedereen die gezellig samen met andere bewoners wil tekenen of schilderen \nElke woensdag van 10.00-12.00 uur \nMateriaal zelf meenemen \nGratis \nAanmelden en verdere info bij Ton van Geest: email ahcvandergeest@gmail.com of 06-15523616 \n\nTegen kosten is koffie en frisdrank te verkrijgen (Pin Only)
URL:https://www.wijkcentrumtewerve.nl/activiteit/teken-en-schilderclub-te-verve/2026-10-07/
LOCATION:Activiteitenruimte 1
END:VEVENT
BEGIN:VEVENT
DTSTART;TZID=Europe/Amsterdam:20261014T100000
DTEND;TZID=Europe/Amsterdam:20261014T120000
DTSTAMP:20260421T121535
CREATED:20240718T121433Z
LAST-MODIFIED:20240718T121433Z
UID:10004566-1791972000-1791979200@www.wijkcentrumtewerve.nl
SUMMARY:Teken- en schilderclub Te Verve
DESCRIPTION:Teken- en schilderclub Te Verve: Teken en schilder mee en ontdek je creatieve kant \nVoor iedereen die gezellig samen met andere bewoners wil tekenen of schilderen \nElke woensdag van 10.00-12.00 uur \nMateriaal zelf meenemen \nGratis \nAanmelden en verdere info bij Ton van Geest: email ahcvandergeest@gmail.com of 06-15523616 \n\nTegen kosten is koffie en frisdrank te verkrijgen (Pin Only)
URL:https://www.wijkcentrumtewerve.nl/activiteit/teken-en-schilderclub-te-verve/2026-10-14/
LOCATION:Activiteitenruimte 1
END:VEVENT
BEGIN:VEVENT
DTSTART;TZID=Europe/Amsterdam:20261020T193000
DTEND;TZID=Europe/Amsterdam:20261020T230000
DTSTAMP:20260421T121535
CREATED:20231216T213346Z
LAST-MODIFIED:20240927T084129Z
UID:10000453-1792524600-1792537200@www.wijkcentrumtewerve.nl
SUMMARY:Rode Dobbelsteen
DESCRIPTION:Gratis bordspellenavond\, elke oneven week op dinsdagavond van 19.30 tot 23.00 uur. Voor meer info: Kijk op de website www.derodedobbelsteen.nl of loop op dinsdagavond (oneven weken) binnen en vraag naar Frederik of Inge. 
URL:https://www.wijkcentrumtewerve.nl/activiteit/rode-dobbelsteen/2026-10-20/
LOCATION:Ontmoetingsruimte
END:VEVENT
BEGIN:VEVENT
DTSTART;TZID=Europe/Amsterdam:20261021T100000
DTEND;TZID=Europe/Amsterdam:20261021T120000
DTSTAMP:20260421T121535
CREATED:20240718T121433Z
LAST-MODIFIED:20240718T121433Z
UID:10004567-1792576800-1792584000@www.wijkcentrumtewerve.nl
SUMMARY:Teken- en schilderclub Te Verve
DESCRIPTION:Teken- en schilderclub Te Verve: Teken en schilder mee en ontdek je creatieve kant \nVoor iedereen die gezellig samen met andere bewoners wil tekenen of schilderen \nElke woensdag van 10.00-12.00 uur \nMateriaal zelf meenemen \nGratis \nAanmelden en verdere info bij Ton van Geest: email ahcvandergeest@gmail.com of 06-15523616 \n\nTegen kosten is koffie en frisdrank te verkrijgen (Pin Only)
URL:https://www.wijkcentrumtewerve.nl/activiteit/teken-en-schilderclub-te-verve/2026-10-21/
LOCATION:Activiteitenruimte 1
END:VEVENT
BEGIN:VEVENT
DTSTART;TZID=Europe/Amsterdam:20261028T100000
DTEND;TZID=Europe/Amsterdam:20261028T120000
DTSTAMP:20260421T121536
CREATED:20240718T121433Z
LAST-MODIFIED:20240718T121433Z
UID:10004568-1793181600-1793188800@www.wijkcentrumtewerve.nl
SUMMARY:Teken- en schilderclub Te Verve
DESCRIPTION:Teken- en schilderclub Te Verve: Teken en schilder mee en ontdek je creatieve kant \nVoor iedereen die gezellig samen met andere bewoners wil tekenen of schilderen \nElke woensdag van 10.00-12.00 uur \nMateriaal zelf meenemen \nGratis \nAanmelden en verdere info bij Ton van Geest: email ahcvandergeest@gmail.com of 06-15523616 \n\nTegen kosten is koffie en frisdrank te verkrijgen (Pin Only)
URL:https://www.wijkcentrumtewerve.nl/activiteit/teken-en-schilderclub-te-verve/2026-10-28/
LOCATION:Activiteitenruimte 1
END:VEVENT
BEGIN:VEVENT
DTSTART;TZID=Europe/Amsterdam:20261103T193000
DTEND;TZID=Europe/Amsterdam:20261103T230000
DTSTAMP:20260421T121536
CREATED:20231216T213346Z
LAST-MODIFIED:20240927T084129Z
UID:10000454-1793734200-1793746800@www.wijkcentrumtewerve.nl
SUMMARY:Rode Dobbelsteen
DESCRIPTION:Gratis bordspellenavond\, elke oneven week op dinsdagavond van 19.30 tot 23.00 uur. Voor meer info: Kijk op de website www.derodedobbelsteen.nl of loop op dinsdagavond (oneven weken) binnen en vraag naar Frederik of Inge. 
URL:https://www.wijkcentrumtewerve.nl/activiteit/rode-dobbelsteen/2026-11-03/
LOCATION:Ontmoetingsruimte
END:VEVENT
BEGIN:VEVENT
DTSTART;TZID=Europe/Amsterdam:20261104T100000
DTEND;TZID=Europe/Amsterdam:20261104T120000
DTSTAMP:20260421T121536
CREATED:20240718T121433Z
LAST-MODIFIED:20240718T121433Z
UID:10004569-1793786400-1793793600@www.wijkcentrumtewerve.nl
SUMMARY:Teken- en schilderclub Te Verve
DESCRIPTION:Teken- en schilderclub Te Verve: Teken en schilder mee en ontdek je creatieve kant \nVoor iedereen die gezellig samen met andere bewoners wil tekenen of schilderen \nElke woensdag van 10.00-12.00 uur \nMateriaal zelf meenemen \nGratis \nAanmelden en verdere info bij Ton van Geest: email ahcvandergeest@gmail.com of 06-15523616 \n\nTegen kosten is koffie en frisdrank te verkrijgen (Pin Only)
URL:https://www.wijkcentrumtewerve.nl/activiteit/teken-en-schilderclub-te-verve/2026-11-04/
LOCATION:Activiteitenruimte 1
END:VEVENT
BEGIN:VEVENT
DTSTART;TZID=Europe/Amsterdam:20261111T100000
DTEND;TZID=Europe/Amsterdam:20261111T120000
DTSTAMP:20260421T121536
CREATED:20240718T121433Z
LAST-MODIFIED:20240718T121433Z
UID:10004570-1794391200-1794398400@www.wijkcentrumtewerve.nl
SUMMARY:Teken- en schilderclub Te Verve
DESCRIPTION:Teken- en schilderclub Te Verve: Teken en schilder mee en ontdek je creatieve kant \nVoor iedereen die gezellig samen met andere bewoners wil tekenen of schilderen \nElke woensdag van 10.00-12.00 uur \nMateriaal zelf meenemen \nGratis \nAanmelden en verdere info bij Ton van Geest: email ahcvandergeest@gmail.com of 06-15523616 \n\nTegen kosten is koffie en frisdrank te verkrijgen (Pin Only)
URL:https://www.wijkcentrumtewerve.nl/activiteit/teken-en-schilderclub-te-verve/2026-11-11/
LOCATION:Activiteitenruimte 1
END:VEVENT
BEGIN:VEVENT
DTSTART;TZID=Europe/Amsterdam:20261117T193000
DTEND;TZID=Europe/Amsterdam:20261117T230000
DTSTAMP:20260421T121536
CREATED:20231216T213346Z
LAST-MODIFIED:20240927T084129Z
UID:10000455-1794943800-1794956400@www.wijkcentrumtewerve.nl
SUMMARY:Rode Dobbelsteen
DESCRIPTION:Gratis bordspellenavond\, elke oneven week op dinsdagavond van 19.30 tot 23.00 uur. Voor meer info: Kijk op de website www.derodedobbelsteen.nl of loop op dinsdagavond (oneven weken) binnen en vraag naar Frederik of Inge. 
URL:https://www.wijkcentrumtewerve.nl/activiteit/rode-dobbelsteen/2026-11-17/
LOCATION:Ontmoetingsruimte
END:VEVENT
BEGIN:VEVENT
DTSTART;TZID=Europe/Amsterdam:20261118T100000
DTEND;TZID=Europe/Amsterdam:20261118T120000
DTSTAMP:20260421T121536
CREATED:20240718T121433Z
LAST-MODIFIED:20240718T121433Z
UID:10004571-1794996000-1795003200@www.wijkcentrumtewerve.nl
SUMMARY:Teken- en schilderclub Te Verve
DESCRIPTION:Teken- en schilderclub Te Verve: Teken en schilder mee en ontdek je creatieve kant \nVoor iedereen die gezellig samen met andere bewoners wil tekenen of schilderen \nElke woensdag van 10.00-12.00 uur \nMateriaal zelf meenemen \nGratis \nAanmelden en verdere info bij Ton van Geest: email ahcvandergeest@gmail.com of 06-15523616 \n\nTegen kosten is koffie en frisdrank te verkrijgen (Pin Only)
URL:https://www.wijkcentrumtewerve.nl/activiteit/teken-en-schilderclub-te-verve/2026-11-18/
LOCATION:Activiteitenruimte 1
END:VEVENT
BEGIN:VEVENT
DTSTART;TZID=Europe/Amsterdam:20261125T100000
DTEND;TZID=Europe/Amsterdam:20261125T120000
DTSTAMP:20260421T121536
CREATED:20240718T121433Z
LAST-MODIFIED:20240718T121433Z
UID:10004572-1795600800-1795608000@www.wijkcentrumtewerve.nl
SUMMARY:Teken- en schilderclub Te Verve
DESCRIPTION:Teken- en schilderclub Te Verve: Teken en schilder mee en ontdek je creatieve kant \nVoor iedereen die gezellig samen met andere bewoners wil tekenen of schilderen \nElke woensdag van 10.00-12.00 uur \nMateriaal zelf meenemen \nGratis \nAanmelden en verdere info bij Ton van Geest: email ahcvandergeest@gmail.com of 06-15523616 \n\nTegen kosten is koffie en frisdrank te verkrijgen (Pin Only)
URL:https://www.wijkcentrumtewerve.nl/activiteit/teken-en-schilderclub-te-verve/2026-11-25/
LOCATION:Activiteitenruimte 1
END:VEVENT
BEGIN:VEVENT
DTSTART;TZID=Europe/Amsterdam:20261201T193000
DTEND;TZID=Europe/Amsterdam:20261201T230000
DTSTAMP:20260421T121536
CREATED:20231216T213346Z
LAST-MODIFIED:20240927T084129Z
UID:10000456-1796153400-1796166000@www.wijkcentrumtewerve.nl
SUMMARY:Rode Dobbelsteen
DESCRIPTION:Gratis bordspellenavond\, elke oneven week op dinsdagavond van 19.30 tot 23.00 uur. Voor meer info: Kijk op de website www.derodedobbelsteen.nl of loop op dinsdagavond (oneven weken) binnen en vraag naar Frederik of Inge. 
URL:https://www.wijkcentrumtewerve.nl/activiteit/rode-dobbelsteen/2026-12-01/
LOCATION:Ontmoetingsruimte
END:VEVENT
BEGIN:VEVENT
DTSTART;TZID=Europe/Amsterdam:20261202T100000
DTEND;TZID=Europe/Amsterdam:20261202T120000
DTSTAMP:20260421T121536
CREATED:20240718T121433Z
LAST-MODIFIED:20240718T121433Z
UID:10004573-1796205600-1796212800@www.wijkcentrumtewerve.nl
SUMMARY:Teken- en schilderclub Te Verve
DESCRIPTION:Teken- en schilderclub Te Verve: Teken en schilder mee en ontdek je creatieve kant \nVoor iedereen die gezellig samen met andere bewoners wil tekenen of schilderen \nElke woensdag van 10.00-12.00 uur \nMateriaal zelf meenemen \nGratis \nAanmelden en verdere info bij Ton van Geest: email ahcvandergeest@gmail.com of 06-15523616 \n\nTegen kosten is koffie en frisdrank te verkrijgen (Pin Only)
URL:https://www.wijkcentrumtewerve.nl/activiteit/teken-en-schilderclub-te-verve/2026-12-02/
LOCATION:Activiteitenruimte 1
END:VEVENT
END:VCALENDAR