BEGIN:VCALENDAR
VERSION:2.0
PRODID:-//Wijkcentrum Te Werve - Welzijn Rijswijk - ECPv6.8.2.1//NONSGML v1.0//EN
CALSCALE:GREGORIAN
METHOD:PUBLISH
X-WR-CALNAME:Wijkcentrum Te Werve - Welzijn Rijswijk
X-ORIGINAL-URL:https://www.wijkcentrumtewerve.nl
X-WR-CALDESC:Evenementen voor Wijkcentrum Te Werve - Welzijn Rijswijk
REFRESH-INTERVAL;VALUE=DURATION:PT1H
X-Robots-Tag:noindex
X-PUBLISHED-TTL:PT1H
BEGIN:VTIMEZONE
TZID:Europe/Amsterdam
BEGIN:DAYLIGHT
TZOFFSETFROM:+0100
TZOFFSETTO:+0200
TZNAME:CEST
DTSTART:20290325T010000
END:DAYLIGHT
BEGIN:STANDARD
TZOFFSETFROM:+0200
TZOFFSETTO:+0100
TZNAME:CET
DTSTART:20291028T010000
END:STANDARD
END:VTIMEZONE
BEGIN:VEVENT
DTSTART;TZID=Europe/Amsterdam:20290214T100000
DTEND;TZID=Europe/Amsterdam:20290214T120000
DTSTAMP:20260422T053042
CREATED:20240718T121433Z
LAST-MODIFIED:20240718T121433Z
UID:10004688-1865757600-1865764800@www.wijkcentrumtewerve.nl
SUMMARY:Teken- en schilderclub Te Verve
DESCRIPTION:Teken- en schilderclub Te Verve: Teken en schilder mee en ontdek je creatieve kant \nVoor iedereen die gezellig samen met andere bewoners wil tekenen of schilderen \nElke woensdag van 10.00-12.00 uur \nMateriaal zelf meenemen \nGratis \nAanmelden en verdere info bij Ton van Geest: email ahcvandergeest@gmail.com of 06-15523616 \n\nTegen kosten is koffie en frisdrank te verkrijgen (Pin Only)
URL:https://www.wijkcentrumtewerve.nl/activiteit/teken-en-schilderclub-te-verve/2029-02-14/
LOCATION:Activiteitenruimte 1
END:VEVENT
BEGIN:VEVENT
DTSTART;TZID=Europe/Amsterdam:20290220T193000
DTEND;TZID=Europe/Amsterdam:20290220T230000
DTSTAMP:20260422T053042
CREATED:20231216T213346Z
LAST-MODIFIED:20240927T084129Z
UID:10004807-1866310200-1866322800@www.wijkcentrumtewerve.nl
SUMMARY:Rode Dobbelsteen
DESCRIPTION:Gratis bordspellenavond\, elke oneven week op dinsdagavond van 19.30 tot 23.00 uur. Voor meer info: Kijk op de website www.derodedobbelsteen.nl of loop op dinsdagavond (oneven weken) binnen en vraag naar Frederik of Inge. 
URL:https://www.wijkcentrumtewerve.nl/activiteit/rode-dobbelsteen/2029-02-20/
LOCATION:Ontmoetingsruimte
END:VEVENT
BEGIN:VEVENT
DTSTART;TZID=Europe/Amsterdam:20290221T100000
DTEND;TZID=Europe/Amsterdam:20290221T120000
DTSTAMP:20260422T053042
CREATED:20240718T121433Z
LAST-MODIFIED:20240718T121433Z
UID:10004689-1866362400-1866369600@www.wijkcentrumtewerve.nl
SUMMARY:Teken- en schilderclub Te Verve
DESCRIPTION:Teken- en schilderclub Te Verve: Teken en schilder mee en ontdek je creatieve kant \nVoor iedereen die gezellig samen met andere bewoners wil tekenen of schilderen \nElke woensdag van 10.00-12.00 uur \nMateriaal zelf meenemen \nGratis \nAanmelden en verdere info bij Ton van Geest: email ahcvandergeest@gmail.com of 06-15523616 \n\nTegen kosten is koffie en frisdrank te verkrijgen (Pin Only)
URL:https://www.wijkcentrumtewerve.nl/activiteit/teken-en-schilderclub-te-verve/2029-02-21/
LOCATION:Activiteitenruimte 1
END:VEVENT
BEGIN:VEVENT
DTSTART;TZID=Europe/Amsterdam:20290228T100000
DTEND;TZID=Europe/Amsterdam:20290228T120000
DTSTAMP:20260422T053042
CREATED:20240718T121433Z
LAST-MODIFIED:20240718T121433Z
UID:10004690-1866967200-1866974400@www.wijkcentrumtewerve.nl
SUMMARY:Teken- en schilderclub Te Verve
DESCRIPTION:Teken- en schilderclub Te Verve: Teken en schilder mee en ontdek je creatieve kant \nVoor iedereen die gezellig samen met andere bewoners wil tekenen of schilderen \nElke woensdag van 10.00-12.00 uur \nMateriaal zelf meenemen \nGratis \nAanmelden en verdere info bij Ton van Geest: email ahcvandergeest@gmail.com of 06-15523616 \n\nTegen kosten is koffie en frisdrank te verkrijgen (Pin Only)
URL:https://www.wijkcentrumtewerve.nl/activiteit/teken-en-schilderclub-te-verve/2029-02-28/
LOCATION:Activiteitenruimte 1
END:VEVENT
BEGIN:VEVENT
DTSTART;TZID=Europe/Amsterdam:20290306T193000
DTEND;TZID=Europe/Amsterdam:20290306T230000
DTSTAMP:20260422T053042
CREATED:20231216T213346Z
LAST-MODIFIED:20240927T084129Z
UID:10004808-1867519800-1867532400@www.wijkcentrumtewerve.nl
SUMMARY:Rode Dobbelsteen
DESCRIPTION:Gratis bordspellenavond\, elke oneven week op dinsdagavond van 19.30 tot 23.00 uur. Voor meer info: Kijk op de website www.derodedobbelsteen.nl of loop op dinsdagavond (oneven weken) binnen en vraag naar Frederik of Inge. 
URL:https://www.wijkcentrumtewerve.nl/activiteit/rode-dobbelsteen/2029-03-06/
LOCATION:Ontmoetingsruimte
END:VEVENT
BEGIN:VEVENT
DTSTART;TZID=Europe/Amsterdam:20290307T100000
DTEND;TZID=Europe/Amsterdam:20290307T120000
DTSTAMP:20260422T053042
CREATED:20240718T121433Z
LAST-MODIFIED:20240718T121433Z
UID:10004691-1867572000-1867579200@www.wijkcentrumtewerve.nl
SUMMARY:Teken- en schilderclub Te Verve
DESCRIPTION:Teken- en schilderclub Te Verve: Teken en schilder mee en ontdek je creatieve kant \nVoor iedereen die gezellig samen met andere bewoners wil tekenen of schilderen \nElke woensdag van 10.00-12.00 uur \nMateriaal zelf meenemen \nGratis \nAanmelden en verdere info bij Ton van Geest: email ahcvandergeest@gmail.com of 06-15523616 \n\nTegen kosten is koffie en frisdrank te verkrijgen (Pin Only)
URL:https://www.wijkcentrumtewerve.nl/activiteit/teken-en-schilderclub-te-verve/2029-03-07/
LOCATION:Activiteitenruimte 1
END:VEVENT
BEGIN:VEVENT
DTSTART;TZID=Europe/Amsterdam:20290314T100000
DTEND;TZID=Europe/Amsterdam:20290314T120000
DTSTAMP:20260422T053042
CREATED:20240718T121433Z
LAST-MODIFIED:20240718T121433Z
UID:10004692-1868176800-1868184000@www.wijkcentrumtewerve.nl
SUMMARY:Teken- en schilderclub Te Verve
DESCRIPTION:Teken- en schilderclub Te Verve: Teken en schilder mee en ontdek je creatieve kant \nVoor iedereen die gezellig samen met andere bewoners wil tekenen of schilderen \nElke woensdag van 10.00-12.00 uur \nMateriaal zelf meenemen \nGratis \nAanmelden en verdere info bij Ton van Geest: email ahcvandergeest@gmail.com of 06-15523616 \n\nTegen kosten is koffie en frisdrank te verkrijgen (Pin Only)
URL:https://www.wijkcentrumtewerve.nl/activiteit/teken-en-schilderclub-te-verve/2029-03-14/
LOCATION:Activiteitenruimte 1
END:VEVENT
BEGIN:VEVENT
DTSTART;TZID=Europe/Amsterdam:20290320T193000
DTEND;TZID=Europe/Amsterdam:20290320T230000
DTSTAMP:20260422T053042
CREATED:20231216T213346Z
LAST-MODIFIED:20240927T084129Z
UID:10004809-1868729400-1868742000@www.wijkcentrumtewerve.nl
SUMMARY:Rode Dobbelsteen
DESCRIPTION:Gratis bordspellenavond\, elke oneven week op dinsdagavond van 19.30 tot 23.00 uur. Voor meer info: Kijk op de website www.derodedobbelsteen.nl of loop op dinsdagavond (oneven weken) binnen en vraag naar Frederik of Inge. 
URL:https://www.wijkcentrumtewerve.nl/activiteit/rode-dobbelsteen/2029-03-20/
LOCATION:Ontmoetingsruimte
END:VEVENT
BEGIN:VEVENT
DTSTART;TZID=Europe/Amsterdam:20290321T100000
DTEND;TZID=Europe/Amsterdam:20290321T120000
DTSTAMP:20260422T053042
CREATED:20240718T121433Z
LAST-MODIFIED:20240718T121433Z
UID:10004693-1868781600-1868788800@www.wijkcentrumtewerve.nl
SUMMARY:Teken- en schilderclub Te Verve
DESCRIPTION:Teken- en schilderclub Te Verve: Teken en schilder mee en ontdek je creatieve kant \nVoor iedereen die gezellig samen met andere bewoners wil tekenen of schilderen \nElke woensdag van 10.00-12.00 uur \nMateriaal zelf meenemen \nGratis \nAanmelden en verdere info bij Ton van Geest: email ahcvandergeest@gmail.com of 06-15523616 \n\nTegen kosten is koffie en frisdrank te verkrijgen (Pin Only)
URL:https://www.wijkcentrumtewerve.nl/activiteit/teken-en-schilderclub-te-verve/2029-03-21/
LOCATION:Activiteitenruimte 1
END:VEVENT
BEGIN:VEVENT
DTSTART;TZID=Europe/Amsterdam:20290328T100000
DTEND;TZID=Europe/Amsterdam:20290328T120000
DTSTAMP:20260422T053042
CREATED:20240718T121433Z
LAST-MODIFIED:20240718T121433Z
UID:10004694-1869386400-1869393600@www.wijkcentrumtewerve.nl
SUMMARY:Teken- en schilderclub Te Verve
DESCRIPTION:Teken- en schilderclub Te Verve: Teken en schilder mee en ontdek je creatieve kant \nVoor iedereen die gezellig samen met andere bewoners wil tekenen of schilderen \nElke woensdag van 10.00-12.00 uur \nMateriaal zelf meenemen \nGratis \nAanmelden en verdere info bij Ton van Geest: email ahcvandergeest@gmail.com of 06-15523616 \n\nTegen kosten is koffie en frisdrank te verkrijgen (Pin Only)
URL:https://www.wijkcentrumtewerve.nl/activiteit/teken-en-schilderclub-te-verve/2029-03-28/
LOCATION:Activiteitenruimte 1
END:VEVENT
BEGIN:VEVENT
DTSTART;TZID=Europe/Amsterdam:20290403T193000
DTEND;TZID=Europe/Amsterdam:20290403T230000
DTSTAMP:20260422T053042
CREATED:20231216T213346Z
LAST-MODIFIED:20240927T084129Z
UID:10004810-1869939000-1869951600@www.wijkcentrumtewerve.nl
SUMMARY:Rode Dobbelsteen
DESCRIPTION:Gratis bordspellenavond\, elke oneven week op dinsdagavond van 19.30 tot 23.00 uur. Voor meer info: Kijk op de website www.derodedobbelsteen.nl of loop op dinsdagavond (oneven weken) binnen en vraag naar Frederik of Inge. 
URL:https://www.wijkcentrumtewerve.nl/activiteit/rode-dobbelsteen/2029-04-03/
LOCATION:Ontmoetingsruimte
END:VEVENT
BEGIN:VEVENT
DTSTART;TZID=Europe/Amsterdam:20290404T100000
DTEND;TZID=Europe/Amsterdam:20290404T120000
DTSTAMP:20260422T053042
CREATED:20240718T121433Z
LAST-MODIFIED:20240718T121433Z
UID:10004695-1869991200-1869998400@www.wijkcentrumtewerve.nl
SUMMARY:Teken- en schilderclub Te Verve
DESCRIPTION:Teken- en schilderclub Te Verve: Teken en schilder mee en ontdek je creatieve kant \nVoor iedereen die gezellig samen met andere bewoners wil tekenen of schilderen \nElke woensdag van 10.00-12.00 uur \nMateriaal zelf meenemen \nGratis \nAanmelden en verdere info bij Ton van Geest: email ahcvandergeest@gmail.com of 06-15523616 \n\nTegen kosten is koffie en frisdrank te verkrijgen (Pin Only)
URL:https://www.wijkcentrumtewerve.nl/activiteit/teken-en-schilderclub-te-verve/2029-04-04/
LOCATION:Activiteitenruimte 1
END:VEVENT
BEGIN:VEVENT
DTSTART;TZID=Europe/Amsterdam:20290411T100000
DTEND;TZID=Europe/Amsterdam:20290411T120000
DTSTAMP:20260422T053042
CREATED:20240718T121433Z
LAST-MODIFIED:20240718T121433Z
UID:10004696-1870596000-1870603200@www.wijkcentrumtewerve.nl
SUMMARY:Teken- en schilderclub Te Verve
DESCRIPTION:Teken- en schilderclub Te Verve: Teken en schilder mee en ontdek je creatieve kant \nVoor iedereen die gezellig samen met andere bewoners wil tekenen of schilderen \nElke woensdag van 10.00-12.00 uur \nMateriaal zelf meenemen \nGratis \nAanmelden en verdere info bij Ton van Geest: email ahcvandergeest@gmail.com of 06-15523616 \n\nTegen kosten is koffie en frisdrank te verkrijgen (Pin Only)
URL:https://www.wijkcentrumtewerve.nl/activiteit/teken-en-schilderclub-te-verve/2029-04-11/
LOCATION:Activiteitenruimte 1
END:VEVENT
BEGIN:VEVENT
DTSTART;TZID=Europe/Amsterdam:20290417T193000
DTEND;TZID=Europe/Amsterdam:20290417T230000
DTSTAMP:20260422T053042
CREATED:20231216T213346Z
LAST-MODIFIED:20240927T084129Z
UID:10004811-1871148600-1871161200@www.wijkcentrumtewerve.nl
SUMMARY:Rode Dobbelsteen
DESCRIPTION:Gratis bordspellenavond\, elke oneven week op dinsdagavond van 19.30 tot 23.00 uur. Voor meer info: Kijk op de website www.derodedobbelsteen.nl of loop op dinsdagavond (oneven weken) binnen en vraag naar Frederik of Inge. 
URL:https://www.wijkcentrumtewerve.nl/activiteit/rode-dobbelsteen/2029-04-17/
LOCATION:Ontmoetingsruimte
END:VEVENT
BEGIN:VEVENT
DTSTART;TZID=Europe/Amsterdam:20290418T100000
DTEND;TZID=Europe/Amsterdam:20290418T120000
DTSTAMP:20260422T053042
CREATED:20240718T121433Z
LAST-MODIFIED:20240718T121433Z
UID:10004697-1871200800-1871208000@www.wijkcentrumtewerve.nl
SUMMARY:Teken- en schilderclub Te Verve
DESCRIPTION:Teken- en schilderclub Te Verve: Teken en schilder mee en ontdek je creatieve kant \nVoor iedereen die gezellig samen met andere bewoners wil tekenen of schilderen \nElke woensdag van 10.00-12.00 uur \nMateriaal zelf meenemen \nGratis \nAanmelden en verdere info bij Ton van Geest: email ahcvandergeest@gmail.com of 06-15523616 \n\nTegen kosten is koffie en frisdrank te verkrijgen (Pin Only)
URL:https://www.wijkcentrumtewerve.nl/activiteit/teken-en-schilderclub-te-verve/2029-04-18/
LOCATION:Activiteitenruimte 1
END:VEVENT
BEGIN:VEVENT
DTSTART;TZID=Europe/Amsterdam:20290425T100000
DTEND;TZID=Europe/Amsterdam:20290425T120000
DTSTAMP:20260422T053042
CREATED:20240718T121433Z
LAST-MODIFIED:20240718T121433Z
UID:10004698-1871805600-1871812800@www.wijkcentrumtewerve.nl
SUMMARY:Teken- en schilderclub Te Verve
DESCRIPTION:Teken- en schilderclub Te Verve: Teken en schilder mee en ontdek je creatieve kant \nVoor iedereen die gezellig samen met andere bewoners wil tekenen of schilderen \nElke woensdag van 10.00-12.00 uur \nMateriaal zelf meenemen \nGratis \nAanmelden en verdere info bij Ton van Geest: email ahcvandergeest@gmail.com of 06-15523616 \n\nTegen kosten is koffie en frisdrank te verkrijgen (Pin Only)
URL:https://www.wijkcentrumtewerve.nl/activiteit/teken-en-schilderclub-te-verve/2029-04-25/
LOCATION:Activiteitenruimte 1
END:VEVENT
BEGIN:VEVENT
DTSTART;TZID=Europe/Amsterdam:20290501T193000
DTEND;TZID=Europe/Amsterdam:20290501T230000
DTSTAMP:20260422T053042
CREATED:20231216T213346Z
LAST-MODIFIED:20240927T084129Z
UID:10004812-1872358200-1872370800@www.wijkcentrumtewerve.nl
SUMMARY:Rode Dobbelsteen
DESCRIPTION:Gratis bordspellenavond\, elke oneven week op dinsdagavond van 19.30 tot 23.00 uur. Voor meer info: Kijk op de website www.derodedobbelsteen.nl of loop op dinsdagavond (oneven weken) binnen en vraag naar Frederik of Inge. 
URL:https://www.wijkcentrumtewerve.nl/activiteit/rode-dobbelsteen/2029-05-01/
LOCATION:Ontmoetingsruimte
END:VEVENT
BEGIN:VEVENT
DTSTART;TZID=Europe/Amsterdam:20290502T100000
DTEND;TZID=Europe/Amsterdam:20290502T120000
DTSTAMP:20260422T053042
CREATED:20240718T121433Z
LAST-MODIFIED:20240718T121433Z
UID:10004699-1872410400-1872417600@www.wijkcentrumtewerve.nl
SUMMARY:Teken- en schilderclub Te Verve
DESCRIPTION:Teken- en schilderclub Te Verve: Teken en schilder mee en ontdek je creatieve kant \nVoor iedereen die gezellig samen met andere bewoners wil tekenen of schilderen \nElke woensdag van 10.00-12.00 uur \nMateriaal zelf meenemen \nGratis \nAanmelden en verdere info bij Ton van Geest: email ahcvandergeest@gmail.com of 06-15523616 \n\nTegen kosten is koffie en frisdrank te verkrijgen (Pin Only)
URL:https://www.wijkcentrumtewerve.nl/activiteit/teken-en-schilderclub-te-verve/2029-05-02/
LOCATION:Activiteitenruimte 1
END:VEVENT
BEGIN:VEVENT
DTSTART;TZID=Europe/Amsterdam:20290509T100000
DTEND;TZID=Europe/Amsterdam:20290509T120000
DTSTAMP:20260422T053042
CREATED:20240718T121433Z
LAST-MODIFIED:20240718T121433Z
UID:10004700-1873015200-1873022400@www.wijkcentrumtewerve.nl
SUMMARY:Teken- en schilderclub Te Verve
DESCRIPTION:Teken- en schilderclub Te Verve: Teken en schilder mee en ontdek je creatieve kant \nVoor iedereen die gezellig samen met andere bewoners wil tekenen of schilderen \nElke woensdag van 10.00-12.00 uur \nMateriaal zelf meenemen \nGratis \nAanmelden en verdere info bij Ton van Geest: email ahcvandergeest@gmail.com of 06-15523616 \n\nTegen kosten is koffie en frisdrank te verkrijgen (Pin Only)
URL:https://www.wijkcentrumtewerve.nl/activiteit/teken-en-schilderclub-te-verve/2029-05-09/
LOCATION:Activiteitenruimte 1
END:VEVENT
BEGIN:VEVENT
DTSTART;TZID=Europe/Amsterdam:20290515T193000
DTEND;TZID=Europe/Amsterdam:20290515T230000
DTSTAMP:20260422T053042
CREATED:20231216T213346Z
LAST-MODIFIED:20240927T084129Z
UID:10004813-1873567800-1873580400@www.wijkcentrumtewerve.nl
SUMMARY:Rode Dobbelsteen
DESCRIPTION:Gratis bordspellenavond\, elke oneven week op dinsdagavond van 19.30 tot 23.00 uur. Voor meer info: Kijk op de website www.derodedobbelsteen.nl of loop op dinsdagavond (oneven weken) binnen en vraag naar Frederik of Inge. 
URL:https://www.wijkcentrumtewerve.nl/activiteit/rode-dobbelsteen/2029-05-15/
LOCATION:Ontmoetingsruimte
END:VEVENT
BEGIN:VEVENT
DTSTART;TZID=Europe/Amsterdam:20290516T100000
DTEND;TZID=Europe/Amsterdam:20290516T120000
DTSTAMP:20260422T053042
CREATED:20240718T121433Z
LAST-MODIFIED:20240718T121433Z
UID:10004701-1873620000-1873627200@www.wijkcentrumtewerve.nl
SUMMARY:Teken- en schilderclub Te Verve
DESCRIPTION:Teken- en schilderclub Te Verve: Teken en schilder mee en ontdek je creatieve kant \nVoor iedereen die gezellig samen met andere bewoners wil tekenen of schilderen \nElke woensdag van 10.00-12.00 uur \nMateriaal zelf meenemen \nGratis \nAanmelden en verdere info bij Ton van Geest: email ahcvandergeest@gmail.com of 06-15523616 \n\nTegen kosten is koffie en frisdrank te verkrijgen (Pin Only)
URL:https://www.wijkcentrumtewerve.nl/activiteit/teken-en-schilderclub-te-verve/2029-05-16/
LOCATION:Activiteitenruimte 1
END:VEVENT
BEGIN:VEVENT
DTSTART;TZID=Europe/Amsterdam:20290523T100000
DTEND;TZID=Europe/Amsterdam:20290523T120000
DTSTAMP:20260422T053042
CREATED:20240718T121433Z
LAST-MODIFIED:20240718T121433Z
UID:10004702-1874224800-1874232000@www.wijkcentrumtewerve.nl
SUMMARY:Teken- en schilderclub Te Verve
DESCRIPTION:Teken- en schilderclub Te Verve: Teken en schilder mee en ontdek je creatieve kant \nVoor iedereen die gezellig samen met andere bewoners wil tekenen of schilderen \nElke woensdag van 10.00-12.00 uur \nMateriaal zelf meenemen \nGratis \nAanmelden en verdere info bij Ton van Geest: email ahcvandergeest@gmail.com of 06-15523616 \n\nTegen kosten is koffie en frisdrank te verkrijgen (Pin Only)
URL:https://www.wijkcentrumtewerve.nl/activiteit/teken-en-schilderclub-te-verve/2029-05-23/
LOCATION:Activiteitenruimte 1
END:VEVENT
BEGIN:VEVENT
DTSTART;TZID=Europe/Amsterdam:20290529T193000
DTEND;TZID=Europe/Amsterdam:20290529T230000
DTSTAMP:20260422T053042
CREATED:20231216T213346Z
LAST-MODIFIED:20240927T084129Z
UID:10004814-1874777400-1874790000@www.wijkcentrumtewerve.nl
SUMMARY:Rode Dobbelsteen
DESCRIPTION:Gratis bordspellenavond\, elke oneven week op dinsdagavond van 19.30 tot 23.00 uur. Voor meer info: Kijk op de website www.derodedobbelsteen.nl of loop op dinsdagavond (oneven weken) binnen en vraag naar Frederik of Inge. 
URL:https://www.wijkcentrumtewerve.nl/activiteit/rode-dobbelsteen/2029-05-29/
LOCATION:Ontmoetingsruimte
END:VEVENT
BEGIN:VEVENT
DTSTART;TZID=Europe/Amsterdam:20290530T100000
DTEND;TZID=Europe/Amsterdam:20290530T120000
DTSTAMP:20260422T053042
CREATED:20240718T121433Z
LAST-MODIFIED:20240718T121433Z
UID:10004703-1874829600-1874836800@www.wijkcentrumtewerve.nl
SUMMARY:Teken- en schilderclub Te Verve
DESCRIPTION:Teken- en schilderclub Te Verve: Teken en schilder mee en ontdek je creatieve kant \nVoor iedereen die gezellig samen met andere bewoners wil tekenen of schilderen \nElke woensdag van 10.00-12.00 uur \nMateriaal zelf meenemen \nGratis \nAanmelden en verdere info bij Ton van Geest: email ahcvandergeest@gmail.com of 06-15523616 \n\nTegen kosten is koffie en frisdrank te verkrijgen (Pin Only)
URL:https://www.wijkcentrumtewerve.nl/activiteit/teken-en-schilderclub-te-verve/2029-05-30/
LOCATION:Activiteitenruimte 1
END:VEVENT
BEGIN:VEVENT
DTSTART;TZID=Europe/Amsterdam:20290606T100000
DTEND;TZID=Europe/Amsterdam:20290606T120000
DTSTAMP:20260422T053042
CREATED:20240718T121433Z
LAST-MODIFIED:20240718T121433Z
UID:10004704-1875434400-1875441600@www.wijkcentrumtewerve.nl
SUMMARY:Teken- en schilderclub Te Verve
DESCRIPTION:Teken- en schilderclub Te Verve: Teken en schilder mee en ontdek je creatieve kant \nVoor iedereen die gezellig samen met andere bewoners wil tekenen of schilderen \nElke woensdag van 10.00-12.00 uur \nMateriaal zelf meenemen \nGratis \nAanmelden en verdere info bij Ton van Geest: email ahcvandergeest@gmail.com of 06-15523616 \n\nTegen kosten is koffie en frisdrank te verkrijgen (Pin Only)
URL:https://www.wijkcentrumtewerve.nl/activiteit/teken-en-schilderclub-te-verve/2029-06-06/
LOCATION:Activiteitenruimte 1
END:VEVENT
BEGIN:VEVENT
DTSTART;TZID=Europe/Amsterdam:20290612T193000
DTEND;TZID=Europe/Amsterdam:20290612T230000
DTSTAMP:20260422T053042
CREATED:20231216T213346Z
LAST-MODIFIED:20240927T084129Z
UID:10004815-1875987000-1875999600@www.wijkcentrumtewerve.nl
SUMMARY:Rode Dobbelsteen
DESCRIPTION:Gratis bordspellenavond\, elke oneven week op dinsdagavond van 19.30 tot 23.00 uur. Voor meer info: Kijk op de website www.derodedobbelsteen.nl of loop op dinsdagavond (oneven weken) binnen en vraag naar Frederik of Inge. 
URL:https://www.wijkcentrumtewerve.nl/activiteit/rode-dobbelsteen/2029-06-12/
LOCATION:Ontmoetingsruimte
END:VEVENT
BEGIN:VEVENT
DTSTART;TZID=Europe/Amsterdam:20290613T100000
DTEND;TZID=Europe/Amsterdam:20290613T120000
DTSTAMP:20260422T053042
CREATED:20240718T121433Z
LAST-MODIFIED:20240718T121433Z
UID:10004705-1876039200-1876046400@www.wijkcentrumtewerve.nl
SUMMARY:Teken- en schilderclub Te Verve
DESCRIPTION:Teken- en schilderclub Te Verve: Teken en schilder mee en ontdek je creatieve kant \nVoor iedereen die gezellig samen met andere bewoners wil tekenen of schilderen \nElke woensdag van 10.00-12.00 uur \nMateriaal zelf meenemen \nGratis \nAanmelden en verdere info bij Ton van Geest: email ahcvandergeest@gmail.com of 06-15523616 \n\nTegen kosten is koffie en frisdrank te verkrijgen (Pin Only)
URL:https://www.wijkcentrumtewerve.nl/activiteit/teken-en-schilderclub-te-verve/2029-06-13/
LOCATION:Activiteitenruimte 1
END:VEVENT
BEGIN:VEVENT
DTSTART;TZID=Europe/Amsterdam:20290620T100000
DTEND;TZID=Europe/Amsterdam:20290620T120000
DTSTAMP:20260422T053042
CREATED:20240718T121433Z
LAST-MODIFIED:20240718T121433Z
UID:10004706-1876644000-1876651200@www.wijkcentrumtewerve.nl
SUMMARY:Teken- en schilderclub Te Verve
DESCRIPTION:Teken- en schilderclub Te Verve: Teken en schilder mee en ontdek je creatieve kant \nVoor iedereen die gezellig samen met andere bewoners wil tekenen of schilderen \nElke woensdag van 10.00-12.00 uur \nMateriaal zelf meenemen \nGratis \nAanmelden en verdere info bij Ton van Geest: email ahcvandergeest@gmail.com of 06-15523616 \n\nTegen kosten is koffie en frisdrank te verkrijgen (Pin Only)
URL:https://www.wijkcentrumtewerve.nl/activiteit/teken-en-schilderclub-te-verve/2029-06-20/
LOCATION:Activiteitenruimte 1
END:VEVENT
BEGIN:VEVENT
DTSTART;TZID=Europe/Amsterdam:20290626T193000
DTEND;TZID=Europe/Amsterdam:20290626T230000
DTSTAMP:20260422T053043
CREATED:20231216T213346Z
LAST-MODIFIED:20240927T084129Z
UID:10004816-1877196600-1877209200@www.wijkcentrumtewerve.nl
SUMMARY:Rode Dobbelsteen
DESCRIPTION:Gratis bordspellenavond\, elke oneven week op dinsdagavond van 19.30 tot 23.00 uur. Voor meer info: Kijk op de website www.derodedobbelsteen.nl of loop op dinsdagavond (oneven weken) binnen en vraag naar Frederik of Inge. 
URL:https://www.wijkcentrumtewerve.nl/activiteit/rode-dobbelsteen/2029-06-26/
LOCATION:Ontmoetingsruimte
END:VEVENT
BEGIN:VEVENT
DTSTART;TZID=Europe/Amsterdam:20290627T100000
DTEND;TZID=Europe/Amsterdam:20290627T120000
DTSTAMP:20260422T053043
CREATED:20240718T121433Z
LAST-MODIFIED:20240718T121433Z
UID:10004707-1877248800-1877256000@www.wijkcentrumtewerve.nl
SUMMARY:Teken- en schilderclub Te Verve
DESCRIPTION:Teken- en schilderclub Te Verve: Teken en schilder mee en ontdek je creatieve kant \nVoor iedereen die gezellig samen met andere bewoners wil tekenen of schilderen \nElke woensdag van 10.00-12.00 uur \nMateriaal zelf meenemen \nGratis \nAanmelden en verdere info bij Ton van Geest: email ahcvandergeest@gmail.com of 06-15523616 \n\nTegen kosten is koffie en frisdrank te verkrijgen (Pin Only)
URL:https://www.wijkcentrumtewerve.nl/activiteit/teken-en-schilderclub-te-verve/2029-06-27/
LOCATION:Activiteitenruimte 1
END:VEVENT
END:VCALENDAR