BEGIN:VCALENDAR
VERSION:2.0
PRODID:-//Wijkcentrum Te Werve - Welzijn Rijswijk - ECPv6.8.2.1//NONSGML v1.0//EN
CALSCALE:GREGORIAN
METHOD:PUBLISH
X-WR-CALNAME:Wijkcentrum Te Werve - Welzijn Rijswijk
X-ORIGINAL-URL:https://www.wijkcentrumtewerve.nl
X-WR-CALDESC:Evenementen voor Wijkcentrum Te Werve - Welzijn Rijswijk
REFRESH-INTERVAL;VALUE=DURATION:PT1H
X-Robots-Tag:noindex
X-PUBLISHED-TTL:PT1H
BEGIN:VTIMEZONE
TZID:Europe/Amsterdam
BEGIN:DAYLIGHT
TZOFFSETFROM:+0100
TZOFFSETTO:+0200
TZNAME:CEST
DTSTART:20250330T010000
END:DAYLIGHT
BEGIN:STANDARD
TZOFFSETFROM:+0200
TZOFFSETTO:+0100
TZNAME:CET
DTSTART:20251026T010000
END:STANDARD
BEGIN:DAYLIGHT
TZOFFSETFROM:+0100
TZOFFSETTO:+0200
TZNAME:CEST
DTSTART:20260329T010000
END:DAYLIGHT
BEGIN:STANDARD
TZOFFSETFROM:+0200
TZOFFSETTO:+0100
TZNAME:CET
DTSTART:20261025T010000
END:STANDARD
END:VTIMEZONE
BEGIN:VEVENT
DTSTART;TZID=Europe/Amsterdam:20260415T100000
DTEND;TZID=Europe/Amsterdam:20260415T120000
DTSTAMP:20260421T120109
CREATED:20240718T121433Z
LAST-MODIFIED:20240718T121433Z
UID:10004540-1776247200-1776254400@www.wijkcentrumtewerve.nl
SUMMARY:Teken- en schilderclub Te Verve
DESCRIPTION:Teken- en schilderclub Te Verve: Teken en schilder mee en ontdek je creatieve kant \nVoor iedereen die gezellig samen met andere bewoners wil tekenen of schilderen \nElke woensdag van 10.00-12.00 uur \nMateriaal zelf meenemen \nGratis \nAanmelden en verdere info bij Ton van Geest: email ahcvandergeest@gmail.com of 06-15523616 \n\nTegen kosten is koffie en frisdrank te verkrijgen (Pin Only)
URL:https://www.wijkcentrumtewerve.nl/activiteit/teken-en-schilderclub-te-verve/2026-04-15/
LOCATION:Activiteitenruimte 1
END:VEVENT
BEGIN:VEVENT
DTSTART;TZID=Europe/Amsterdam:20260408T100000
DTEND;TZID=Europe/Amsterdam:20260408T120000
DTSTAMP:20260421T120109
CREATED:20240718T121433Z
LAST-MODIFIED:20240718T121433Z
UID:10004539-1775642400-1775649600@www.wijkcentrumtewerve.nl
SUMMARY:Teken- en schilderclub Te Verve
DESCRIPTION:Teken- en schilderclub Te Verve: Teken en schilder mee en ontdek je creatieve kant \nVoor iedereen die gezellig samen met andere bewoners wil tekenen of schilderen \nElke woensdag van 10.00-12.00 uur \nMateriaal zelf meenemen \nGratis \nAanmelden en verdere info bij Ton van Geest: email ahcvandergeest@gmail.com of 06-15523616 \n\nTegen kosten is koffie en frisdrank te verkrijgen (Pin Only)
URL:https://www.wijkcentrumtewerve.nl/activiteit/teken-en-schilderclub-te-verve/2026-04-08/
LOCATION:Activiteitenruimte 1
END:VEVENT
BEGIN:VEVENT
DTSTART;TZID=Europe/Amsterdam:20260407T193000
DTEND;TZID=Europe/Amsterdam:20260407T230000
DTSTAMP:20260421T120109
CREATED:20231216T213346Z
LAST-MODIFIED:20240927T084129Z
UID:10000439-1775590200-1775602800@www.wijkcentrumtewerve.nl
SUMMARY:Rode Dobbelsteen
DESCRIPTION:Gratis bordspellenavond\, elke oneven week op dinsdagavond van 19.30 tot 23.00 uur. Voor meer info: Kijk op de website www.derodedobbelsteen.nl of loop op dinsdagavond (oneven weken) binnen en vraag naar Frederik of Inge. 
URL:https://www.wijkcentrumtewerve.nl/activiteit/rode-dobbelsteen/2026-04-07/
LOCATION:Ontmoetingsruimte
END:VEVENT
BEGIN:VEVENT
DTSTART;TZID=Europe/Amsterdam:20260401T100000
DTEND;TZID=Europe/Amsterdam:20260401T120000
DTSTAMP:20260421T120109
CREATED:20240718T121433Z
LAST-MODIFIED:20240718T121433Z
UID:10004538-1775037600-1775044800@www.wijkcentrumtewerve.nl
SUMMARY:Teken- en schilderclub Te Verve
DESCRIPTION:Teken- en schilderclub Te Verve: Teken en schilder mee en ontdek je creatieve kant \nVoor iedereen die gezellig samen met andere bewoners wil tekenen of schilderen \nElke woensdag van 10.00-12.00 uur \nMateriaal zelf meenemen \nGratis \nAanmelden en verdere info bij Ton van Geest: email ahcvandergeest@gmail.com of 06-15523616 \n\nTegen kosten is koffie en frisdrank te verkrijgen (Pin Only)
URL:https://www.wijkcentrumtewerve.nl/activiteit/teken-en-schilderclub-te-verve/2026-04-01/
LOCATION:Activiteitenruimte 1
END:VEVENT
BEGIN:VEVENT
DTSTART;TZID=Europe/Amsterdam:20260325T100000
DTEND;TZID=Europe/Amsterdam:20260325T120000
DTSTAMP:20260421T120110
CREATED:20240718T121433Z
LAST-MODIFIED:20240718T121433Z
UID:10004537-1774432800-1774440000@www.wijkcentrumtewerve.nl
SUMMARY:Teken- en schilderclub Te Verve
DESCRIPTION:Teken- en schilderclub Te Verve: Teken en schilder mee en ontdek je creatieve kant \nVoor iedereen die gezellig samen met andere bewoners wil tekenen of schilderen \nElke woensdag van 10.00-12.00 uur \nMateriaal zelf meenemen \nGratis \nAanmelden en verdere info bij Ton van Geest: email ahcvandergeest@gmail.com of 06-15523616 \n\nTegen kosten is koffie en frisdrank te verkrijgen (Pin Only)
URL:https://www.wijkcentrumtewerve.nl/activiteit/teken-en-schilderclub-te-verve/2026-03-25/
LOCATION:Activiteitenruimte 1
END:VEVENT
BEGIN:VEVENT
DTSTART;TZID=Europe/Amsterdam:20260324T193000
DTEND;TZID=Europe/Amsterdam:20260324T230000
DTSTAMP:20260421T120110
CREATED:20231216T213346Z
LAST-MODIFIED:20240927T084129Z
UID:10000438-1774380600-1774393200@www.wijkcentrumtewerve.nl
SUMMARY:Rode Dobbelsteen
DESCRIPTION:Gratis bordspellenavond\, elke oneven week op dinsdagavond van 19.30 tot 23.00 uur. Voor meer info: Kijk op de website www.derodedobbelsteen.nl of loop op dinsdagavond (oneven weken) binnen en vraag naar Frederik of Inge. 
URL:https://www.wijkcentrumtewerve.nl/activiteit/rode-dobbelsteen/2026-03-24/
LOCATION:Ontmoetingsruimte
END:VEVENT
BEGIN:VEVENT
DTSTART;TZID=Europe/Amsterdam:20260318T100000
DTEND;TZID=Europe/Amsterdam:20260318T120000
DTSTAMP:20260421T120110
CREATED:20240718T121433Z
LAST-MODIFIED:20240718T121433Z
UID:10004536-1773828000-1773835200@www.wijkcentrumtewerve.nl
SUMMARY:Teken- en schilderclub Te Verve
DESCRIPTION:Teken- en schilderclub Te Verve: Teken en schilder mee en ontdek je creatieve kant \nVoor iedereen die gezellig samen met andere bewoners wil tekenen of schilderen \nElke woensdag van 10.00-12.00 uur \nMateriaal zelf meenemen \nGratis \nAanmelden en verdere info bij Ton van Geest: email ahcvandergeest@gmail.com of 06-15523616 \n\nTegen kosten is koffie en frisdrank te verkrijgen (Pin Only)
URL:https://www.wijkcentrumtewerve.nl/activiteit/teken-en-schilderclub-te-verve/2026-03-18/
LOCATION:Activiteitenruimte 1
END:VEVENT
BEGIN:VEVENT
DTSTART;TZID=Europe/Amsterdam:20260311T100000
DTEND;TZID=Europe/Amsterdam:20260311T120000
DTSTAMP:20260421T120110
CREATED:20240718T121433Z
LAST-MODIFIED:20240718T121433Z
UID:10004535-1773223200-1773230400@www.wijkcentrumtewerve.nl
SUMMARY:Teken- en schilderclub Te Verve
DESCRIPTION:Teken- en schilderclub Te Verve: Teken en schilder mee en ontdek je creatieve kant \nVoor iedereen die gezellig samen met andere bewoners wil tekenen of schilderen \nElke woensdag van 10.00-12.00 uur \nMateriaal zelf meenemen \nGratis \nAanmelden en verdere info bij Ton van Geest: email ahcvandergeest@gmail.com of 06-15523616 \n\nTegen kosten is koffie en frisdrank te verkrijgen (Pin Only)
URL:https://www.wijkcentrumtewerve.nl/activiteit/teken-en-schilderclub-te-verve/2026-03-11/
LOCATION:Activiteitenruimte 1
END:VEVENT
BEGIN:VEVENT
DTSTART;TZID=Europe/Amsterdam:20260310T193000
DTEND;TZID=Europe/Amsterdam:20260310T230000
DTSTAMP:20260421T120110
CREATED:20231216T213346Z
LAST-MODIFIED:20240927T084129Z
UID:10000437-1773171000-1773183600@www.wijkcentrumtewerve.nl
SUMMARY:Rode Dobbelsteen
DESCRIPTION:Gratis bordspellenavond\, elke oneven week op dinsdagavond van 19.30 tot 23.00 uur. Voor meer info: Kijk op de website www.derodedobbelsteen.nl of loop op dinsdagavond (oneven weken) binnen en vraag naar Frederik of Inge. 
URL:https://www.wijkcentrumtewerve.nl/activiteit/rode-dobbelsteen/2026-03-10/
LOCATION:Ontmoetingsruimte
END:VEVENT
BEGIN:VEVENT
DTSTART;TZID=Europe/Amsterdam:20260304T100000
DTEND;TZID=Europe/Amsterdam:20260304T120000
DTSTAMP:20260421T120110
CREATED:20240718T121433Z
LAST-MODIFIED:20240718T121433Z
UID:10004534-1772618400-1772625600@www.wijkcentrumtewerve.nl
SUMMARY:Teken- en schilderclub Te Verve
DESCRIPTION:Teken- en schilderclub Te Verve: Teken en schilder mee en ontdek je creatieve kant \nVoor iedereen die gezellig samen met andere bewoners wil tekenen of schilderen \nElke woensdag van 10.00-12.00 uur \nMateriaal zelf meenemen \nGratis \nAanmelden en verdere info bij Ton van Geest: email ahcvandergeest@gmail.com of 06-15523616 \n\nTegen kosten is koffie en frisdrank te verkrijgen (Pin Only)
URL:https://www.wijkcentrumtewerve.nl/activiteit/teken-en-schilderclub-te-verve/2026-03-04/
LOCATION:Activiteitenruimte 1
END:VEVENT
BEGIN:VEVENT
DTSTART;TZID=Europe/Amsterdam:20260225T100000
DTEND;TZID=Europe/Amsterdam:20260225T120000
DTSTAMP:20260421T120110
CREATED:20240718T121433Z
LAST-MODIFIED:20240718T121433Z
UID:10004533-1772013600-1772020800@www.wijkcentrumtewerve.nl
SUMMARY:Teken- en schilderclub Te Verve
DESCRIPTION:Teken- en schilderclub Te Verve: Teken en schilder mee en ontdek je creatieve kant \nVoor iedereen die gezellig samen met andere bewoners wil tekenen of schilderen \nElke woensdag van 10.00-12.00 uur \nMateriaal zelf meenemen \nGratis \nAanmelden en verdere info bij Ton van Geest: email ahcvandergeest@gmail.com of 06-15523616 \n\nTegen kosten is koffie en frisdrank te verkrijgen (Pin Only)
URL:https://www.wijkcentrumtewerve.nl/activiteit/teken-en-schilderclub-te-verve/2026-02-25/
LOCATION:Activiteitenruimte 1
END:VEVENT
BEGIN:VEVENT
DTSTART;TZID=Europe/Amsterdam:20260224T193000
DTEND;TZID=Europe/Amsterdam:20260224T230000
DTSTAMP:20260421T120110
CREATED:20231216T213346Z
LAST-MODIFIED:20240927T084129Z
UID:10000436-1771961400-1771974000@www.wijkcentrumtewerve.nl
SUMMARY:Rode Dobbelsteen
DESCRIPTION:Gratis bordspellenavond\, elke oneven week op dinsdagavond van 19.30 tot 23.00 uur. Voor meer info: Kijk op de website www.derodedobbelsteen.nl of loop op dinsdagavond (oneven weken) binnen en vraag naar Frederik of Inge. 
URL:https://www.wijkcentrumtewerve.nl/activiteit/rode-dobbelsteen/2026-02-24/
LOCATION:Ontmoetingsruimte
END:VEVENT
BEGIN:VEVENT
DTSTART;TZID=Europe/Amsterdam:20260218T100000
DTEND;TZID=Europe/Amsterdam:20260218T120000
DTSTAMP:20260421T120110
CREATED:20240718T121433Z
LAST-MODIFIED:20240718T121433Z
UID:10004532-1771408800-1771416000@www.wijkcentrumtewerve.nl
SUMMARY:Teken- en schilderclub Te Verve
DESCRIPTION:Teken- en schilderclub Te Verve: Teken en schilder mee en ontdek je creatieve kant \nVoor iedereen die gezellig samen met andere bewoners wil tekenen of schilderen \nElke woensdag van 10.00-12.00 uur \nMateriaal zelf meenemen \nGratis \nAanmelden en verdere info bij Ton van Geest: email ahcvandergeest@gmail.com of 06-15523616 \n\nTegen kosten is koffie en frisdrank te verkrijgen (Pin Only)
URL:https://www.wijkcentrumtewerve.nl/activiteit/teken-en-schilderclub-te-verve/2026-02-18/
LOCATION:Activiteitenruimte 1
END:VEVENT
BEGIN:VEVENT
DTSTART;TZID=Europe/Amsterdam:20260211T100000
DTEND;TZID=Europe/Amsterdam:20260211T120000
DTSTAMP:20260421T120110
CREATED:20240718T121433Z
LAST-MODIFIED:20240718T121433Z
UID:10004531-1770804000-1770811200@www.wijkcentrumtewerve.nl
SUMMARY:Teken- en schilderclub Te Verve
DESCRIPTION:Teken- en schilderclub Te Verve: Teken en schilder mee en ontdek je creatieve kant \nVoor iedereen die gezellig samen met andere bewoners wil tekenen of schilderen \nElke woensdag van 10.00-12.00 uur \nMateriaal zelf meenemen \nGratis \nAanmelden en verdere info bij Ton van Geest: email ahcvandergeest@gmail.com of 06-15523616 \n\nTegen kosten is koffie en frisdrank te verkrijgen (Pin Only)
URL:https://www.wijkcentrumtewerve.nl/activiteit/teken-en-schilderclub-te-verve/2026-02-11/
LOCATION:Activiteitenruimte 1
END:VEVENT
BEGIN:VEVENT
DTSTART;TZID=Europe/Amsterdam:20260210T193000
DTEND;TZID=Europe/Amsterdam:20260210T230000
DTSTAMP:20260421T120110
CREATED:20231216T213346Z
LAST-MODIFIED:20240927T084129Z
UID:10000435-1770751800-1770764400@www.wijkcentrumtewerve.nl
SUMMARY:Rode Dobbelsteen
DESCRIPTION:Gratis bordspellenavond\, elke oneven week op dinsdagavond van 19.30 tot 23.00 uur. Voor meer info: Kijk op de website www.derodedobbelsteen.nl of loop op dinsdagavond (oneven weken) binnen en vraag naar Frederik of Inge. 
URL:https://www.wijkcentrumtewerve.nl/activiteit/rode-dobbelsteen/2026-02-10/
LOCATION:Ontmoetingsruimte
END:VEVENT
BEGIN:VEVENT
DTSTART;TZID=Europe/Amsterdam:20260204T100000
DTEND;TZID=Europe/Amsterdam:20260204T120000
DTSTAMP:20260421T120110
CREATED:20240718T121433Z
LAST-MODIFIED:20240718T121433Z
UID:10004530-1770199200-1770206400@www.wijkcentrumtewerve.nl
SUMMARY:Teken- en schilderclub Te Verve
DESCRIPTION:Teken- en schilderclub Te Verve: Teken en schilder mee en ontdek je creatieve kant \nVoor iedereen die gezellig samen met andere bewoners wil tekenen of schilderen \nElke woensdag van 10.00-12.00 uur \nMateriaal zelf meenemen \nGratis \nAanmelden en verdere info bij Ton van Geest: email ahcvandergeest@gmail.com of 06-15523616 \n\nTegen kosten is koffie en frisdrank te verkrijgen (Pin Only)
URL:https://www.wijkcentrumtewerve.nl/activiteit/teken-en-schilderclub-te-verve/2026-02-04/
LOCATION:Activiteitenruimte 1
END:VEVENT
BEGIN:VEVENT
DTSTART;TZID=Europe/Amsterdam:20260128T100000
DTEND;TZID=Europe/Amsterdam:20260128T120000
DTSTAMP:20260421T120110
CREATED:20240718T121433Z
LAST-MODIFIED:20240718T121433Z
UID:10004529-1769594400-1769601600@www.wijkcentrumtewerve.nl
SUMMARY:Teken- en schilderclub Te Verve
DESCRIPTION:Teken- en schilderclub Te Verve: Teken en schilder mee en ontdek je creatieve kant \nVoor iedereen die gezellig samen met andere bewoners wil tekenen of schilderen \nElke woensdag van 10.00-12.00 uur \nMateriaal zelf meenemen \nGratis \nAanmelden en verdere info bij Ton van Geest: email ahcvandergeest@gmail.com of 06-15523616 \n\nTegen kosten is koffie en frisdrank te verkrijgen (Pin Only)
URL:https://www.wijkcentrumtewerve.nl/activiteit/teken-en-schilderclub-te-verve/2026-01-28/
LOCATION:Activiteitenruimte 1
END:VEVENT
BEGIN:VEVENT
DTSTART;TZID=Europe/Amsterdam:20260127T193000
DTEND;TZID=Europe/Amsterdam:20260127T230000
DTSTAMP:20260421T120110
CREATED:20231216T213346Z
LAST-MODIFIED:20240927T084129Z
UID:10000434-1769542200-1769554800@www.wijkcentrumtewerve.nl
SUMMARY:Rode Dobbelsteen
DESCRIPTION:Gratis bordspellenavond\, elke oneven week op dinsdagavond van 19.30 tot 23.00 uur. Voor meer info: Kijk op de website www.derodedobbelsteen.nl of loop op dinsdagavond (oneven weken) binnen en vraag naar Frederik of Inge. 
URL:https://www.wijkcentrumtewerve.nl/activiteit/rode-dobbelsteen/2026-01-27/
LOCATION:Ontmoetingsruimte
END:VEVENT
BEGIN:VEVENT
DTSTART;TZID=Europe/Amsterdam:20260121T100000
DTEND;TZID=Europe/Amsterdam:20260121T120000
DTSTAMP:20260421T120110
CREATED:20240718T121433Z
LAST-MODIFIED:20240718T121433Z
UID:10004528-1768989600-1768996800@www.wijkcentrumtewerve.nl
SUMMARY:Teken- en schilderclub Te Verve
DESCRIPTION:Teken- en schilderclub Te Verve: Teken en schilder mee en ontdek je creatieve kant \nVoor iedereen die gezellig samen met andere bewoners wil tekenen of schilderen \nElke woensdag van 10.00-12.00 uur \nMateriaal zelf meenemen \nGratis \nAanmelden en verdere info bij Ton van Geest: email ahcvandergeest@gmail.com of 06-15523616 \n\nTegen kosten is koffie en frisdrank te verkrijgen (Pin Only)
URL:https://www.wijkcentrumtewerve.nl/activiteit/teken-en-schilderclub-te-verve/2026-01-21/
LOCATION:Activiteitenruimte 1
END:VEVENT
BEGIN:VEVENT
DTSTART;TZID=Europe/Amsterdam:20260114T100000
DTEND;TZID=Europe/Amsterdam:20260114T120000
DTSTAMP:20260421T120110
CREATED:20240718T121433Z
LAST-MODIFIED:20240718T121433Z
UID:10004527-1768384800-1768392000@www.wijkcentrumtewerve.nl
SUMMARY:Teken- en schilderclub Te Verve
DESCRIPTION:Teken- en schilderclub Te Verve: Teken en schilder mee en ontdek je creatieve kant \nVoor iedereen die gezellig samen met andere bewoners wil tekenen of schilderen \nElke woensdag van 10.00-12.00 uur \nMateriaal zelf meenemen \nGratis \nAanmelden en verdere info bij Ton van Geest: email ahcvandergeest@gmail.com of 06-15523616 \n\nTegen kosten is koffie en frisdrank te verkrijgen (Pin Only)
URL:https://www.wijkcentrumtewerve.nl/activiteit/teken-en-schilderclub-te-verve/2026-01-14/
LOCATION:Activiteitenruimte 1
END:VEVENT
BEGIN:VEVENT
DTSTART;TZID=Europe/Amsterdam:20260113T193000
DTEND;TZID=Europe/Amsterdam:20260113T230000
DTSTAMP:20260421T120110
CREATED:20231216T213346Z
LAST-MODIFIED:20240927T084129Z
UID:10000433-1768332600-1768345200@www.wijkcentrumtewerve.nl
SUMMARY:Rode Dobbelsteen
DESCRIPTION:Gratis bordspellenavond\, elke oneven week op dinsdagavond van 19.30 tot 23.00 uur. Voor meer info: Kijk op de website www.derodedobbelsteen.nl of loop op dinsdagavond (oneven weken) binnen en vraag naar Frederik of Inge. 
URL:https://www.wijkcentrumtewerve.nl/activiteit/rode-dobbelsteen/2026-01-13/
LOCATION:Ontmoetingsruimte
END:VEVENT
BEGIN:VEVENT
DTSTART;TZID=Europe/Amsterdam:20260107T100000
DTEND;TZID=Europe/Amsterdam:20260107T120000
DTSTAMP:20260421T120110
CREATED:20240718T121433Z
LAST-MODIFIED:20240718T121433Z
UID:10004526-1767780000-1767787200@www.wijkcentrumtewerve.nl
SUMMARY:Teken- en schilderclub Te Verve
DESCRIPTION:Teken- en schilderclub Te Verve: Teken en schilder mee en ontdek je creatieve kant \nVoor iedereen die gezellig samen met andere bewoners wil tekenen of schilderen \nElke woensdag van 10.00-12.00 uur \nMateriaal zelf meenemen \nGratis \nAanmelden en verdere info bij Ton van Geest: email ahcvandergeest@gmail.com of 06-15523616 \n\nTegen kosten is koffie en frisdrank te verkrijgen (Pin Only)
URL:https://www.wijkcentrumtewerve.nl/activiteit/teken-en-schilderclub-te-verve/2026-01-07/
LOCATION:Activiteitenruimte 1
END:VEVENT
BEGIN:VEVENT
DTSTART;TZID=Europe/Amsterdam:20251231T100000
DTEND;TZID=Europe/Amsterdam:20251231T120000
DTSTAMP:20260421T120110
CREATED:20240718T121433Z
LAST-MODIFIED:20240718T121433Z
UID:10004525-1767175200-1767182400@www.wijkcentrumtewerve.nl
SUMMARY:Teken- en schilderclub Te Verve
DESCRIPTION:Teken- en schilderclub Te Verve: Teken en schilder mee en ontdek je creatieve kant \nVoor iedereen die gezellig samen met andere bewoners wil tekenen of schilderen \nElke woensdag van 10.00-12.00 uur \nMateriaal zelf meenemen \nGratis \nAanmelden en verdere info bij Ton van Geest: email ahcvandergeest@gmail.com of 06-15523616 \n\nTegen kosten is koffie en frisdrank te verkrijgen (Pin Only)
URL:https://www.wijkcentrumtewerve.nl/activiteit/teken-en-schilderclub-te-verve/2025-12-31/
LOCATION:Activiteitenruimte 1
END:VEVENT
BEGIN:VEVENT
DTSTART;TZID=Europe/Amsterdam:20251230T193000
DTEND;TZID=Europe/Amsterdam:20251230T230000
DTSTAMP:20260421T120110
CREATED:20231216T213346Z
LAST-MODIFIED:20240927T084129Z
UID:10000432-1767123000-1767135600@www.wijkcentrumtewerve.nl
SUMMARY:Rode Dobbelsteen
DESCRIPTION:Gratis bordspellenavond\, elke oneven week op dinsdagavond van 19.30 tot 23.00 uur. Voor meer info: Kijk op de website www.derodedobbelsteen.nl of loop op dinsdagavond (oneven weken) binnen en vraag naar Frederik of Inge. 
URL:https://www.wijkcentrumtewerve.nl/activiteit/rode-dobbelsteen/2025-12-30/
LOCATION:Ontmoetingsruimte
END:VEVENT
BEGIN:VEVENT
DTSTART;TZID=Europe/Amsterdam:20251224T100000
DTEND;TZID=Europe/Amsterdam:20251224T120000
DTSTAMP:20260421T120110
CREATED:20240718T121433Z
LAST-MODIFIED:20240718T121433Z
UID:10004524-1766570400-1766577600@www.wijkcentrumtewerve.nl
SUMMARY:Teken- en schilderclub Te Verve
DESCRIPTION:Teken- en schilderclub Te Verve: Teken en schilder mee en ontdek je creatieve kant \nVoor iedereen die gezellig samen met andere bewoners wil tekenen of schilderen \nElke woensdag van 10.00-12.00 uur \nMateriaal zelf meenemen \nGratis \nAanmelden en verdere info bij Ton van Geest: email ahcvandergeest@gmail.com of 06-15523616 \n\nTegen kosten is koffie en frisdrank te verkrijgen (Pin Only)
URL:https://www.wijkcentrumtewerve.nl/activiteit/teken-en-schilderclub-te-verve/2025-12-24/
LOCATION:Activiteitenruimte 1
END:VEVENT
BEGIN:VEVENT
DTSTART;TZID=Europe/Amsterdam:20251217T100000
DTEND;TZID=Europe/Amsterdam:20251217T120000
DTSTAMP:20260421T120110
CREATED:20240718T121433Z
LAST-MODIFIED:20240718T121433Z
UID:10004523-1765965600-1765972800@www.wijkcentrumtewerve.nl
SUMMARY:Teken- en schilderclub Te Verve
DESCRIPTION:Teken- en schilderclub Te Verve: Teken en schilder mee en ontdek je creatieve kant \nVoor iedereen die gezellig samen met andere bewoners wil tekenen of schilderen \nElke woensdag van 10.00-12.00 uur \nMateriaal zelf meenemen \nGratis \nAanmelden en verdere info bij Ton van Geest: email ahcvandergeest@gmail.com of 06-15523616 \n\nTegen kosten is koffie en frisdrank te verkrijgen (Pin Only)
URL:https://www.wijkcentrumtewerve.nl/activiteit/teken-en-schilderclub-te-verve/2025-12-17/
LOCATION:Activiteitenruimte 1
END:VEVENT
BEGIN:VEVENT
DTSTART;TZID=Europe/Amsterdam:20251216T193000
DTEND;TZID=Europe/Amsterdam:20251216T230000
DTSTAMP:20260421T120110
CREATED:20231216T213346Z
LAST-MODIFIED:20240927T084129Z
UID:10000431-1765913400-1765926000@www.wijkcentrumtewerve.nl
SUMMARY:Rode Dobbelsteen
DESCRIPTION:Gratis bordspellenavond\, elke oneven week op dinsdagavond van 19.30 tot 23.00 uur. Voor meer info: Kijk op de website www.derodedobbelsteen.nl of loop op dinsdagavond (oneven weken) binnen en vraag naar Frederik of Inge. 
URL:https://www.wijkcentrumtewerve.nl/activiteit/rode-dobbelsteen/2025-12-16/
LOCATION:Ontmoetingsruimte
END:VEVENT
BEGIN:VEVENT
DTSTART;TZID=Europe/Amsterdam:20251210T100000
DTEND;TZID=Europe/Amsterdam:20251210T120000
DTSTAMP:20260421T120110
CREATED:20240718T121433Z
LAST-MODIFIED:20240718T121433Z
UID:10004522-1765360800-1765368000@www.wijkcentrumtewerve.nl
SUMMARY:Teken- en schilderclub Te Verve
DESCRIPTION:Teken- en schilderclub Te Verve: Teken en schilder mee en ontdek je creatieve kant \nVoor iedereen die gezellig samen met andere bewoners wil tekenen of schilderen \nElke woensdag van 10.00-12.00 uur \nMateriaal zelf meenemen \nGratis \nAanmelden en verdere info bij Ton van Geest: email ahcvandergeest@gmail.com of 06-15523616 \n\nTegen kosten is koffie en frisdrank te verkrijgen (Pin Only)
URL:https://www.wijkcentrumtewerve.nl/activiteit/teken-en-schilderclub-te-verve/2025-12-10/
LOCATION:Activiteitenruimte 1
END:VEVENT
BEGIN:VEVENT
DTSTART;TZID=Europe/Amsterdam:20251203T100000
DTEND;TZID=Europe/Amsterdam:20251203T120000
DTSTAMP:20260421T120110
CREATED:20240718T121433Z
LAST-MODIFIED:20240718T121433Z
UID:10004521-1764756000-1764763200@www.wijkcentrumtewerve.nl
SUMMARY:Teken- en schilderclub Te Verve
DESCRIPTION:Teken- en schilderclub Te Verve: Teken en schilder mee en ontdek je creatieve kant \nVoor iedereen die gezellig samen met andere bewoners wil tekenen of schilderen \nElke woensdag van 10.00-12.00 uur \nMateriaal zelf meenemen \nGratis \nAanmelden en verdere info bij Ton van Geest: email ahcvandergeest@gmail.com of 06-15523616 \n\nTegen kosten is koffie en frisdrank te verkrijgen (Pin Only)
URL:https://www.wijkcentrumtewerve.nl/activiteit/teken-en-schilderclub-te-verve/2025-12-03/
LOCATION:Activiteitenruimte 1
END:VEVENT
BEGIN:VEVENT
DTSTART;TZID=Europe/Amsterdam:20251202T193000
DTEND;TZID=Europe/Amsterdam:20251202T230000
DTSTAMP:20260421T120110
CREATED:20231216T213346Z
LAST-MODIFIED:20240927T084129Z
UID:10000430-1764703800-1764716400@www.wijkcentrumtewerve.nl
SUMMARY:Rode Dobbelsteen
DESCRIPTION:Gratis bordspellenavond\, elke oneven week op dinsdagavond van 19.30 tot 23.00 uur. Voor meer info: Kijk op de website www.derodedobbelsteen.nl of loop op dinsdagavond (oneven weken) binnen en vraag naar Frederik of Inge. 
URL:https://www.wijkcentrumtewerve.nl/activiteit/rode-dobbelsteen/2025-12-02/
LOCATION:Ontmoetingsruimte
END:VEVENT
END:VCALENDAR