BEGIN:VCALENDAR
VERSION:2.0
PRODID:-//Wijkcentrum Te Werve - Welzijn Rijswijk - ECPv6.8.2.1//NONSGML v1.0//EN
CALSCALE:GREGORIAN
METHOD:PUBLISH
X-WR-CALNAME:Wijkcentrum Te Werve - Welzijn Rijswijk
X-ORIGINAL-URL:https://www.wijkcentrumtewerve.nl
X-WR-CALDESC:Evenementen voor Wijkcentrum Te Werve - Welzijn Rijswijk
REFRESH-INTERVAL;VALUE=DURATION:PT1H
X-Robots-Tag:noindex
X-PUBLISHED-TTL:PT1H
BEGIN:VTIMEZONE
TZID:Europe/Amsterdam
BEGIN:DAYLIGHT
TZOFFSETFROM:+0100
TZOFFSETTO:+0200
TZNAME:CEST
DTSTART:20260329T010000
END:DAYLIGHT
BEGIN:STANDARD
TZOFFSETFROM:+0200
TZOFFSETTO:+0100
TZNAME:CET
DTSTART:20261025T010000
END:STANDARD
BEGIN:DAYLIGHT
TZOFFSETFROM:+0100
TZOFFSETTO:+0200
TZNAME:CEST
DTSTART:20270328T010000
END:DAYLIGHT
BEGIN:STANDARD
TZOFFSETFROM:+0200
TZOFFSETTO:+0100
TZNAME:CET
DTSTART:20271031T010000
END:STANDARD
BEGIN:DAYLIGHT
TZOFFSETFROM:+0100
TZOFFSETTO:+0200
TZNAME:CEST
DTSTART:20280326T010000
END:DAYLIGHT
BEGIN:STANDARD
TZOFFSETFROM:+0200
TZOFFSETTO:+0100
TZNAME:CET
DTSTART:20281029T010000
END:STANDARD
END:VTIMEZONE
BEGIN:VEVENT
DTSTART;TZID=Europe/Amsterdam:20260421T140000
DTEND;TZID=Europe/Amsterdam:20260421T170000
DTSTAMP:20260421T104040
CREATED:20231216T212937Z
LAST-MODIFIED:20231216T212937Z
UID:10000348-1776780000-1776790800@www.wijkcentrumtewerve.nl
SUMMARY:De rollende schijven (sjoelen)
DESCRIPTION:Kom elke derde dinsdag van de maand van 14.00 tot 17.00 uur naar de gezellige sjoelmiddag. Er is iedere keer een prijsje te winnen!\nAanmelden is verplicht en kan bij Anneke 06-14431634 of rollendeschijven@gmail.com\nKosten zijn € 2\,50 p.p. inclusief consumptie (contant te betalen).
URL:https://www.wijkcentrumtewerve.nl/activiteit/de-rollende-schijven-sjoelen/2026-04-21/
LOCATION:Ontmoetingsruimte
END:VEVENT
BEGIN:VEVENT
DTSTART;TZID=Europe/Amsterdam:20260519T140000
DTEND;TZID=Europe/Amsterdam:20260519T170000
DTSTAMP:20260421T104040
CREATED:20231216T212937Z
LAST-MODIFIED:20231216T212937Z
UID:10000349-1779199200-1779210000@www.wijkcentrumtewerve.nl
SUMMARY:De rollende schijven (sjoelen)
DESCRIPTION:Kom elke derde dinsdag van de maand van 14.00 tot 17.00 uur naar de gezellige sjoelmiddag. Er is iedere keer een prijsje te winnen!\nAanmelden is verplicht en kan bij Anneke 06-14431634 of rollendeschijven@gmail.com\nKosten zijn € 2\,50 p.p. inclusief consumptie (contant te betalen).
URL:https://www.wijkcentrumtewerve.nl/activiteit/de-rollende-schijven-sjoelen/2026-05-19/
LOCATION:Ontmoetingsruimte
END:VEVENT
BEGIN:VEVENT
DTSTART;TZID=Europe/Amsterdam:20260616T140000
DTEND;TZID=Europe/Amsterdam:20260616T170000
DTSTAMP:20260421T104040
CREATED:20231216T212937Z
LAST-MODIFIED:20231216T212937Z
UID:10000350-1781618400-1781629200@www.wijkcentrumtewerve.nl
SUMMARY:De rollende schijven (sjoelen)
DESCRIPTION:Kom elke derde dinsdag van de maand van 14.00 tot 17.00 uur naar de gezellige sjoelmiddag. Er is iedere keer een prijsje te winnen!\nAanmelden is verplicht en kan bij Anneke 06-14431634 of rollendeschijven@gmail.com\nKosten zijn € 2\,50 p.p. inclusief consumptie (contant te betalen).
URL:https://www.wijkcentrumtewerve.nl/activiteit/de-rollende-schijven-sjoelen/2026-06-16/
LOCATION:Ontmoetingsruimte
END:VEVENT
BEGIN:VEVENT
DTSTART;TZID=Europe/Amsterdam:20260721T140000
DTEND;TZID=Europe/Amsterdam:20260721T170000
DTSTAMP:20260421T104040
CREATED:20231216T212937Z
LAST-MODIFIED:20231216T212937Z
UID:10000351-1784642400-1784653200@www.wijkcentrumtewerve.nl
SUMMARY:De rollende schijven (sjoelen)
DESCRIPTION:Kom elke derde dinsdag van de maand van 14.00 tot 17.00 uur naar de gezellige sjoelmiddag. Er is iedere keer een prijsje te winnen!\nAanmelden is verplicht en kan bij Anneke 06-14431634 of rollendeschijven@gmail.com\nKosten zijn € 2\,50 p.p. inclusief consumptie (contant te betalen).
URL:https://www.wijkcentrumtewerve.nl/activiteit/de-rollende-schijven-sjoelen/2026-07-21/
LOCATION:Ontmoetingsruimte
END:VEVENT
BEGIN:VEVENT
DTSTART;TZID=Europe/Amsterdam:20260818T140000
DTEND;TZID=Europe/Amsterdam:20260818T170000
DTSTAMP:20260421T104040
CREATED:20231216T212937Z
LAST-MODIFIED:20231216T212937Z
UID:10000352-1787061600-1787072400@www.wijkcentrumtewerve.nl
SUMMARY:De rollende schijven (sjoelen)
DESCRIPTION:Kom elke derde dinsdag van de maand van 14.00 tot 17.00 uur naar de gezellige sjoelmiddag. Er is iedere keer een prijsje te winnen!\nAanmelden is verplicht en kan bij Anneke 06-14431634 of rollendeschijven@gmail.com\nKosten zijn € 2\,50 p.p. inclusief consumptie (contant te betalen).
URL:https://www.wijkcentrumtewerve.nl/activiteit/de-rollende-schijven-sjoelen/2026-08-18/
LOCATION:Ontmoetingsruimte
END:VEVENT
BEGIN:VEVENT
DTSTART;TZID=Europe/Amsterdam:20260915T140000
DTEND;TZID=Europe/Amsterdam:20260915T170000
DTSTAMP:20260421T104040
CREATED:20231216T212937Z
LAST-MODIFIED:20231216T212937Z
UID:10000353-1789480800-1789491600@www.wijkcentrumtewerve.nl
SUMMARY:De rollende schijven (sjoelen)
DESCRIPTION:Kom elke derde dinsdag van de maand van 14.00 tot 17.00 uur naar de gezellige sjoelmiddag. Er is iedere keer een prijsje te winnen!\nAanmelden is verplicht en kan bij Anneke 06-14431634 of rollendeschijven@gmail.com\nKosten zijn € 2\,50 p.p. inclusief consumptie (contant te betalen).
URL:https://www.wijkcentrumtewerve.nl/activiteit/de-rollende-schijven-sjoelen/2026-09-15/
LOCATION:Ontmoetingsruimte
END:VEVENT
BEGIN:VEVENT
DTSTART;TZID=Europe/Amsterdam:20261020T140000
DTEND;TZID=Europe/Amsterdam:20261020T170000
DTSTAMP:20260421T104040
CREATED:20231216T212937Z
LAST-MODIFIED:20231216T212937Z
UID:10000354-1792504800-1792515600@www.wijkcentrumtewerve.nl
SUMMARY:De rollende schijven (sjoelen)
DESCRIPTION:Kom elke derde dinsdag van de maand van 14.00 tot 17.00 uur naar de gezellige sjoelmiddag. Er is iedere keer een prijsje te winnen!\nAanmelden is verplicht en kan bij Anneke 06-14431634 of rollendeschijven@gmail.com\nKosten zijn € 2\,50 p.p. inclusief consumptie (contant te betalen).
URL:https://www.wijkcentrumtewerve.nl/activiteit/de-rollende-schijven-sjoelen/2026-10-20/
LOCATION:Ontmoetingsruimte
END:VEVENT
BEGIN:VEVENT
DTSTART;TZID=Europe/Amsterdam:20261117T140000
DTEND;TZID=Europe/Amsterdam:20261117T170000
DTSTAMP:20260421T104040
CREATED:20231216T212937Z
LAST-MODIFIED:20231216T212937Z
UID:10000355-1794924000-1794934800@www.wijkcentrumtewerve.nl
SUMMARY:De rollende schijven (sjoelen)
DESCRIPTION:Kom elke derde dinsdag van de maand van 14.00 tot 17.00 uur naar de gezellige sjoelmiddag. Er is iedere keer een prijsje te winnen!\nAanmelden is verplicht en kan bij Anneke 06-14431634 of rollendeschijven@gmail.com\nKosten zijn € 2\,50 p.p. inclusief consumptie (contant te betalen).
URL:https://www.wijkcentrumtewerve.nl/activiteit/de-rollende-schijven-sjoelen/2026-11-17/
LOCATION:Ontmoetingsruimte
END:VEVENT
BEGIN:VEVENT
DTSTART;TZID=Europe/Amsterdam:20261215T140000
DTEND;TZID=Europe/Amsterdam:20261215T170000
DTSTAMP:20260421T104040
CREATED:20231216T212937Z
LAST-MODIFIED:20231216T212937Z
UID:10000356-1797343200-1797354000@www.wijkcentrumtewerve.nl
SUMMARY:De rollende schijven (sjoelen)
DESCRIPTION:Kom elke derde dinsdag van de maand van 14.00 tot 17.00 uur naar de gezellige sjoelmiddag. Er is iedere keer een prijsje te winnen!\nAanmelden is verplicht en kan bij Anneke 06-14431634 of rollendeschijven@gmail.com\nKosten zijn € 2\,50 p.p. inclusief consumptie (contant te betalen).
URL:https://www.wijkcentrumtewerve.nl/activiteit/de-rollende-schijven-sjoelen/2026-12-15/
LOCATION:Ontmoetingsruimte
END:VEVENT
BEGIN:VEVENT
DTSTART;TZID=Europe/Amsterdam:20270119T140000
DTEND;TZID=Europe/Amsterdam:20270119T170000
DTSTAMP:20260421T104040
CREATED:20231216T212937Z
LAST-MODIFIED:20231216T212937Z
UID:10000357-1800367200-1800378000@www.wijkcentrumtewerve.nl
SUMMARY:De rollende schijven (sjoelen)
DESCRIPTION:Kom elke derde dinsdag van de maand van 14.00 tot 17.00 uur naar de gezellige sjoelmiddag. Er is iedere keer een prijsje te winnen!\nAanmelden is verplicht en kan bij Anneke 06-14431634 of rollendeschijven@gmail.com\nKosten zijn € 2\,50 p.p. inclusief consumptie (contant te betalen).
URL:https://www.wijkcentrumtewerve.nl/activiteit/de-rollende-schijven-sjoelen/2027-01-19/
LOCATION:Ontmoetingsruimte
END:VEVENT
BEGIN:VEVENT
DTSTART;TZID=Europe/Amsterdam:20270216T140000
DTEND;TZID=Europe/Amsterdam:20270216T170000
DTSTAMP:20260421T104040
CREATED:20231216T212937Z
LAST-MODIFIED:20231216T212937Z
UID:10000358-1802786400-1802797200@www.wijkcentrumtewerve.nl
SUMMARY:De rollende schijven (sjoelen)
DESCRIPTION:Kom elke derde dinsdag van de maand van 14.00 tot 17.00 uur naar de gezellige sjoelmiddag. Er is iedere keer een prijsje te winnen!\nAanmelden is verplicht en kan bij Anneke 06-14431634 of rollendeschijven@gmail.com\nKosten zijn € 2\,50 p.p. inclusief consumptie (contant te betalen).
URL:https://www.wijkcentrumtewerve.nl/activiteit/de-rollende-schijven-sjoelen/2027-02-16/
LOCATION:Ontmoetingsruimte
END:VEVENT
BEGIN:VEVENT
DTSTART;TZID=Europe/Amsterdam:20270316T140000
DTEND;TZID=Europe/Amsterdam:20270316T170000
DTSTAMP:20260421T104040
CREATED:20231216T212937Z
LAST-MODIFIED:20231216T212937Z
UID:10000359-1805205600-1805216400@www.wijkcentrumtewerve.nl
SUMMARY:De rollende schijven (sjoelen)
DESCRIPTION:Kom elke derde dinsdag van de maand van 14.00 tot 17.00 uur naar de gezellige sjoelmiddag. Er is iedere keer een prijsje te winnen!\nAanmelden is verplicht en kan bij Anneke 06-14431634 of rollendeschijven@gmail.com\nKosten zijn € 2\,50 p.p. inclusief consumptie (contant te betalen).
URL:https://www.wijkcentrumtewerve.nl/activiteit/de-rollende-schijven-sjoelen/2027-03-16/
LOCATION:Ontmoetingsruimte
END:VEVENT
BEGIN:VEVENT
DTSTART;TZID=Europe/Amsterdam:20270420T140000
DTEND;TZID=Europe/Amsterdam:20270420T170000
DTSTAMP:20260421T104040
CREATED:20231216T212937Z
LAST-MODIFIED:20231216T212937Z
UID:10000360-1808229600-1808240400@www.wijkcentrumtewerve.nl
SUMMARY:De rollende schijven (sjoelen)
DESCRIPTION:Kom elke derde dinsdag van de maand van 14.00 tot 17.00 uur naar de gezellige sjoelmiddag. Er is iedere keer een prijsje te winnen!\nAanmelden is verplicht en kan bij Anneke 06-14431634 of rollendeschijven@gmail.com\nKosten zijn € 2\,50 p.p. inclusief consumptie (contant te betalen).
URL:https://www.wijkcentrumtewerve.nl/activiteit/de-rollende-schijven-sjoelen/2027-04-20/
LOCATION:Ontmoetingsruimte
END:VEVENT
BEGIN:VEVENT
DTSTART;TZID=Europe/Amsterdam:20270518T140000
DTEND;TZID=Europe/Amsterdam:20270518T170000
DTSTAMP:20260421T104040
CREATED:20231216T212937Z
LAST-MODIFIED:20231216T212937Z
UID:10000361-1810648800-1810659600@www.wijkcentrumtewerve.nl
SUMMARY:De rollende schijven (sjoelen)
DESCRIPTION:Kom elke derde dinsdag van de maand van 14.00 tot 17.00 uur naar de gezellige sjoelmiddag. Er is iedere keer een prijsje te winnen!\nAanmelden is verplicht en kan bij Anneke 06-14431634 of rollendeschijven@gmail.com\nKosten zijn € 2\,50 p.p. inclusief consumptie (contant te betalen).
URL:https://www.wijkcentrumtewerve.nl/activiteit/de-rollende-schijven-sjoelen/2027-05-18/
LOCATION:Ontmoetingsruimte
END:VEVENT
BEGIN:VEVENT
DTSTART;TZID=Europe/Amsterdam:20270615T140000
DTEND;TZID=Europe/Amsterdam:20270615T170000
DTSTAMP:20260421T104040
CREATED:20231216T212937Z
LAST-MODIFIED:20231216T212937Z
UID:10000362-1813068000-1813078800@www.wijkcentrumtewerve.nl
SUMMARY:De rollende schijven (sjoelen)
DESCRIPTION:Kom elke derde dinsdag van de maand van 14.00 tot 17.00 uur naar de gezellige sjoelmiddag. Er is iedere keer een prijsje te winnen!\nAanmelden is verplicht en kan bij Anneke 06-14431634 of rollendeschijven@gmail.com\nKosten zijn € 2\,50 p.p. inclusief consumptie (contant te betalen).
URL:https://www.wijkcentrumtewerve.nl/activiteit/de-rollende-schijven-sjoelen/2027-06-15/
LOCATION:Ontmoetingsruimte
END:VEVENT
BEGIN:VEVENT
DTSTART;TZID=Europe/Amsterdam:20270720T140000
DTEND;TZID=Europe/Amsterdam:20270720T170000
DTSTAMP:20260421T104040
CREATED:20231216T212937Z
LAST-MODIFIED:20231216T212937Z
UID:10000363-1816092000-1816102800@www.wijkcentrumtewerve.nl
SUMMARY:De rollende schijven (sjoelen)
DESCRIPTION:Kom elke derde dinsdag van de maand van 14.00 tot 17.00 uur naar de gezellige sjoelmiddag. Er is iedere keer een prijsje te winnen!\nAanmelden is verplicht en kan bij Anneke 06-14431634 of rollendeschijven@gmail.com\nKosten zijn € 2\,50 p.p. inclusief consumptie (contant te betalen).
URL:https://www.wijkcentrumtewerve.nl/activiteit/de-rollende-schijven-sjoelen/2027-07-20/
LOCATION:Ontmoetingsruimte
END:VEVENT
BEGIN:VEVENT
DTSTART;TZID=Europe/Amsterdam:20270817T140000
DTEND;TZID=Europe/Amsterdam:20270817T170000
DTSTAMP:20260421T104040
CREATED:20231216T212937Z
LAST-MODIFIED:20231216T212937Z
UID:10000364-1818511200-1818522000@www.wijkcentrumtewerve.nl
SUMMARY:De rollende schijven (sjoelen)
DESCRIPTION:Kom elke derde dinsdag van de maand van 14.00 tot 17.00 uur naar de gezellige sjoelmiddag. Er is iedere keer een prijsje te winnen!\nAanmelden is verplicht en kan bij Anneke 06-14431634 of rollendeschijven@gmail.com\nKosten zijn € 2\,50 p.p. inclusief consumptie (contant te betalen).
URL:https://www.wijkcentrumtewerve.nl/activiteit/de-rollende-schijven-sjoelen/2027-08-17/
LOCATION:Ontmoetingsruimte
END:VEVENT
BEGIN:VEVENT
DTSTART;TZID=Europe/Amsterdam:20270921T140000
DTEND;TZID=Europe/Amsterdam:20270921T170000
DTSTAMP:20260421T104040
CREATED:20231216T212937Z
LAST-MODIFIED:20231216T212937Z
UID:10000365-1821535200-1821546000@www.wijkcentrumtewerve.nl
SUMMARY:De rollende schijven (sjoelen)
DESCRIPTION:Kom elke derde dinsdag van de maand van 14.00 tot 17.00 uur naar de gezellige sjoelmiddag. Er is iedere keer een prijsje te winnen!\nAanmelden is verplicht en kan bij Anneke 06-14431634 of rollendeschijven@gmail.com\nKosten zijn € 2\,50 p.p. inclusief consumptie (contant te betalen).
URL:https://www.wijkcentrumtewerve.nl/activiteit/de-rollende-schijven-sjoelen/2027-09-21/
LOCATION:Ontmoetingsruimte
END:VEVENT
BEGIN:VEVENT
DTSTART;TZID=Europe/Amsterdam:20271019T140000
DTEND;TZID=Europe/Amsterdam:20271019T170000
DTSTAMP:20260421T104040
CREATED:20231216T212937Z
LAST-MODIFIED:20231216T212937Z
UID:10000366-1823954400-1823965200@www.wijkcentrumtewerve.nl
SUMMARY:De rollende schijven (sjoelen)
DESCRIPTION:Kom elke derde dinsdag van de maand van 14.00 tot 17.00 uur naar de gezellige sjoelmiddag. Er is iedere keer een prijsje te winnen!\nAanmelden is verplicht en kan bij Anneke 06-14431634 of rollendeschijven@gmail.com\nKosten zijn € 2\,50 p.p. inclusief consumptie (contant te betalen).
URL:https://www.wijkcentrumtewerve.nl/activiteit/de-rollende-schijven-sjoelen/2027-10-19/
LOCATION:Ontmoetingsruimte
END:VEVENT
BEGIN:VEVENT
DTSTART;TZID=Europe/Amsterdam:20271116T140000
DTEND;TZID=Europe/Amsterdam:20271116T170000
DTSTAMP:20260421T104040
CREATED:20231216T212937Z
LAST-MODIFIED:20231216T212937Z
UID:10000367-1826373600-1826384400@www.wijkcentrumtewerve.nl
SUMMARY:De rollende schijven (sjoelen)
DESCRIPTION:Kom elke derde dinsdag van de maand van 14.00 tot 17.00 uur naar de gezellige sjoelmiddag. Er is iedere keer een prijsje te winnen!\nAanmelden is verplicht en kan bij Anneke 06-14431634 of rollendeschijven@gmail.com\nKosten zijn € 2\,50 p.p. inclusief consumptie (contant te betalen).
URL:https://www.wijkcentrumtewerve.nl/activiteit/de-rollende-schijven-sjoelen/2027-11-16/
LOCATION:Ontmoetingsruimte
END:VEVENT
BEGIN:VEVENT
DTSTART;TZID=Europe/Amsterdam:20271221T140000
DTEND;TZID=Europe/Amsterdam:20271221T170000
DTSTAMP:20260421T104040
CREATED:20231216T212937Z
LAST-MODIFIED:20231216T212937Z
UID:10000368-1829397600-1829408400@www.wijkcentrumtewerve.nl
SUMMARY:De rollende schijven (sjoelen)
DESCRIPTION:Kom elke derde dinsdag van de maand van 14.00 tot 17.00 uur naar de gezellige sjoelmiddag. Er is iedere keer een prijsje te winnen!\nAanmelden is verplicht en kan bij Anneke 06-14431634 of rollendeschijven@gmail.com\nKosten zijn € 2\,50 p.p. inclusief consumptie (contant te betalen).
URL:https://www.wijkcentrumtewerve.nl/activiteit/de-rollende-schijven-sjoelen/2027-12-21/
LOCATION:Ontmoetingsruimte
END:VEVENT
BEGIN:VEVENT
DTSTART;TZID=Europe/Amsterdam:20280118T140000
DTEND;TZID=Europe/Amsterdam:20280118T170000
DTSTAMP:20260421T104040
CREATED:20231216T212937Z
LAST-MODIFIED:20231216T212937Z
UID:10000369-1831816800-1831827600@www.wijkcentrumtewerve.nl
SUMMARY:De rollende schijven (sjoelen)
DESCRIPTION:Kom elke derde dinsdag van de maand van 14.00 tot 17.00 uur naar de gezellige sjoelmiddag. Er is iedere keer een prijsje te winnen!\nAanmelden is verplicht en kan bij Anneke 06-14431634 of rollendeschijven@gmail.com\nKosten zijn € 2\,50 p.p. inclusief consumptie (contant te betalen).
URL:https://www.wijkcentrumtewerve.nl/activiteit/de-rollende-schijven-sjoelen/2028-01-18/
LOCATION:Ontmoetingsruimte
END:VEVENT
BEGIN:VEVENT
DTSTART;TZID=Europe/Amsterdam:20280215T140000
DTEND;TZID=Europe/Amsterdam:20280215T170000
DTSTAMP:20260421T104040
CREATED:20231216T212937Z
LAST-MODIFIED:20231216T212937Z
UID:10000370-1834236000-1834246800@www.wijkcentrumtewerve.nl
SUMMARY:De rollende schijven (sjoelen)
DESCRIPTION:Kom elke derde dinsdag van de maand van 14.00 tot 17.00 uur naar de gezellige sjoelmiddag. Er is iedere keer een prijsje te winnen!\nAanmelden is verplicht en kan bij Anneke 06-14431634 of rollendeschijven@gmail.com\nKosten zijn € 2\,50 p.p. inclusief consumptie (contant te betalen).
URL:https://www.wijkcentrumtewerve.nl/activiteit/de-rollende-schijven-sjoelen/2028-02-15/
LOCATION:Ontmoetingsruimte
END:VEVENT
BEGIN:VEVENT
DTSTART;TZID=Europe/Amsterdam:20280321T140000
DTEND;TZID=Europe/Amsterdam:20280321T170000
DTSTAMP:20260421T104040
CREATED:20231216T212937Z
LAST-MODIFIED:20231216T212937Z
UID:10000371-1837260000-1837270800@www.wijkcentrumtewerve.nl
SUMMARY:De rollende schijven (sjoelen)
DESCRIPTION:Kom elke derde dinsdag van de maand van 14.00 tot 17.00 uur naar de gezellige sjoelmiddag. Er is iedere keer een prijsje te winnen!\nAanmelden is verplicht en kan bij Anneke 06-14431634 of rollendeschijven@gmail.com\nKosten zijn € 2\,50 p.p. inclusief consumptie (contant te betalen).
URL:https://www.wijkcentrumtewerve.nl/activiteit/de-rollende-schijven-sjoelen/2028-03-21/
LOCATION:Ontmoetingsruimte
END:VEVENT
BEGIN:VEVENT
DTSTART;TZID=Europe/Amsterdam:20280418T140000
DTEND;TZID=Europe/Amsterdam:20280418T170000
DTSTAMP:20260421T104040
CREATED:20231216T212937Z
LAST-MODIFIED:20231216T212937Z
UID:10000372-1839679200-1839690000@www.wijkcentrumtewerve.nl
SUMMARY:De rollende schijven (sjoelen)
DESCRIPTION:Kom elke derde dinsdag van de maand van 14.00 tot 17.00 uur naar de gezellige sjoelmiddag. Er is iedere keer een prijsje te winnen!\nAanmelden is verplicht en kan bij Anneke 06-14431634 of rollendeschijven@gmail.com\nKosten zijn € 2\,50 p.p. inclusief consumptie (contant te betalen).
URL:https://www.wijkcentrumtewerve.nl/activiteit/de-rollende-schijven-sjoelen/2028-04-18/
LOCATION:Ontmoetingsruimte
END:VEVENT
BEGIN:VEVENT
DTSTART;TZID=Europe/Amsterdam:20280516T140000
DTEND;TZID=Europe/Amsterdam:20280516T170000
DTSTAMP:20260421T104040
CREATED:20231216T212937Z
LAST-MODIFIED:20231216T212937Z
UID:10000373-1842098400-1842109200@www.wijkcentrumtewerve.nl
SUMMARY:De rollende schijven (sjoelen)
DESCRIPTION:Kom elke derde dinsdag van de maand van 14.00 tot 17.00 uur naar de gezellige sjoelmiddag. Er is iedere keer een prijsje te winnen!\nAanmelden is verplicht en kan bij Anneke 06-14431634 of rollendeschijven@gmail.com\nKosten zijn € 2\,50 p.p. inclusief consumptie (contant te betalen).
URL:https://www.wijkcentrumtewerve.nl/activiteit/de-rollende-schijven-sjoelen/2028-05-16/
LOCATION:Ontmoetingsruimte
END:VEVENT
BEGIN:VEVENT
DTSTART;TZID=Europe/Amsterdam:20280620T140000
DTEND;TZID=Europe/Amsterdam:20280620T170000
DTSTAMP:20260421T104040
CREATED:20231216T212937Z
LAST-MODIFIED:20231216T212937Z
UID:10000374-1845122400-1845133200@www.wijkcentrumtewerve.nl
SUMMARY:De rollende schijven (sjoelen)
DESCRIPTION:Kom elke derde dinsdag van de maand van 14.00 tot 17.00 uur naar de gezellige sjoelmiddag. Er is iedere keer een prijsje te winnen!\nAanmelden is verplicht en kan bij Anneke 06-14431634 of rollendeschijven@gmail.com\nKosten zijn € 2\,50 p.p. inclusief consumptie (contant te betalen).
URL:https://www.wijkcentrumtewerve.nl/activiteit/de-rollende-schijven-sjoelen/2028-06-20/
LOCATION:Ontmoetingsruimte
END:VEVENT
BEGIN:VEVENT
DTSTART;TZID=Europe/Amsterdam:20280718T140000
DTEND;TZID=Europe/Amsterdam:20280718T170000
DTSTAMP:20260421T104040
CREATED:20231216T212937Z
LAST-MODIFIED:20231216T212937Z
UID:10000375-1847541600-1847552400@www.wijkcentrumtewerve.nl
SUMMARY:De rollende schijven (sjoelen)
DESCRIPTION:Kom elke derde dinsdag van de maand van 14.00 tot 17.00 uur naar de gezellige sjoelmiddag. Er is iedere keer een prijsje te winnen!\nAanmelden is verplicht en kan bij Anneke 06-14431634 of rollendeschijven@gmail.com\nKosten zijn € 2\,50 p.p. inclusief consumptie (contant te betalen).
URL:https://www.wijkcentrumtewerve.nl/activiteit/de-rollende-schijven-sjoelen/2028-07-18/
LOCATION:Ontmoetingsruimte
END:VEVENT
BEGIN:VEVENT
DTSTART;TZID=Europe/Amsterdam:20280815T140000
DTEND;TZID=Europe/Amsterdam:20280815T170000
DTSTAMP:20260421T104040
CREATED:20231216T212937Z
LAST-MODIFIED:20231216T212937Z
UID:10000376-1849960800-1849971600@www.wijkcentrumtewerve.nl
SUMMARY:De rollende schijven (sjoelen)
DESCRIPTION:Kom elke derde dinsdag van de maand van 14.00 tot 17.00 uur naar de gezellige sjoelmiddag. Er is iedere keer een prijsje te winnen!\nAanmelden is verplicht en kan bij Anneke 06-14431634 of rollendeschijven@gmail.com\nKosten zijn € 2\,50 p.p. inclusief consumptie (contant te betalen).
URL:https://www.wijkcentrumtewerve.nl/activiteit/de-rollende-schijven-sjoelen/2028-08-15/
LOCATION:Ontmoetingsruimte
END:VEVENT
BEGIN:VEVENT
DTSTART;TZID=Europe/Amsterdam:20280919T140000
DTEND;TZID=Europe/Amsterdam:20280919T170000
DTSTAMP:20260421T104040
CREATED:20231216T212937Z
LAST-MODIFIED:20231216T212937Z
UID:10000377-1852984800-1852995600@www.wijkcentrumtewerve.nl
SUMMARY:De rollende schijven (sjoelen)
DESCRIPTION:Kom elke derde dinsdag van de maand van 14.00 tot 17.00 uur naar de gezellige sjoelmiddag. Er is iedere keer een prijsje te winnen!\nAanmelden is verplicht en kan bij Anneke 06-14431634 of rollendeschijven@gmail.com\nKosten zijn € 2\,50 p.p. inclusief consumptie (contant te betalen).
URL:https://www.wijkcentrumtewerve.nl/activiteit/de-rollende-schijven-sjoelen/2028-09-19/
LOCATION:Ontmoetingsruimte
END:VEVENT
END:VCALENDAR